BEGIN:VCALENDAR
VERSION:2.0
PRODID:-//Thy Word Network - ECPv6.15.20//NONSGML v1.0//EN
CALSCALE:GREGORIAN
METHOD:PUBLISH
X-ORIGINAL-URL:https://thyword.media
X-WR-CALDESC:Events for Thy Word Network
REFRESH-INTERVAL;VALUE=DURATION:PT1H
X-Robots-Tag:noindex
X-PUBLISHED-TTL:PT1H
BEGIN:VTIMEZONE
TZID:America/Chicago
BEGIN:DAYLIGHT
TZOFFSETFROM:-0600
TZOFFSETTO:-0500
TZNAME:CDT
DTSTART:20230312T080000
END:DAYLIGHT
BEGIN:STANDARD
TZOFFSETFROM:-0500
TZOFFSETTO:-0600
TZNAME:CST
DTSTART:20231105T070000
END:STANDARD
BEGIN:DAYLIGHT
TZOFFSETFROM:-0600
TZOFFSETTO:-0500
TZNAME:CDT
DTSTART:20240310T080000
END:DAYLIGHT
BEGIN:STANDARD
TZOFFSETFROM:-0500
TZOFFSETTO:-0600
TZNAME:CST
DTSTART:20241103T070000
END:STANDARD
BEGIN:DAYLIGHT
TZOFFSETFROM:-0600
TZOFFSETTO:-0500
TZNAME:CDT
DTSTART:20250309T080000
END:DAYLIGHT
BEGIN:STANDARD
TZOFFSETFROM:-0500
TZOFFSETTO:-0600
TZNAME:CST
DTSTART:20251102T070000
END:STANDARD
END:VTIMEZONE
BEGIN:VEVENT
DTSTART;TZID=America/Chicago:20241009T183000
DTEND;TZID=America/Chicago:20241012T203000
DTSTAMP:20260419T105723
CREATED:20241008T184750Z
LAST-MODIFIED:20241008T184750Z
UID:27788-1728498600-1728765000@thyword.media
SUMMARY:Tent Revival
DESCRIPTION:The Agape Community Church will be holding a tent revival with Kingdom Pursuit Ministries at Zoecher Bettinger Park located on Watt Street in Tell City\, IN from Wednesday October 9th through Saturday October 12th at 6:30 PM Nightly.
URL:https://thyword.media/event/tent-revival-6/
LOCATION:Zoecher Bettinger Park Tell City\, Watt Street\, Tell City\, IN\, 47586\, United States
GEO:37.9673806;-86.7651379
X-APPLE-STRUCTURED-LOCATION;VALUE=URI;X-ADDRESS=Zoecher Bettinger Park Tell City Watt Street Tell City IN 47586 United States;X-APPLE-RADIUS=500;X-TITLE=Watt Street:geo:-86.7651379,37.9673806
END:VEVENT
END:VCALENDAR