BEGIN:VCALENDAR
VERSION:2.0
PRODID:-//Thy Word Network - ECPv6.15.20//NONSGML v1.0//EN
CALSCALE:GREGORIAN
METHOD:PUBLISH
X-ORIGINAL-URL:https://thyword.media
X-WR-CALDESC:Events for Thy Word Network
REFRESH-INTERVAL;VALUE=DURATION:PT1H
X-Robots-Tag:noindex
X-PUBLISHED-TTL:PT1H
BEGIN:VTIMEZONE
TZID:America/Chicago
BEGIN:DAYLIGHT
TZOFFSETFROM:-0600
TZOFFSETTO:-0500
TZNAME:CDT
DTSTART:20170312T080000
END:DAYLIGHT
BEGIN:STANDARD
TZOFFSETFROM:-0500
TZOFFSETTO:-0600
TZNAME:CST
DTSTART:20171105T070000
END:STANDARD
BEGIN:DAYLIGHT
TZOFFSETFROM:-0600
TZOFFSETTO:-0500
TZNAME:CDT
DTSTART:20180311T080000
END:DAYLIGHT
BEGIN:STANDARD
TZOFFSETFROM:-0500
TZOFFSETTO:-0600
TZNAME:CST
DTSTART:20181104T070000
END:STANDARD
BEGIN:DAYLIGHT
TZOFFSETFROM:-0600
TZOFFSETTO:-0500
TZNAME:CDT
DTSTART:20190310T080000
END:DAYLIGHT
BEGIN:STANDARD
TZOFFSETFROM:-0500
TZOFFSETTO:-0600
TZNAME:CST
DTSTART:20191103T070000
END:STANDARD
END:VTIMEZONE
BEGIN:VEVENT
DTSTART;TZID=America/Chicago:20180817T190000
DTEND;TZID=America/Chicago:20180817T203000
DTSTAMP:20260420T192017
CREATED:20180810T142945Z
LAST-MODIFIED:20180810T142945Z
UID:1984-1534532400-1534537800@thyword.media
SUMMARY:Songwriter Workshop
DESCRIPTION:New Tunes Promotions will host a Songwriter Workshop at The Foundry on Friday\, August 17th from 7:00 to 8:30 p.m.The workshop will include how to make connections\, learn tips and learn about places to get your songs heard.  All genres and ages welcome.  The event is free but RSVP’s appreciated.
URL:https://thyword.media/event/songwriter-workshop/
LOCATION:The Foundry\, 8255 Bell Oaks Dr\, Newburgh\, IN
GEO:37.9751068;-87.3999478
X-APPLE-STRUCTURED-LOCATION;VALUE=URI;X-ADDRESS=The Foundry 8255 Bell Oaks Dr Newburgh IN;X-APPLE-RADIUS=500;X-TITLE=8255 Bell Oaks Dr:geo:-87.3999478,37.9751068
END:VEVENT
END:VCALENDAR