BEGIN:VCALENDAR
VERSION:2.0
PRODID:-//Thy Word Network - ECPv6.15.20//NONSGML v1.0//EN
CALSCALE:GREGORIAN
METHOD:PUBLISH
X-ORIGINAL-URL:https://thyword.media
X-WR-CALDESC:Events for Thy Word Network
REFRESH-INTERVAL;VALUE=DURATION:PT1H
X-Robots-Tag:noindex
X-PUBLISHED-TTL:PT1H
BEGIN:VTIMEZONE
TZID:America/Chicago
BEGIN:DAYLIGHT
TZOFFSETFROM:-0600
TZOFFSETTO:-0500
TZNAME:CDT
DTSTART:20170312T080000
END:DAYLIGHT
BEGIN:STANDARD
TZOFFSETFROM:-0500
TZOFFSETTO:-0600
TZNAME:CST
DTSTART:20171105T070000
END:STANDARD
BEGIN:DAYLIGHT
TZOFFSETFROM:-0600
TZOFFSETTO:-0500
TZNAME:CDT
DTSTART:20180311T080000
END:DAYLIGHT
BEGIN:STANDARD
TZOFFSETFROM:-0500
TZOFFSETTO:-0600
TZNAME:CST
DTSTART:20181104T070000
END:STANDARD
BEGIN:DAYLIGHT
TZOFFSETFROM:-0600
TZOFFSETTO:-0500
TZNAME:CDT
DTSTART:20190310T080000
END:DAYLIGHT
BEGIN:STANDARD
TZOFFSETFROM:-0500
TZOFFSETTO:-0600
TZNAME:CST
DTSTART:20191103T070000
END:STANDARD
END:VTIMEZONE
BEGIN:VEVENT
DTSTART;TZID=America/Chicago:20180629T170000
DTEND;TZID=America/Chicago:20180629T210000
DTSTAMP:20260420T105117
CREATED:20180619T160902Z
LAST-MODIFIED:20180619T160902Z
UID:1734-1530291600-1530306000@thyword.media
SUMMARY:Helping His Hands Fundraiser
DESCRIPTION:Swirl’s Frozen Yogurt in Vincennes\, IN is hosting a fundraising event for Helping His Hands from 5:00 to 9:00 p.m. EST. \nHelping His Hands Disaster Response and Short Term Mission Organization is a nonprofit organization that includes many different ministries such as Disaster Response Ministry for local and national disaster response\, rescue and rebuilding; their Food Pantry and Food Depot\, their House of Hope homeless shelter\, their Rampin’ Up for Jesus Ministry and their Automotive Ministry.  50% of all sales during the event goes directly to support Helping His Hands.
URL:https://thyword.media/event/helping-his-hands-fundraiser/
LOCATION:Swirl’s Frozen Yogurt\, 2017 N 6th St\, Vincennes\, IN
GEO:38.6870463;-87.5090595
X-APPLE-STRUCTURED-LOCATION;VALUE=URI;X-ADDRESS=Swirl’s Frozen Yogurt 2017 N 6th St Vincennes IN;X-APPLE-RADIUS=500;X-TITLE=2017 N 6th St:geo:-87.5090595,38.6870463
END:VEVENT
END:VCALENDAR