BEGIN:VCALENDAR
VERSION:2.0
PRODID:-//Thy Word Network - ECPv6.15.20//NONSGML v1.0//EN
CALSCALE:GREGORIAN
METHOD:PUBLISH
X-WR-CALNAME:Thy Word Network
X-ORIGINAL-URL:https://thyword.media
X-WR-CALDESC:Events for Thy Word Network
REFRESH-INTERVAL;VALUE=DURATION:PT1H
X-Robots-Tag:noindex
X-PUBLISHED-TTL:PT1H
BEGIN:VTIMEZONE
TZID:America/Chicago
BEGIN:DAYLIGHT
TZOFFSETFROM:-0600
TZOFFSETTO:-0500
TZNAME:CDT
DTSTART:20170312T080000
END:DAYLIGHT
BEGIN:STANDARD
TZOFFSETFROM:-0500
TZOFFSETTO:-0600
TZNAME:CST
DTSTART:20171105T070000
END:STANDARD
BEGIN:DAYLIGHT
TZOFFSETFROM:-0600
TZOFFSETTO:-0500
TZNAME:CDT
DTSTART:20180311T080000
END:DAYLIGHT
BEGIN:STANDARD
TZOFFSETFROM:-0500
TZOFFSETTO:-0600
TZNAME:CST
DTSTART:20181104T070000
END:STANDARD
BEGIN:DAYLIGHT
TZOFFSETFROM:-0600
TZOFFSETTO:-0500
TZNAME:CDT
DTSTART:20190310T080000
END:DAYLIGHT
BEGIN:STANDARD
TZOFFSETFROM:-0500
TZOFFSETTO:-0600
TZNAME:CST
DTSTART:20191103T070000
END:STANDARD
END:VTIMEZONE
BEGIN:VEVENT
DTSTART;TZID=America/Chicago:20181014T170000
DTEND;TZID=America/Chicago:20181014T170000
DTSTAMP:20260420T142840
CREATED:20181003T160747Z
LAST-MODIFIED:20181003T160747Z
UID:2180-1539536400-1539536400@thyword.media
SUMMARY:"Anniversary Encore" Dinner Celebration
DESCRIPTION:The Weekday Christian Education for Kids will be sponsoring an “Anniversary Encore” Dinner Celebration at SWIRCA in the Ivy Room. Doors open at 4:00 p.m.  Dinner served at 5:00 p.m. There will be fun fundraising activities throughout the evening. Tickets: $25.00 each.  Table for 8 for $200.00
URL:https://thyword.media/event/anniversary-encore-dinner-celebration/
LOCATION:SWIRCA\, 16 W Virginia St\, Evansville\, IN
GEO:37.9817281;-87.564999
X-APPLE-STRUCTURED-LOCATION;VALUE=URI;X-ADDRESS=SWIRCA 16 W Virginia St Evansville IN;X-APPLE-RADIUS=500;X-TITLE=16 W Virginia St:geo:-87.564999,37.9817281
END:VEVENT
END:VCALENDAR