BEGIN:VCALENDAR
VERSION:2.0
PRODID:-//Thy Word Network - ECPv6.15.20//NONSGML v1.0//EN
CALSCALE:GREGORIAN
METHOD:PUBLISH
X-WR-CALNAME:Thy Word Network
X-ORIGINAL-URL:https://thyword.media
X-WR-CALDESC:Events for Thy Word Network
REFRESH-INTERVAL;VALUE=DURATION:PT1H
X-Robots-Tag:noindex
X-PUBLISHED-TTL:PT1H
BEGIN:VTIMEZONE
TZID:America/Chicago
BEGIN:DAYLIGHT
TZOFFSETFROM:-0600
TZOFFSETTO:-0500
TZNAME:CDT
DTSTART:20170312T080000
END:DAYLIGHT
BEGIN:STANDARD
TZOFFSETFROM:-0500
TZOFFSETTO:-0600
TZNAME:CST
DTSTART:20171105T070000
END:STANDARD
BEGIN:DAYLIGHT
TZOFFSETFROM:-0600
TZOFFSETTO:-0500
TZNAME:CDT
DTSTART:20180311T080000
END:DAYLIGHT
BEGIN:STANDARD
TZOFFSETFROM:-0500
TZOFFSETTO:-0600
TZNAME:CST
DTSTART:20181104T070000
END:STANDARD
BEGIN:DAYLIGHT
TZOFFSETFROM:-0600
TZOFFSETTO:-0500
TZNAME:CDT
DTSTART:20190310T080000
END:DAYLIGHT
BEGIN:STANDARD
TZOFFSETFROM:-0500
TZOFFSETTO:-0600
TZNAME:CST
DTSTART:20191103T070000
END:STANDARD
END:VTIMEZONE
BEGIN:VEVENT
DTSTART;TZID=America/Chicago:20180324T100000
DTEND;TZID=America/Chicago:20180324T120000
DTSTAMP:20260423T053955
CREATED:20180123T163308Z
LAST-MODIFIED:20180123T163308Z
UID:1113-1521885600-1521892800@thyword.media
SUMMARY:Interdenominational Community Prayer Gathering
DESCRIPTION:An Interdenominational Community Prayer Gathering will be held at St John the Baptist Catholic Church in Newburgh\, IN on Saturday\, March 24th from 10:00 a.m. to noon.  The event is designed for the Body of Christ across all denominations to come together and pray for the community\, the church and the lost leading into Easter Sunday
URL:https://thyword.media/event/interdenominational-community-prayer-gathering/
LOCATION:St John the Baptist Catholic Church\, 625 Frame Rd\, Newburgh\, IN\, 47630
GEO:37.948663;-87.4136222
X-APPLE-STRUCTURED-LOCATION;VALUE=URI;X-ADDRESS=St John the Baptist Catholic Church 625 Frame Rd Newburgh IN 47630;X-APPLE-RADIUS=500;X-TITLE=625 Frame Rd:geo:-87.4136222,37.948663
END:VEVENT
END:VCALENDAR