BEGIN:VCALENDAR
VERSION:2.0
PRODID:-//Thy Word Network - ECPv6.15.20//NONSGML v1.0//EN
CALSCALE:GREGORIAN
METHOD:PUBLISH
X-WR-CALNAME:Thy Word Network
X-ORIGINAL-URL:https://thyword.media
X-WR-CALDESC:Events for Thy Word Network
REFRESH-INTERVAL;VALUE=DURATION:PT1H
X-Robots-Tag:noindex
X-PUBLISHED-TTL:PT1H
BEGIN:VTIMEZONE
TZID:America/Chicago
BEGIN:DAYLIGHT
TZOFFSETFROM:-0600
TZOFFSETTO:-0500
TZNAME:CDT
DTSTART:20180311T080000
END:DAYLIGHT
BEGIN:STANDARD
TZOFFSETFROM:-0500
TZOFFSETTO:-0600
TZNAME:CST
DTSTART:20181104T070000
END:STANDARD
BEGIN:DAYLIGHT
TZOFFSETFROM:-0600
TZOFFSETTO:-0500
TZNAME:CDT
DTSTART:20190310T080000
END:DAYLIGHT
BEGIN:STANDARD
TZOFFSETFROM:-0500
TZOFFSETTO:-0600
TZNAME:CST
DTSTART:20191103T070000
END:STANDARD
BEGIN:DAYLIGHT
TZOFFSETFROM:-0600
TZOFFSETTO:-0500
TZNAME:CDT
DTSTART:20200308T080000
END:DAYLIGHT
BEGIN:STANDARD
TZOFFSETFROM:-0500
TZOFFSETTO:-0600
TZNAME:CST
DTSTART:20201101T070000
END:STANDARD
END:VTIMEZONE
BEGIN:VEVENT
DTSTART;TZID=America/Chicago:20190403T190000
DTEND;TZID=America/Chicago:20190406T190000
DTSTAMP:20260420T120258
CREATED:20190321T201339Z
LAST-MODIFIED:20190321T201339Z
UID:2631-1554318000-1554577200@thyword.media
SUMMARY:Revival Services
DESCRIPTION:South Gibson Apostolic Church in Owensville\, IN will be in Revival Services with Pastor Jeremy and Amber Lang beginning Wednesday\, April 3rd through Sunday\, April 7th.  Wed – Sat services start at 7:00 p.m. and Sunday services start at 9:30 a.m. and 6:00 p.m.
URL:https://thyword.media/event/revival-services-6/
LOCATION:South Gibson Apostolic Church\, 6170 S 1075 W\, Owensville\, IN
GEO:38.2657846;-87.7661676
X-APPLE-STRUCTURED-LOCATION;VALUE=URI;X-ADDRESS=South Gibson Apostolic Church 6170 S 1075 W Owensville IN;X-APPLE-RADIUS=500;X-TITLE=6170 S 1075 W:geo:-87.7661676,38.2657846
END:VEVENT
END:VCALENDAR