BEGIN:VCALENDAR
VERSION:2.0
PRODID:-//Thy Word Network - ECPv6.15.20//NONSGML v1.0//EN
CALSCALE:GREGORIAN
METHOD:PUBLISH
X-ORIGINAL-URL:https://thyword.media
X-WR-CALDESC:Events for Thy Word Network
REFRESH-INTERVAL;VALUE=DURATION:PT1H
X-Robots-Tag:noindex
X-PUBLISHED-TTL:PT1H
BEGIN:VTIMEZONE
TZID:America/Chicago
BEGIN:DAYLIGHT
TZOFFSETFROM:-0600
TZOFFSETTO:-0500
TZNAME:CDT
DTSTART:20170312T080000
END:DAYLIGHT
BEGIN:STANDARD
TZOFFSETFROM:-0500
TZOFFSETTO:-0600
TZNAME:CST
DTSTART:20171105T070000
END:STANDARD
BEGIN:DAYLIGHT
TZOFFSETFROM:-0600
TZOFFSETTO:-0500
TZNAME:CDT
DTSTART:20180311T080000
END:DAYLIGHT
BEGIN:STANDARD
TZOFFSETFROM:-0500
TZOFFSETTO:-0600
TZNAME:CST
DTSTART:20181104T070000
END:STANDARD
BEGIN:DAYLIGHT
TZOFFSETFROM:-0600
TZOFFSETTO:-0500
TZNAME:CDT
DTSTART:20190310T080000
END:DAYLIGHT
BEGIN:STANDARD
TZOFFSETFROM:-0500
TZOFFSETTO:-0600
TZNAME:CST
DTSTART:20191103T070000
END:STANDARD
END:VTIMEZONE
BEGIN:VEVENT
DTSTART;TZID=America/Chicago:20181027T090000
DTEND;TZID=America/Chicago:20181027T160000
DTSTAMP:20260420T104340
CREATED:20181003T170407Z
LAST-MODIFIED:20181003T170407Z
UID:2201-1540630800-1540656000@thyword.media
SUMMARY:"Wonders in Wood" Show
DESCRIPTION:The Tri-State Woodcarvers Club will present it’s “Wonders in Wood” Show and Sell.  Woodcarvers from the tri-state will exhibit hand carved and power carved items for show and sale.  Woodcarvings\, tools\, books and wood will be available for purchase.  The admission of $3.00 includes a chance to win an hourly door prize of a carved Christmas ornament.  Children 12 and under are free.  Concessions will be provided.
URL:https://thyword.media/event/wonders-in-wood-show/
LOCATION:Salem United Methodist Church\, 6311 Kratzville Rd\, Evansville\, IN
GEO:38.035705;-87.579369
X-APPLE-STRUCTURED-LOCATION;VALUE=URI;X-ADDRESS=Salem United Methodist Church 6311 Kratzville Rd Evansville IN;X-APPLE-RADIUS=500;X-TITLE=6311 Kratzville Rd:geo:-87.579369,38.035705
END:VEVENT
END:VCALENDAR