BEGIN:VCALENDAR
VERSION:2.0
PRODID:-//Thy Word Network - ECPv6.15.20//NONSGML v1.0//EN
CALSCALE:GREGORIAN
METHOD:PUBLISH
X-ORIGINAL-URL:https://thyword.media
X-WR-CALDESC:Events for Thy Word Network
REFRESH-INTERVAL;VALUE=DURATION:PT1H
X-Robots-Tag:noindex
X-PUBLISHED-TTL:PT1H
BEGIN:VTIMEZONE
TZID:America/Chicago
BEGIN:DAYLIGHT
TZOFFSETFROM:-0600
TZOFFSETTO:-0500
TZNAME:CDT
DTSTART:20180311T080000
END:DAYLIGHT
BEGIN:STANDARD
TZOFFSETFROM:-0500
TZOFFSETTO:-0600
TZNAME:CST
DTSTART:20181104T070000
END:STANDARD
BEGIN:DAYLIGHT
TZOFFSETFROM:-0600
TZOFFSETTO:-0500
TZNAME:CDT
DTSTART:20190310T080000
END:DAYLIGHT
BEGIN:STANDARD
TZOFFSETFROM:-0500
TZOFFSETTO:-0600
TZNAME:CST
DTSTART:20191103T070000
END:STANDARD
BEGIN:DAYLIGHT
TZOFFSETFROM:-0600
TZOFFSETTO:-0500
TZNAME:CDT
DTSTART:20200308T080000
END:DAYLIGHT
BEGIN:STANDARD
TZOFFSETFROM:-0500
TZOFFSETTO:-0600
TZNAME:CST
DTSTART:20201101T070000
END:STANDARD
END:VTIMEZONE
BEGIN:VEVENT
DTSTART;TZID=America/Chicago:20190404T180000
DTEND;TZID=America/Chicago:20190404T180000
DTSTAMP:20260420T015734
CREATED:20190307T175448Z
LAST-MODIFIED:20190307T175448Z
UID:2566-1554400800-1554400800@thyword.media
SUMMARY:Gift of Life Banquet
DESCRIPTION:The Pregnancy Care Center of Washington\, IN  is holding their “Gift of Life” banquet on Thursday\, April 4th\, 2019 at 6:00 P.M. at the Community Building at East Side Park in Washington. Featured speaker is Kailee Perrin from Syracuse\, New York.  The meal will be catered by Wittmer’s Catering.  Music will be provided by Barefoot Sundays. To purchase tickets\, call 812-257-1041. Tickets are $15.00 for individuals and $25.00 for couples.
URL:https://thyword.media/event/gift-of-life-banquet/
LOCATION:Pregnancy Care Center\, Washington\, 705 Troy Rd\, Washington\, IN
GEO:38.6495292;-87.16993
X-APPLE-STRUCTURED-LOCATION;VALUE=URI;X-ADDRESS=Pregnancy Care Center Washington 705 Troy Rd Washington IN;X-APPLE-RADIUS=500;X-TITLE=705 Troy Rd:geo:-87.16993,38.6495292
END:VEVENT
END:VCALENDAR