BEGIN:VCALENDAR
VERSION:2.0
PRODID:-//Thy Word Network - ECPv6.15.20//NONSGML v1.0//EN
CALSCALE:GREGORIAN
METHOD:PUBLISH
X-WR-CALNAME:Thy Word Network
X-ORIGINAL-URL:https://thyword.media
X-WR-CALDESC:Events for Thy Word Network
REFRESH-INTERVAL;VALUE=DURATION:PT1H
X-Robots-Tag:noindex
X-PUBLISHED-TTL:PT1H
BEGIN:VTIMEZONE
TZID:America/Chicago
BEGIN:DAYLIGHT
TZOFFSETFROM:-0600
TZOFFSETTO:-0500
TZNAME:CDT
DTSTART:20170312T080000
END:DAYLIGHT
BEGIN:STANDARD
TZOFFSETFROM:-0500
TZOFFSETTO:-0600
TZNAME:CST
DTSTART:20171105T070000
END:STANDARD
BEGIN:DAYLIGHT
TZOFFSETFROM:-0600
TZOFFSETTO:-0500
TZNAME:CDT
DTSTART:20180311T080000
END:DAYLIGHT
BEGIN:STANDARD
TZOFFSETFROM:-0500
TZOFFSETTO:-0600
TZNAME:CST
DTSTART:20181104T070000
END:STANDARD
BEGIN:DAYLIGHT
TZOFFSETFROM:-0600
TZOFFSETTO:-0500
TZNAME:CDT
DTSTART:20190310T080000
END:DAYLIGHT
BEGIN:STANDARD
TZOFFSETFROM:-0500
TZOFFSETTO:-0600
TZNAME:CST
DTSTART:20191103T070000
END:STANDARD
END:VTIMEZONE
BEGIN:VEVENT
DTSTART;TZID=America/Chicago:20180930T170000
DTEND;TZID=America/Chicago:20180930T170000
DTSTAMP:20260420T092014
CREATED:20180921T161441Z
LAST-MODIFIED:20180921T162058Z
UID:2133-1538326800-1538326800@thyword.media
SUMMARY:Gospel Tent Meetings
DESCRIPTION:Gospel Tent Meeting will be held from Sunday\, September 30th through Sunday\, October 7th at Gateway Drive and SR 50 in Washington\, IN\, just West of Exit 62 off of the Interstate. There will be worship\, special music and singing each night. The Sunday services start at 10:30 a.m. and 5:00 p.m. EST; Monday through Saturday services start at 7:00 p.m. EST.
URL:https://thyword.media/event/gospel-tent-meetings/
LOCATION:Gospel Tent Meetings\, 6373 S 200 E\, Washington\, Indiana\, 47501
GEO:38.5635374;-87.1287509
X-APPLE-STRUCTURED-LOCATION;VALUE=URI;X-ADDRESS=Gospel Tent Meetings 6373 S 200 E Washington Indiana 47501;X-APPLE-RADIUS=500;X-TITLE=6373 S 200 E:geo:-87.1287509,38.5635374
END:VEVENT
END:VCALENDAR