BEGIN:VCALENDAR
VERSION:2.0
PRODID:-//Thy Word Network - ECPv6.15.20//NONSGML v1.0//EN
CALSCALE:GREGORIAN
METHOD:PUBLISH
X-WR-CALNAME:Thy Word Network
X-ORIGINAL-URL:https://thyword.media
X-WR-CALDESC:Events for Thy Word Network
REFRESH-INTERVAL;VALUE=DURATION:PT1H
X-Robots-Tag:noindex
X-PUBLISHED-TTL:PT1H
BEGIN:VTIMEZONE
TZID:America/Chicago
BEGIN:DAYLIGHT
TZOFFSETFROM:-0600
TZOFFSETTO:-0500
TZNAME:CDT
DTSTART:20170312T080000
END:DAYLIGHT
BEGIN:STANDARD
TZOFFSETFROM:-0500
TZOFFSETTO:-0600
TZNAME:CST
DTSTART:20171105T070000
END:STANDARD
BEGIN:DAYLIGHT
TZOFFSETFROM:-0600
TZOFFSETTO:-0500
TZNAME:CDT
DTSTART:20180311T080000
END:DAYLIGHT
BEGIN:STANDARD
TZOFFSETFROM:-0500
TZOFFSETTO:-0600
TZNAME:CST
DTSTART:20181104T070000
END:STANDARD
BEGIN:DAYLIGHT
TZOFFSETFROM:-0600
TZOFFSETTO:-0500
TZNAME:CDT
DTSTART:20190310T080000
END:DAYLIGHT
BEGIN:STANDARD
TZOFFSETFROM:-0500
TZOFFSETTO:-0600
TZNAME:CST
DTSTART:20191103T070000
END:STANDARD
END:VTIMEZONE
BEGIN:VEVENT
DTSTART;TZID=America/Chicago:20181025T190000
DTEND;TZID=America/Chicago:20181025T190000
DTSTAMP:20260420T103542
CREATED:20181023T154515Z
LAST-MODIFIED:20181023T154515Z
UID:2261-1540494000-1540494000@thyword.media
SUMMARY:The Perry's in Concert
DESCRIPTION:The Perry’s will be in concert at Free Pentecostal Church. Concert starts at 7:00 p.m. CST.
URL:https://thyword.media/event/the-perrys-in-concert/
LOCATION:Free Pentecostal Churdch\, 3201 Fickas Rd\, Evansville\, IN
GEO:37.9403618;-87.5112587
X-APPLE-STRUCTURED-LOCATION;VALUE=URI;X-ADDRESS=Free Pentecostal Churdch 3201 Fickas Rd Evansville IN;X-APPLE-RADIUS=500;X-TITLE=3201 Fickas Rd:geo:-87.5112587,37.9403618
END:VEVENT
END:VCALENDAR