BEGIN:VCALENDAR
VERSION:2.0
PRODID:-//Thy Word Network - ECPv6.15.20//NONSGML v1.0//EN
CALSCALE:GREGORIAN
METHOD:PUBLISH
X-WR-CALNAME:Thy Word Network
X-ORIGINAL-URL:https://thyword.media
X-WR-CALDESC:Events for Thy Word Network
REFRESH-INTERVAL;VALUE=DURATION:PT1H
X-Robots-Tag:noindex
X-PUBLISHED-TTL:PT1H
BEGIN:VTIMEZONE
TZID:America/Chicago
BEGIN:DAYLIGHT
TZOFFSETFROM:-0600
TZOFFSETTO:-0500
TZNAME:CDT
DTSTART:20180311T080000
END:DAYLIGHT
BEGIN:STANDARD
TZOFFSETFROM:-0500
TZOFFSETTO:-0600
TZNAME:CST
DTSTART:20181104T070000
END:STANDARD
BEGIN:DAYLIGHT
TZOFFSETFROM:-0600
TZOFFSETTO:-0500
TZNAME:CDT
DTSTART:20190310T080000
END:DAYLIGHT
BEGIN:STANDARD
TZOFFSETFROM:-0500
TZOFFSETTO:-0600
TZNAME:CST
DTSTART:20191103T070000
END:STANDARD
BEGIN:DAYLIGHT
TZOFFSETFROM:-0600
TZOFFSETTO:-0500
TZNAME:CDT
DTSTART:20200308T080000
END:DAYLIGHT
BEGIN:STANDARD
TZOFFSETFROM:-0500
TZOFFSETTO:-0600
TZNAME:CST
DTSTART:20201101T070000
END:STANDARD
END:VTIMEZONE
BEGIN:VEVENT
DTSTART;TZID=America/Chicago:20190920T190000
DTEND;TZID=America/Chicago:20190920T190000
DTSTAMP:20260420T032050
CREATED:20190826T190153Z
LAST-MODIFIED:20190826T190153Z
UID:3099-1569006000-1569006000@thyword.media
SUMMARY:Perry's Concert
DESCRIPTION:Dawson Baptist Church in Philpot\, KY will have THE PERRY’S in concert on Friday\, September 20th at 7:00 p.m.  Free concert! No tickets required. Love offering will be received.
URL:https://thyword.media/event/perrys-concert/
LOCATION:Dawson Baptist Church\, 5880 Hwy 54\, Philpot\, KY\, 42366
GEO:37.7341819;-86.9936074
X-APPLE-STRUCTURED-LOCATION;VALUE=URI;X-ADDRESS=Dawson Baptist Church 5880 Hwy 54 Philpot KY 42366;X-APPLE-RADIUS=500;X-TITLE=5880 Hwy 54:geo:-86.9936074,37.7341819
END:VEVENT
END:VCALENDAR