BEGIN:VCALENDAR
VERSION:2.0
PRODID:-//Thy Word Network - ECPv6.15.20//NONSGML v1.0//EN
CALSCALE:GREGORIAN
METHOD:PUBLISH
X-ORIGINAL-URL:https://thyword.media
X-WR-CALDESC:Events for Thy Word Network
REFRESH-INTERVAL;VALUE=DURATION:PT1H
X-Robots-Tag:noindex
X-PUBLISHED-TTL:PT1H
BEGIN:VTIMEZONE
TZID:America/Chicago
BEGIN:DAYLIGHT
TZOFFSETFROM:-0600
TZOFFSETTO:-0500
TZNAME:CDT
DTSTART:20170312T080000
END:DAYLIGHT
BEGIN:STANDARD
TZOFFSETFROM:-0500
TZOFFSETTO:-0600
TZNAME:CST
DTSTART:20171105T070000
END:STANDARD
BEGIN:DAYLIGHT
TZOFFSETFROM:-0600
TZOFFSETTO:-0500
TZNAME:CDT
DTSTART:20180311T080000
END:DAYLIGHT
BEGIN:STANDARD
TZOFFSETFROM:-0500
TZOFFSETTO:-0600
TZNAME:CST
DTSTART:20181104T070000
END:STANDARD
BEGIN:DAYLIGHT
TZOFFSETFROM:-0600
TZOFFSETTO:-0500
TZNAME:CDT
DTSTART:20190310T080000
END:DAYLIGHT
BEGIN:STANDARD
TZOFFSETFROM:-0500
TZOFFSETTO:-0600
TZNAME:CST
DTSTART:20191103T070000
END:STANDARD
END:VTIMEZONE
BEGIN:VEVENT
DTSTART;TZID=America/Chicago:20180503T070000
DTEND;TZID=America/Chicago:20180503T170000
DTSTAMP:20260420T153548
CREATED:20180409T183838Z
LAST-MODIFIED:20180409T183838Z
UID:1488-1525330800-1525366800@thyword.media
SUMMARY:National Day of Prayer Events\, Owensboro
DESCRIPTION:National Day of Prayer Events in Owensboro\, KY. YMCA Prayer Breakfast from 7:00 a.m. to 8:00 a.m. at the YMCA gym. Begin your day with a time of corporate worship and prayer. \nCircle of Good News Bible Read from 11: 30 a.m. to 11:50 a.m. at the Courthouse lawn\, participate with hundreds who read their assigned-upon-arrival Bible verses simultaneously so that in 20 minutes the entire Bible will be read aloud. No pre-registration necessary. Get your assigned reading at the base of the flagpole (Rain\, bring your umbrella). Noon prayer and worship event from noon to 1:00 p.m. at the Courthouse lawn. Don’t miss this glorious time of prayer\, praise and testimonies! (Rain\, will meet inside the courthouse)
URL:https://thyword.media/event/national-day-of-prayer-events-owensboro/
LOCATION:Daviess County Courthouse\, 212 St Ann St\, Owensboro\, KY
GEO:37.7740682;-87.1128633
X-APPLE-STRUCTURED-LOCATION;VALUE=URI;X-ADDRESS=Daviess County Courthouse 212 St Ann St Owensboro KY;X-APPLE-RADIUS=500;X-TITLE=212 St Ann St:geo:-87.1128633,37.7740682
END:VEVENT
END:VCALENDAR