BEGIN:VCALENDAR
VERSION:2.0
PRODID:-//Thy Word Network - ECPv6.15.20//NONSGML v1.0//EN
CALSCALE:GREGORIAN
METHOD:PUBLISH
X-ORIGINAL-URL:https://thyword.media
X-WR-CALDESC:Events for Thy Word Network
REFRESH-INTERVAL;VALUE=DURATION:PT1H
X-Robots-Tag:noindex
X-PUBLISHED-TTL:PT1H
BEGIN:VTIMEZONE
TZID:America/Chicago
BEGIN:DAYLIGHT
TZOFFSETFROM:-0600
TZOFFSETTO:-0500
TZNAME:CDT
DTSTART:20170312T080000
END:DAYLIGHT
BEGIN:STANDARD
TZOFFSETFROM:-0500
TZOFFSETTO:-0600
TZNAME:CST
DTSTART:20171105T070000
END:STANDARD
BEGIN:DAYLIGHT
TZOFFSETFROM:-0600
TZOFFSETTO:-0500
TZNAME:CDT
DTSTART:20180311T080000
END:DAYLIGHT
BEGIN:STANDARD
TZOFFSETFROM:-0500
TZOFFSETTO:-0600
TZNAME:CST
DTSTART:20181104T070000
END:STANDARD
BEGIN:DAYLIGHT
TZOFFSETFROM:-0600
TZOFFSETTO:-0500
TZNAME:CDT
DTSTART:20190310T080000
END:DAYLIGHT
BEGIN:STANDARD
TZOFFSETFROM:-0500
TZOFFSETTO:-0600
TZNAME:CST
DTSTART:20191103T070000
END:STANDARD
END:VTIMEZONE
BEGIN:VEVENT
DTSTART;TZID=America/Chicago:20181021T100000
DTEND;TZID=America/Chicago:20181021T100000
DTSTAMP:20260420T160452
CREATED:20181018T183325Z
LAST-MODIFIED:20181018T183325Z
UID:2220-1540116000-1540116000@thyword.media
SUMMARY:Family and Friend Day
DESCRIPTION:The Church of the Nazarene in Chandler\, IN will host their annual Family and Friend Day on Sunday\, October 21st at 10:00 a.m. Special guest singers will be “The Singing Contractors”.
URL:https://thyword.media/event/family-and-friend-day/
LOCATION:Chandler Church of the Nazarene\, 205 N Fourth St\, Chandler\, IN\, 47610
GEO:38.0441071;-87.3632191
X-APPLE-STRUCTURED-LOCATION;VALUE=URI;X-ADDRESS=Chandler Church of the Nazarene 205 N Fourth St Chandler IN 47610;X-APPLE-RADIUS=500;X-TITLE=205 N Fourth St:geo:-87.3632191,38.0441071
END:VEVENT
END:VCALENDAR