BEGIN:VCALENDAR
VERSION:2.0
PRODID:-//Thy Word Network - ECPv6.15.20//NONSGML v1.0//EN
CALSCALE:GREGORIAN
METHOD:PUBLISH
X-WR-CALNAME:Thy Word Network
X-ORIGINAL-URL:https://thyword.media
X-WR-CALDESC:Events for Thy Word Network
REFRESH-INTERVAL;VALUE=DURATION:PT1H
X-Robots-Tag:noindex
X-PUBLISHED-TTL:PT1H
BEGIN:VTIMEZONE
TZID:America/Chicago
BEGIN:DAYLIGHT
TZOFFSETFROM:-0600
TZOFFSETTO:-0500
TZNAME:CDT
DTSTART:20230312T080000
END:DAYLIGHT
BEGIN:STANDARD
TZOFFSETFROM:-0500
TZOFFSETTO:-0600
TZNAME:CST
DTSTART:20231105T070000
END:STANDARD
BEGIN:DAYLIGHT
TZOFFSETFROM:-0600
TZOFFSETTO:-0500
TZNAME:CDT
DTSTART:20240310T080000
END:DAYLIGHT
BEGIN:STANDARD
TZOFFSETFROM:-0500
TZOFFSETTO:-0600
TZNAME:CST
DTSTART:20241103T070000
END:STANDARD
BEGIN:DAYLIGHT
TZOFFSETFROM:-0600
TZOFFSETTO:-0500
TZNAME:CDT
DTSTART:20250309T080000
END:DAYLIGHT
BEGIN:STANDARD
TZOFFSETFROM:-0500
TZOFFSETTO:-0600
TZNAME:CST
DTSTART:20251102T070000
END:STANDARD
END:VTIMEZONE
BEGIN:VEVENT
DTSTART;TZID=America/Chicago:20241013T130000
DTEND;TZID=America/Chicago:20241013T140000
DTSTAMP:20260419T072611
CREATED:20241010T163444Z
LAST-MODIFIED:20241010T163444Z
UID:27807-1728824400-1728828000@thyword.media
SUMMARY:Life Chain
DESCRIPTION:Right to Life of Southwest Indiana will host its annual Life Chain on Sunday October 13th from 1-2 PM at Brinkewrs Jewelers parking lot \n  \n  \n  \nScan_20241010
URL:https://thyword.media/event/life-chain/
LOCATION:Brinkers Jewelers parkig lot\, South Green River Road\, Evansville\, IN\, 47715\, United States
GEO:37.975722;-87.49368
X-APPLE-STRUCTURED-LOCATION;VALUE=URI;X-ADDRESS=Brinkers Jewelers parkig lot South Green River Road Evansville IN 47715 United States;X-APPLE-RADIUS=500;X-TITLE=South Green River Road:geo:-87.49368,37.975722
END:VEVENT
END:VCALENDAR