BEGIN:VCALENDAR
VERSION:2.0
PRODID:-//Thy Word Network - ECPv6.15.20//NONSGML v1.0//EN
CALSCALE:GREGORIAN
METHOD:PUBLISH
X-ORIGINAL-URL:https://thyword.media
X-WR-CALDESC:Events for Thy Word Network
REFRESH-INTERVAL;VALUE=DURATION:PT1H
X-Robots-Tag:noindex
X-PUBLISHED-TTL:PT1H
BEGIN:VTIMEZONE
TZID:America/Chicago
BEGIN:DAYLIGHT
TZOFFSETFROM:-0600
TZOFFSETTO:-0500
TZNAME:CDT
DTSTART:20180311T080000
END:DAYLIGHT
BEGIN:STANDARD
TZOFFSETFROM:-0500
TZOFFSETTO:-0600
TZNAME:CST
DTSTART:20181104T070000
END:STANDARD
BEGIN:DAYLIGHT
TZOFFSETFROM:-0600
TZOFFSETTO:-0500
TZNAME:CDT
DTSTART:20190310T080000
END:DAYLIGHT
BEGIN:STANDARD
TZOFFSETFROM:-0500
TZOFFSETTO:-0600
TZNAME:CST
DTSTART:20191103T070000
END:STANDARD
BEGIN:DAYLIGHT
TZOFFSETFROM:-0600
TZOFFSETTO:-0500
TZNAME:CDT
DTSTART:20200308T080000
END:DAYLIGHT
BEGIN:STANDARD
TZOFFSETFROM:-0500
TZOFFSETTO:-0600
TZNAME:CST
DTSTART:20201101T070000
END:STANDARD
END:VTIMEZONE
BEGIN:VEVENT
DTSTART;TZID=America/Chicago:20190406T083000
DTEND;TZID=America/Chicago:20190406T160000
DTSTAMP:20260420T063944
CREATED:20190314T195934Z
LAST-MODIFIED:20190314T195934Z
UID:2586-1554539400-1554566400@thyword.media
SUMMARY:Sharing Your Faith Training with Evangelism Explosion
DESCRIPTION:Abundant Life Community Church\, 7333 Sharon Road in Newburgh\, IN  will host Share Your Faith Training with Evangelism Explosion on 9:00 a.m. to 4:00 p.m. Registration begins at 8:30 a.m. Lunch is provided. Cost is $15.00. To register or for more information\, their phone number is 954-526-9966.
URL:https://thyword.media/event/sharing-your-faith-training-with-evangelism-explosion/
LOCATION:Abundant Life Community Church\, 7333 Sharon Rd\, Newburgh\, IN
GEO:37.951887;-87.3832525
X-APPLE-STRUCTURED-LOCATION;VALUE=URI;X-ADDRESS=Abundant Life Community Church 7333 Sharon Rd Newburgh IN;X-APPLE-RADIUS=500;X-TITLE=7333 Sharon Rd:geo:-87.3832525,37.951887
END:VEVENT
END:VCALENDAR