BEGIN:VCALENDAR
VERSION:2.0
PRODID:-//Thy Word Network - ECPv6.15.20//NONSGML v1.0//EN
CALSCALE:GREGORIAN
METHOD:PUBLISH
X-ORIGINAL-URL:https://thyword.media
X-WR-CALDESC:Events for Thy Word Network
REFRESH-INTERVAL;VALUE=DURATION:PT1H
X-Robots-Tag:noindex
X-PUBLISHED-TTL:PT1H
BEGIN:VTIMEZONE
TZID:America/Chicago
BEGIN:DAYLIGHT
TZOFFSETFROM:-0600
TZOFFSETTO:-0500
TZNAME:CDT
DTSTART:20220313T080000
END:DAYLIGHT
BEGIN:STANDARD
TZOFFSETFROM:-0500
TZOFFSETTO:-0600
TZNAME:CST
DTSTART:20221106T070000
END:STANDARD
BEGIN:DAYLIGHT
TZOFFSETFROM:-0600
TZOFFSETTO:-0500
TZNAME:CDT
DTSTART:20230312T080000
END:DAYLIGHT
BEGIN:STANDARD
TZOFFSETFROM:-0500
TZOFFSETTO:-0600
TZNAME:CST
DTSTART:20231105T070000
END:STANDARD
BEGIN:DAYLIGHT
TZOFFSETFROM:-0600
TZOFFSETTO:-0500
TZNAME:CDT
DTSTART:20240310T080000
END:DAYLIGHT
BEGIN:STANDARD
TZOFFSETFROM:-0500
TZOFFSETTO:-0600
TZNAME:CST
DTSTART:20241103T070000
END:STANDARD
END:VTIMEZONE
BEGIN:VEVENT
DTSTART;TZID=America/Chicago:20230615T190000
DTEND;TZID=America/Chicago:20230618T190000
DTSTAMP:20260420T115956
CREATED:20230608T190935Z
LAST-MODIFIED:20230608T190935Z
UID:5805-1686855600-1687114800@thyword.media
SUMMARY:Tent Revival- Be Awakened
DESCRIPTION:There will be a tent revival at the New Beginnings Community Church located at 302 W Williams St off of Highway 231 in Loogootee\, IN. on Thursday June 15th through Saturday June 17th at 7 PM nightly and at 10:30 AM and 6 PM on Sunday the 18th. Guest Speakers are Pastor Ernie Cannell and Pastor Brian Beaver and Pastor Pete Aldrich.
URL:https://thyword.media/event/tent-revival-be-awakened/
LOCATION:New Beginnings Community Church\, 302 W Williams St\, Loogootee\, IN\, United States
GEO:38.6836119;-86.9174501
X-APPLE-STRUCTURED-LOCATION;VALUE=URI;X-ADDRESS=New Beginnings Community Church 302 W Williams St Loogootee IN United States;X-APPLE-RADIUS=500;X-TITLE=302 W Williams St:geo:-86.9174501,38.6836119
END:VEVENT
END:VCALENDAR