BEGIN:VCALENDAR
VERSION:2.0
PRODID:-//Thy Word Network - ECPv6.15.20//NONSGML v1.0//EN
CALSCALE:GREGORIAN
METHOD:PUBLISH
X-ORIGINAL-URL:https://thyword.media
X-WR-CALDESC:Events for Thy Word Network
REFRESH-INTERVAL;VALUE=DURATION:PT1H
X-Robots-Tag:noindex
X-PUBLISHED-TTL:PT1H
BEGIN:VTIMEZONE
TZID:America/Chicago
BEGIN:DAYLIGHT
TZOFFSETFROM:-0600
TZOFFSETTO:-0500
TZNAME:CDT
DTSTART:20170312T080000
END:DAYLIGHT
BEGIN:STANDARD
TZOFFSETFROM:-0500
TZOFFSETTO:-0600
TZNAME:CST
DTSTART:20171105T070000
END:STANDARD
BEGIN:DAYLIGHT
TZOFFSETFROM:-0600
TZOFFSETTO:-0500
TZNAME:CDT
DTSTART:20180311T080000
END:DAYLIGHT
BEGIN:STANDARD
TZOFFSETFROM:-0500
TZOFFSETTO:-0600
TZNAME:CST
DTSTART:20181104T070000
END:STANDARD
BEGIN:DAYLIGHT
TZOFFSETFROM:-0600
TZOFFSETTO:-0500
TZNAME:CDT
DTSTART:20190310T080000
END:DAYLIGHT
BEGIN:STANDARD
TZOFFSETFROM:-0500
TZOFFSETTO:-0600
TZNAME:CST
DTSTART:20191103T070000
END:STANDARD
END:VTIMEZONE
BEGIN:VEVENT
DTSTART;TZID=America/Chicago:20180324T100000
DTEND;TZID=America/Chicago:20180324T120000
DTSTAMP:20260423T093232
CREATED:20180223T140234Z
LAST-MODIFIED:20180223T140821Z
UID:1186-1521885600-1521892800@thyword.media
SUMMARY:McCutchanville Community Easter Egg Hunt
DESCRIPTION:The annual McCutchanville Community Easter Egg Hunt will be held at the McCutchanville Community Church\, 9505 Petersburg Rd\, McCutchanville IN on Saturday March 24. There will be games crafts and lunch after the event and 4 age groups for the hunt.
URL:https://thyword.media/event/mccutchanville-community-easter-egg-hunt/
LOCATION:McCutchanville Community Church\, 9505 Petersburg Rd\, Evansville\, IN\, 47725
GEO:38.0643624;-87.5245161
X-APPLE-STRUCTURED-LOCATION;VALUE=URI;X-ADDRESS=McCutchanville Community Church 9505 Petersburg Rd Evansville IN 47725;X-APPLE-RADIUS=500;X-TITLE=9505 Petersburg Rd:geo:-87.5245161,38.0643624
END:VEVENT
END:VCALENDAR