BEGIN:VCALENDAR
VERSION:2.0
PRODID:-//Thy Word Network - ECPv6.15.20//NONSGML v1.0//EN
CALSCALE:GREGORIAN
METHOD:PUBLISH
X-WR-CALNAME:Thy Word Network
X-ORIGINAL-URL:https://thyword.media
X-WR-CALDESC:Events for Thy Word Network
REFRESH-INTERVAL;VALUE=DURATION:PT1H
X-Robots-Tag:noindex
X-PUBLISHED-TTL:PT1H
BEGIN:VTIMEZONE
TZID:America/Chicago
BEGIN:DAYLIGHT
TZOFFSETFROM:-0600
TZOFFSETTO:-0500
TZNAME:CDT
DTSTART:20200308T080000
END:DAYLIGHT
BEGIN:STANDARD
TZOFFSETFROM:-0500
TZOFFSETTO:-0600
TZNAME:CST
DTSTART:20201101T070000
END:STANDARD
BEGIN:DAYLIGHT
TZOFFSETFROM:-0600
TZOFFSETTO:-0500
TZNAME:CDT
DTSTART:20210314T080000
END:DAYLIGHT
BEGIN:STANDARD
TZOFFSETFROM:-0500
TZOFFSETTO:-0600
TZNAME:CST
DTSTART:20211107T070000
END:STANDARD
BEGIN:DAYLIGHT
TZOFFSETFROM:-0600
TZOFFSETTO:-0500
TZNAME:CDT
DTSTART:20220313T080000
END:DAYLIGHT
BEGIN:STANDARD
TZOFFSETFROM:-0500
TZOFFSETTO:-0600
TZNAME:CST
DTSTART:20221106T070000
END:STANDARD
END:VTIMEZONE
BEGIN:VEVENT
DTSTART;TZID=America/Chicago:20210511T190000
DTEND;TZID=America/Chicago:20210511T203000
DTSTAMP:20260421T022948
CREATED:20210312T152203Z
LAST-MODIFIED:20210312T152203Z
UID:4370-1620759600-1620765000@thyword.media
SUMMARY:Overcoming Anxiety Support Group Meeting
DESCRIPTION:A free Overcoming Anxiety Support Group meeting will be held at the First Christian Church\, 8th & Market Streets in Mt. Carmel\, IL on Tuesday\, May 11th from 7:00 p.m. to 8:30 p.m. for anyone who has experienced anxiety\, worry\, fear\, dread or panic. For more information\, their phone number is 618-262-5921.
URL:https://thyword.media/event/overcoming-anxiety-support-group-meeting-6/
LOCATION:First Christian Church – Mt Carmel\, 803 N Market St\, Mt Carmel\, IL\, 62863
GEO:38.4145594;-87.7638549
X-APPLE-STRUCTURED-LOCATION;VALUE=URI;X-ADDRESS=First Christian Church – Mt Carmel 803 N Market St Mt Carmel IL 62863;X-APPLE-RADIUS=500;X-TITLE=803 N Market St:geo:-87.7638549,38.4145594
END:VEVENT
BEGIN:VEVENT
DTSTART;TZID=America/Chicago:20210513T180000
DTEND;TZID=America/Chicago:20210513T190000
DTSTAMP:20260421T022948
CREATED:20210312T154224Z
LAST-MODIFIED:20210312T154224Z
UID:4377-1620928800-1620932400@thyword.media
SUMMARY:Grief Support Group Meeting
DESCRIPTION:The monthly Grief Support Group Meeting: presented by the SE Illinois Pastoral Counseling Center will be held on Thursday\, May 13th from 6:00 p.m. to 7:00 p.m. at the First United Methodist Church\, 100 S Church Street in Carmi\, IL. For more information their phone number is 618-382-5548 or visit www.freewebs.com/sicpc2006.
URL:https://thyword.media/event/grief-support-group-meeting-10/
LOCATION:First United Methodist Church – Carmi\, 100 S Church St\, Carmi\, IL
GEO:38.0890988;-88.1613126
X-APPLE-STRUCTURED-LOCATION;VALUE=URI;X-ADDRESS=First United Methodist Church – Carmi 100 S Church St Carmi IL;X-APPLE-RADIUS=500;X-TITLE=100 S Church St:geo:-88.1613126,38.0890988
END:VEVENT
BEGIN:VEVENT
DTSTART;TZID=America/Chicago:20210514T183000
DTEND;TZID=America/Chicago:20210514T200000
DTSTAMP:20260421T022948
CREATED:20210423T180351Z
LAST-MODIFIED:20210423T180351Z
UID:4435-1621017000-1621022400@thyword.media
SUMMARY:NIght of Praise Hosted by First Choice Solutions
DESCRIPTION:"First Choice Solutions\, (FCS)\, formerly the Pregnancy Care Center\,  is\nhaving a Night of Praise at 6:30 on May 14th\, hosted by Wheatland Christian\nchurch located at 330 IN-550\, Wheatland\, IN 47597.  The event will start at\n6:30 and conclude at 7:45.  At 6:30 the Executive Director of First Choice\nSolutions\, Yolonda Taylor will update everyone on the latest news regarding\nFCS and the services that they provide for the local communities.  Then from\n6:45 to 7:30 P.M. the Wheatland Christian worship band will perform.  Free\nwill donations will be collected after the band has performed.  Come join us\nas we give honor\, worship and praise to our Lord Jesus Christ."
URL:https://thyword.media/event/night-of-praise-hosted-by-first-choice-solutions/
LOCATION:Wheatland Christian Church\, 330 IN-550\, Wheatland\, IN\, 47597\, United States
GEO:38.6616915;-87.30868
X-APPLE-STRUCTURED-LOCATION;VALUE=URI;X-ADDRESS=Wheatland Christian Church 330 IN-550 Wheatland IN 47597 United States;X-APPLE-RADIUS=500;X-TITLE=330 IN-550:geo:-87.30868,38.6616915
END:VEVENT
BEGIN:VEVENT
DTSTART;TZID=America/Chicago:20210516T180000
DTEND;TZID=America/Chicago:20210516T180000
DTSTAMP:20260421T022948
CREATED:20210514T165926Z
LAST-MODIFIED:20210514T165926Z
UID:4462-1621188000-1621188000@thyword.media
SUMMARY:Conquerors in Concert
DESCRIPTION:The Conquerors will be in concert on Sunday May 16th at 6 PM at the Church of the Cross located at 7525 North Green River Road in Evansville\, IN.
URL:https://thyword.media/event/conquerors-in-concert-3/
LOCATION:Church of the Cross\, 7525 N Green River Rd\, Evansville\, IN
GEO:38.046322;-87.489165
X-APPLE-STRUCTURED-LOCATION;VALUE=URI;X-ADDRESS=Church of the Cross 7525 N Green River Rd Evansville IN;X-APPLE-RADIUS=500;X-TITLE=7525 N Green River Rd:geo:-87.489165,38.046322
END:VEVENT
BEGIN:VEVENT
DTSTART;TZID=America/Chicago:20210522T083000
DTEND;TZID=America/Chicago:20210522T083000
DTSTAMP:20260421T022948
CREATED:20210514T151551Z
LAST-MODIFIED:20210514T151551Z
UID:4454-1621672200-1621672200@thyword.media
SUMMARY:First Choice Solutions\, 5K Walk/Run
DESCRIPTION:“First Choice Solutions\, formerly the Pregnancy Care Center 5K Walk/Run\nevent is scheduled for Saturday\, May 22\, at the Kiwanis Cabin\, Eastside\nPark\, Washington\, Indiana.\nRegistration begins at 8:30 AM\, with the Walk/Run kicking off at 9:00 AM.\nPlease call the clinic at 812-257-1041 for registration forms. The\nregistration fee is\n$20 for ages 15 and older\, $10 for children ages 5-15\, no charge for\nchildren under 5 years. Registration fees may be mailed to First Choice\nSolutions\, PO Box 589\, Washington\, IN 47501\, or you may pay online via\nPayPal\, at https://www.paypal.com/paypalme/FirstChoiceSolutions.\nPlease add “5K” in the notes or memo section. You can also register the day\nof the 5K Walk/Run.\nLimited quantities and sizes of t-shirts from previous years will be\navailable at the event.”
URL:https://thyword.media/event/first-choice-solutions-5k-walk-run/
LOCATION:Eastside Park\, Washington\, IN\, 47501\, United States
GEO:38.6592152;-87.172789
END:VEVENT
BEGIN:VEVENT
DTSTART;TZID=America/Chicago:20210525T190000
DTEND;TZID=America/Chicago:20210525T203000
DTSTAMP:20260421T022948
CREATED:20210312T160916Z
LAST-MODIFIED:20210312T161247Z
UID:4383-1621969200-1621974600@thyword.media
SUMMARY:Grief Support Meeting
DESCRIPTION:The Southeastern Illinois Center for Pastoral Counseling is sponsoring a free Grief Support Group meeting to be held at the First Christian Church\, 803 N Market Street in Mt. Carmel\, IL on Tuesday\, May 25th from 7:00 p.m. to 8:30 p.m. for anyone who has experienced a loss (death of a loved one\, divorce\, long-term illness\, etc.). For more information\, their phone number is 618-262-5921.
URL:https://thyword.media/event/grief-support-meeting-12/
LOCATION:First Christian Church – Mt Carmel\, 803 N Market St\, Mt Carmel\, IL\, 62863
GEO:38.4145594;-87.7638549
X-APPLE-STRUCTURED-LOCATION;VALUE=URI;X-ADDRESS=First Christian Church – Mt Carmel 803 N Market St Mt Carmel IL 62863;X-APPLE-RADIUS=500;X-TITLE=803 N Market St:geo:-87.7638549,38.4145594
END:VEVENT
END:VCALENDAR