BEGIN:VCALENDAR
VERSION:2.0
PRODID:-//Thy Word Network - ECPv6.15.20//NONSGML v1.0//EN
CALSCALE:GREGORIAN
METHOD:PUBLISH
X-ORIGINAL-URL:https://thyword.media
X-WR-CALDESC:Events for Thy Word Network
REFRESH-INTERVAL;VALUE=DURATION:PT1H
X-Robots-Tag:noindex
X-PUBLISHED-TTL:PT1H
BEGIN:VTIMEZONE
TZID:America/Chicago
BEGIN:DAYLIGHT
TZOFFSETFROM:-0600
TZOFFSETTO:-0500
TZNAME:CDT
DTSTART:20200308T080000
END:DAYLIGHT
BEGIN:STANDARD
TZOFFSETFROM:-0500
TZOFFSETTO:-0600
TZNAME:CST
DTSTART:20201101T070000
END:STANDARD
BEGIN:DAYLIGHT
TZOFFSETFROM:-0600
TZOFFSETTO:-0500
TZNAME:CDT
DTSTART:20210314T080000
END:DAYLIGHT
BEGIN:STANDARD
TZOFFSETFROM:-0500
TZOFFSETTO:-0600
TZNAME:CST
DTSTART:20211107T070000
END:STANDARD
BEGIN:DAYLIGHT
TZOFFSETFROM:-0600
TZOFFSETTO:-0500
TZNAME:CDT
DTSTART:20220313T080000
END:DAYLIGHT
BEGIN:STANDARD
TZOFFSETFROM:-0500
TZOFFSETTO:-0600
TZNAME:CST
DTSTART:20221106T070000
END:STANDARD
END:VTIMEZONE
BEGIN:VEVENT
DTSTART;TZID=America/Chicago:20210303T080000
DTEND;TZID=America/Chicago:20210326T150000
DTSTAMP:20260423T042633
CREATED:20210303T151043Z
LAST-MODIFIED:20210303T151043Z
UID:4353-1614758400-1616770800@thyword.media
SUMMARY:Bethel Christian School enrollment
DESCRIPTION:Bethel Christian School\, at 1520 S. Main St\, Princeton\, is enrolling students for the 2021-22 \nschool year.  We offer a two morning a week class for three year olds\, and K-4 and K-5 with \nthe option of half day or full day.  Information about the school is available on the church \nwebsite\, bethellmemorial.org or call 812-386-1263.  We also offer tours of the school during \nschool hours.
URL:https://thyword.media/event/bethel-christian-school-enrollment/
LOCATION:Bethel Christian Church\, 28110 Okalona Rd\, Doolittle Mills\, IN
GEO:38.261321;-86.6124567
X-APPLE-STRUCTURED-LOCATION;VALUE=URI;X-ADDRESS=Bethel Christian Church 28110 Okalona Rd Doolittle Mills IN;X-APPLE-RADIUS=500;X-TITLE=28110 Okalona Rd:geo:-86.6124567,38.261321
END:VEVENT
BEGIN:VEVENT
DTSTART;TZID=America/Chicago:20210309T080000
DTEND;TZID=America/Chicago:20210330T080000
DTSTAMP:20260423T042633
CREATED:20210309T155943Z
LAST-MODIFIED:20210309T155943Z
UID:4359-1615276800-1617091200@thyword.media
SUMMARY:Red Cross Blood Donation Opportunities
DESCRIPTION:The Red Cross is having several blood donation opportunities throughout the Tri-State area in the month of March. For more information please visit RedCrossBlood.org\, call 1-800-733-2767 or visit our events page at thyword.org.
URL:https://thyword.media/event/red-cross-blood-donation-opportunities/
LOCATION:American Red Cross
END:VEVENT
BEGIN:VEVENT
DTSTART;TZID=America/Chicago:20210309T190000
DTEND;TZID=America/Chicago:20210309T203000
DTSTAMP:20260423T042633
CREATED:20201215T190727Z
LAST-MODIFIED:20201215T190727Z
UID:4236-1615316400-1615321800@thyword.media
SUMMARY:Overcoming Anxiety Support Group
DESCRIPTION:A free Overcoming Anxiety Support Group meeting will be held at the First Christian Church\, 8th & Market Streets in Mt. Carmel\, IL on Tuesday\, March 9th from 7:00 p.m. to 8:30 p.m. for anyone who has experienced anxiety\, worry\, fear\, dread or panic.  For more information\, their phone number is 618-262-5921 or go to www.freewebs.com/sicpc
URL:https://thyword.media/event/overcoming-anxiety-support-group-9/
LOCATION:First Christian Church – Mt Carmel\, 803 N Market St\, Mt Carmel\, IL\, 62863
GEO:38.4145594;-87.7638549
X-APPLE-STRUCTURED-LOCATION;VALUE=URI;X-ADDRESS=First Christian Church – Mt Carmel 803 N Market St Mt Carmel IL 62863;X-APPLE-RADIUS=500;X-TITLE=803 N Market St:geo:-87.7638549,38.4145594
END:VEVENT
BEGIN:VEVENT
DTSTART;TZID=America/Chicago:20210311T180000
DTEND;TZID=America/Chicago:20210311T190000
DTSTAMP:20260423T042633
CREATED:20201215T185700Z
LAST-MODIFIED:20201215T185738Z
UID:4230-1615485600-1615489200@thyword.media
SUMMARY:Grief Support Meeting
DESCRIPTION:The monthly Grief Support Group Meeting: presented by the SE Illinois Pastoral Counseling Center will be held on Thursday\, March 11th from 6:00 p.m. to 7:00 p.m. at the First United Methodist Church\, 100 S Church Street in Carmi\, IL. For more information their phone number is 618-382-5548 or visit www.freewebs.com/sicpc2006.
URL:https://thyword.media/event/grief-support-meeting-7/
LOCATION:First Chrisitan Church of Carmi\, 504 Bohleber Dr\, Carmi\, IL
GEO:38.0802228;-88.1651675
X-APPLE-STRUCTURED-LOCATION;VALUE=URI;X-ADDRESS=First Chrisitan Church of Carmi 504 Bohleber Dr Carmi IL;X-APPLE-RADIUS=500;X-TITLE=504 Bohleber Dr:geo:-88.1651675,38.0802228
END:VEVENT
BEGIN:VEVENT
DTSTART;TZID=America/Chicago:20210312T130000
DTEND;TZID=America/Chicago:20210312T150000
DTSTAMP:20260423T042633
CREATED:20210310T212140Z
LAST-MODIFIED:20210310T212140Z
UID:4365-1615554000-1615561200@thyword.media
SUMMARY:Farm to Family Food Boxes to be given away
DESCRIPTION:The TriState Food Bank and Oasis Church located at 1104 S Stout in Princeton\, are distributing Farm to Family food boxes drive through style Friday March 12th starting at 1PM while supplies last. For more information please see our events page at thyword.org.
URL:https://thyword.media/event/farm-to-family-food-boxes-to-be-given-away/
LOCATION:Oasis Church\, 1104 South Stout St\, Princeton\, IN\, 47670\, United States
GEO:38.3445335;-87.559902
X-APPLE-STRUCTURED-LOCATION;VALUE=URI;X-ADDRESS=Oasis Church 1104 South Stout St Princeton IN 47670 United States;X-APPLE-RADIUS=500;X-TITLE=1104 South Stout St:geo:-87.559902,38.3445335
END:VEVENT
BEGIN:VEVENT
DTSTART;TZID=America/Chicago:20210324T190000
DTEND;TZID=America/Chicago:20210324T190000
DTSTAMP:20260423T042633
CREATED:20210305T172954Z
LAST-MODIFIED:20210305T172954Z
UID:4355-1616612400-1616612400@thyword.media
SUMMARY:Informational Meeting Ambassador Christian Academy
DESCRIPTION:An Informational Meeting will be held Wednesday\, March 24\, 2021\, for the area’s newest Christian school – Ambassador Christian Academy located in Mount Carmel\, Illinois.  The informational meeting will start at 7 pm at the Neikirk Building\, 306 North Market Street\, Mt. Carmel\, Illinois.  For more information\, go to acamtcarmel.com or call 618-263-9523.\n\nAlso\, please remember…Ambassador Christian Academy is offering a 10% discount off tuition to those registering and paying in full by March 31\, 2021.  For more information\, please go to acamtcarmel.com or call 618-263-9523.
URL:https://thyword.media/event/informational-meeting-ambassador-christian-academy/
LOCATION:Neikirk Building\, 306 North Market Street\, Mount Carmel\, Il\, 62863
GEO:38.40851;-87.7608421
X-APPLE-STRUCTURED-LOCATION;VALUE=URI;X-ADDRESS=Neikirk Building 306 North Market Street Mount Carmel Il 62863;X-APPLE-RADIUS=500;X-TITLE=306 North Market Street:geo:-87.7608421,38.40851
END:VEVENT
END:VCALENDAR