BEGIN:VCALENDAR
VERSION:2.0
PRODID:-//Thy Word Network - ECPv6.15.20//NONSGML v1.0//EN
CALSCALE:GREGORIAN
METHOD:PUBLISH
X-ORIGINAL-URL:https://thyword.media
X-WR-CALDESC:Events for Thy Word Network
REFRESH-INTERVAL;VALUE=DURATION:PT1H
X-Robots-Tag:noindex
X-PUBLISHED-TTL:PT1H
BEGIN:VTIMEZONE
TZID:America/Chicago
BEGIN:DAYLIGHT
TZOFFSETFROM:-0600
TZOFFSETTO:-0500
TZNAME:CDT
DTSTART:20200308T080000
END:DAYLIGHT
BEGIN:STANDARD
TZOFFSETFROM:-0500
TZOFFSETTO:-0600
TZNAME:CST
DTSTART:20201101T070000
END:STANDARD
BEGIN:DAYLIGHT
TZOFFSETFROM:-0600
TZOFFSETTO:-0500
TZNAME:CDT
DTSTART:20210314T080000
END:DAYLIGHT
BEGIN:STANDARD
TZOFFSETFROM:-0500
TZOFFSETTO:-0600
TZNAME:CST
DTSTART:20211107T070000
END:STANDARD
BEGIN:DAYLIGHT
TZOFFSETFROM:-0600
TZOFFSETTO:-0500
TZNAME:CDT
DTSTART:20220313T080000
END:DAYLIGHT
BEGIN:STANDARD
TZOFFSETFROM:-0500
TZOFFSETTO:-0600
TZNAME:CST
DTSTART:20221106T070000
END:STANDARD
END:VTIMEZONE
BEGIN:VEVENT
DTSTART;TZID=America/Chicago:20210112T190000
DTEND;TZID=America/Chicago:20210112T203000
DTSTAMP:20260423T105309
CREATED:20201215T190015Z
LAST-MODIFIED:20201215T190015Z
UID:4232-1610478000-1610483400@thyword.media
SUMMARY:Overcoming Anxiety Support Group
DESCRIPTION:A free Overcoming Anxiety Support Group meeting will be held at the First Christian Church\, 8th & Market Streets in Mt. Carmel\, IL on Tuesday\, January 12th  from 7:00 p.m. to 8:30 p.m. for anyone who has experienced anxiety\, worry\, fear\, dread or panic.  For more information\, their phone number is 618-262-5921 or go by our Events Page at www.thyword.org.
URL:https://thyword.media/event/overcoming-anxiety-support-group-7/
LOCATION:First Christian Church – Mt Carmel\, 803 N Market St\, Mt Carmel\, IL\, 62863
GEO:38.4145594;-87.7638549
X-APPLE-STRUCTURED-LOCATION;VALUE=URI;X-ADDRESS=First Christian Church – Mt Carmel 803 N Market St Mt Carmel IL 62863;X-APPLE-RADIUS=500;X-TITLE=803 N Market St:geo:-87.7638549,38.4145594
END:VEVENT
BEGIN:VEVENT
DTSTART;TZID=America/Chicago:20210114T180000
DTEND;TZID=America/Chicago:20210114T190000
DTSTAMP:20260423T105309
CREATED:20201215T181807Z
LAST-MODIFIED:20201215T182444Z
UID:4226-1610647200-1610650800@thyword.media
SUMMARY:Grief Support Meeting
DESCRIPTION:The monthly Grief Support Group Meeting: presented by the SE Illinois Pastoral Counseling Center will be held on Thursday\, January 14th from 6:00 to 7:00 p.m.CST at the First United Methodist Church\, located at 100 S Church Street in Carmi\, IL. For more information their phone number is 618-382-5548 or go to www.freewebs.com/sicpc2006.
URL:https://thyword.media/event/grief-support-meeting-5/
LOCATION:First United Methodist Church – Carmi\, 100 S Church St\, Carmi\, IL
GEO:38.0890988;-88.1613126
X-APPLE-STRUCTURED-LOCATION;VALUE=URI;X-ADDRESS=First United Methodist Church – Carmi 100 S Church St Carmi IL;X-APPLE-RADIUS=500;X-TITLE=100 S Church St:geo:-88.1613126,38.0890988
END:VEVENT
BEGIN:VEVENT
DTSTART;TZID=America/Chicago:20210119T190000
DTEND;TZID=America/Chicago:20210121T190000
DTSTAMP:20260423T105309
CREATED:20210111T190349Z
LAST-MODIFIED:20210111T190349Z
UID:4273-1611082800-1611255600@thyword.media
SUMMARY:Ambassador Christian Community School Meeting
DESCRIPTION:Ambassador Christian Academy will be hosting informational meetings about the new Christian School on January 19th and 21st. The meetings will be held at the Neikitk building located at 306 North Market Street in Mount Carmel and will begin at 7 PM. For more information please call 618-263-9523 or see our Events page at thyword.org.
URL:https://thyword.media/event/ambassador-christian-community-school-meeting/
LOCATION:Neikirk Building\, 306 North Market Street\, Mount Carmel\, Il\, 62863
GEO:38.40851;-87.7608421
X-APPLE-STRUCTURED-LOCATION;VALUE=URI;X-ADDRESS=Neikirk Building 306 North Market Street Mount Carmel Il 62863;X-APPLE-RADIUS=500;X-TITLE=306 North Market Street:geo:-87.7608421,38.40851
END:VEVENT
BEGIN:VEVENT
DTSTART;TZID=America/Chicago:20210126T190000
DTEND;TZID=America/Chicago:20210126T203000
DTSTAMP:20260423T105309
CREATED:20201215T191436Z
LAST-MODIFIED:20201215T191436Z
UID:4238-1611687600-1611693000@thyword.media
SUMMARY:Grief Support Meeting
DESCRIPTION:The Southeastern Illinois Center for Pastoral Counseling is sponsoring a free Grief Support Group meeting to be held at the First Christian Church\, 803 N Market Street in Mt. Carmel\, IL on Tuesday\, January 26th from 7:00 p.m. to 8:30 p.m. for anyone who has experienced a loss (death of a loved one\, divorce\, long-term illness\, etc.). For more information\, their phone number is 618-262-5921 or go by our Events Page at www.thyword.org.
URL:https://thyword.media/event/grief-support-meeting-8/
LOCATION:First Christian Church – Mt Carmel\, 803 N Market St\, Mt Carmel\, IL\, 62863
GEO:38.4145594;-87.7638549
X-APPLE-STRUCTURED-LOCATION;VALUE=URI;X-ADDRESS=First Christian Church – Mt Carmel 803 N Market St Mt Carmel IL 62863;X-APPLE-RADIUS=500;X-TITLE=803 N Market St:geo:-87.7638549,38.4145594
END:VEVENT
BEGIN:VEVENT
DTSTART;TZID=America/Chicago:20210130T190000
DTEND;TZID=America/Chicago:20210130T190000
DTSTAMP:20260423T105309
CREATED:20201221T181235Z
LAST-MODIFIED:20210115T160653Z
UID:4248-1612033200-1612033200@thyword.media
SUMMARY:Holy Rosary Annual Half Pot and Gayle Event
DESCRIPTION:Holy Rosary Catholic Church will hold their annual Rose Gala event. \nThis year’s Gala is more important than ever since we had to cancel our Summer Social. We hope you will join us on Saturday\, January 30\, 2021\, to watch the LIVE portion of the event which will include a LIVE Auction\, Fund an Item\,and a highlight of our sponsors all while providing for our parish’s continued financial well-being. We are asking you to make a difference for the many children and families of our parish with your support of the annual gala. You can be a part of the continued growth and mission of our church in a number of ways. For information please call 812-477-8923.
URL:https://thyword.media/event/holy-rosary-annual-half-pot-and-gayle-event/
LOCATION:Holy Rosary Catholic Church\, 1301 S Green River Road\, Evansville\, IN\, 47715
GEO:37.958951;-87.495121
X-APPLE-STRUCTURED-LOCATION;VALUE=URI;X-ADDRESS=Holy Rosary Catholic Church 1301 S Green River Road Evansville IN 47715;X-APPLE-RADIUS=500;X-TITLE=1301 S Green River Road:geo:-87.495121,37.958951
END:VEVENT
END:VCALENDAR