BEGIN:VCALENDAR
VERSION:2.0
PRODID:-//Thy Word Network - ECPv6.15.20//NONSGML v1.0//EN
CALSCALE:GREGORIAN
METHOD:PUBLISH
X-WR-CALNAME:Thy Word Network
X-ORIGINAL-URL:https://thyword.media
X-WR-CALDESC:Events for Thy Word Network
REFRESH-INTERVAL;VALUE=DURATION:PT1H
X-Robots-Tag:noindex
X-PUBLISHED-TTL:PT1H
BEGIN:VTIMEZONE
TZID:America/Chicago
BEGIN:DAYLIGHT
TZOFFSETFROM:-0600
TZOFFSETTO:-0500
TZNAME:CDT
DTSTART:20190310T080000
END:DAYLIGHT
BEGIN:STANDARD
TZOFFSETFROM:-0500
TZOFFSETTO:-0600
TZNAME:CST
DTSTART:20191103T070000
END:STANDARD
BEGIN:DAYLIGHT
TZOFFSETFROM:-0600
TZOFFSETTO:-0500
TZNAME:CDT
DTSTART:20200308T080000
END:DAYLIGHT
BEGIN:STANDARD
TZOFFSETFROM:-0500
TZOFFSETTO:-0600
TZNAME:CST
DTSTART:20201101T070000
END:STANDARD
BEGIN:DAYLIGHT
TZOFFSETFROM:-0600
TZOFFSETTO:-0500
TZNAME:CDT
DTSTART:20210314T080000
END:DAYLIGHT
BEGIN:STANDARD
TZOFFSETFROM:-0500
TZOFFSETTO:-0600
TZNAME:CST
DTSTART:20211107T070000
END:STANDARD
END:VTIMEZONE
BEGIN:VEVENT
DTSTART;TZID=America/Chicago:20200731T180000
DTEND;TZID=America/Chicago:20200801T120000
DTSTAMP:20260423T210105
CREATED:20200630T181944Z
LAST-MODIFIED:20200630T181944Z
UID:3879-1596218400-1596283200@thyword.media
SUMMARY:Promise Keepers Simulcast
DESCRIPTION:Promise Keepers will hold a simulcast conference at various local churches on Friday July 31st\, 6PM to 9PM CST and Saturday August 1st\, 9 AM to 12PM CST. The local representative is Bob Stone and he can be reached at 812-568-5534. If you are interested in attending this event please go to : \nhttps://promisekeepersevent.com/simulcast/ \nThis event is free but donations are accepted.
URL:https://thyword.media/event/promise-keepers-simulcast/
LOCATION:IL
END:VEVENT
BEGIN:VEVENT
DTSTART;TZID=America/Chicago:20200811T190000
DTEND;TZID=America/Chicago:20200811T203000
DTSTAMP:20260423T210105
CREATED:20200624T200050Z
LAST-MODIFIED:20200624T200050Z
UID:3862-1597172400-1597177800@thyword.media
SUMMARY:Overcoming Anxiety Support Group Meeting
DESCRIPTION:A free Overcoming Anxiety Support Group meeting will be held at the First Christian Church\, 8th & Market Streets in Mt. Carmel\, IL on Tuesday\, August 11th from 7:00 p.m. to 8:30 p.m. for anyone who has experienced anxiety\, worry\, fear\, dread or panic. For more information\, their phone number is 618-262-5921 or go by our Events Page at www.thyword.org.
URL:https://thyword.media/event/overcoming-anxiety-support-group-meeting-4/
LOCATION:First Christian Church – Mt Carmel\, 803 N Market St\, Mt Carmel\, IL\, 62863
GEO:38.4145594;-87.7638549
X-APPLE-STRUCTURED-LOCATION;VALUE=URI;X-ADDRESS=First Christian Church – Mt Carmel 803 N Market St Mt Carmel IL 62863;X-APPLE-RADIUS=500;X-TITLE=803 N Market St:geo:-87.7638549,38.4145594
END:VEVENT
BEGIN:VEVENT
DTSTART;TZID=America/Chicago:20200812T110000
DTEND;TZID=America/Chicago:20200812T120000
DTSTAMP:20260423T210105
CREATED:20200729T160738Z
LAST-MODIFIED:20200729T164745Z
UID:3949-1597230000-1597233600@thyword.media
SUMMARY:Hope Center Food Giveaway
DESCRIPTION:The Hope Center is partnering with United Way and Cusumano and Sons and will be passing out FREE Veggie and Dairy boxes Wednesday August 12\, 2020 to the first 50 people from Edwards County that Private Message Steve Smith on Facebook or call 618-445-2065 that they want a box. Time pick up will hopefully be between 11am and noon. \n 
URL:https://thyword.media/event/hope-center-food-giveaway/
LOCATION:The Hope Center\, 23 Cherry St\, Albion\, IL
GEO:40.6331249;-89.3985283
X-APPLE-STRUCTURED-LOCATION;VALUE=URI;X-ADDRESS=The Hope Center 23 Cherry St Albion IL;X-APPLE-RADIUS=500;X-TITLE=23 Cherry St:geo:-89.3985283,40.6331249
END:VEVENT
BEGIN:VEVENT
DTSTART;TZID=America/Chicago:20200813T180000
DTEND;TZID=America/Chicago:20200813T190000
DTSTAMP:20260423T210105
CREATED:20200624T185135Z
LAST-MODIFIED:20200624T185655Z
UID:3841-1597341600-1597345200@thyword.media
SUMMARY:Grief Support Group Meeting
DESCRIPTION:The monthly Grief Support Group Meeting: presented by the SE Illinois Pastoral Counseling Center will be held on Thursday\, August 13th from 6:00 p.m. to 7:00 p.m. at the First United Methodist Church\,100 S Church Street in Carmi\, IL. For more information their phone number is 618-382-5548 or go by the Events Page at thyword.org.
URL:https://thyword.media/event/grief-support-group-meeting-4/
LOCATION:First United Methodist Church – Carmi\, 100 S Church St\, Carmi\, IL
GEO:38.0890988;-88.1613126
X-APPLE-STRUCTURED-LOCATION;VALUE=URI;X-ADDRESS=First United Methodist Church – Carmi 100 S Church St Carmi IL;X-APPLE-RADIUS=500;X-TITLE=100 S Church St:geo:-88.1613126,38.0890988
END:VEVENT
BEGIN:VEVENT
DTSTART;TZID=America/Chicago:20200815T080000
DTEND;TZID=America/Chicago:20200815T080000
DTSTAMP:20260423T210105
CREATED:20200729T161210Z
LAST-MODIFIED:20200729T161210Z
UID:3952-1597478400-1597478400@thyword.media
SUMMARY:Hope Center Food Giveaway
DESCRIPTION:The H be passing out food on Saturday August 15th at around 8am for everyone in EC and surrounding counties. We will have food\, clothes and other items on that Saturday…Please bring a tote or something to take items home with you……If you would like to donate food (RAMEN NOODLES) or $$$ the Hope Center is located at 23 West Cherry\, Albion Illinois 62806. For more info call Steve at 618-445-2065.
URL:https://thyword.media/event/hope-center-food-giveaway-2/
LOCATION:The Hope Center\, 23 Cherry St\, Albion\, IL
GEO:40.6331249;-89.3985283
X-APPLE-STRUCTURED-LOCATION;VALUE=URI;X-ADDRESS=The Hope Center 23 Cherry St Albion IL;X-APPLE-RADIUS=500;X-TITLE=23 Cherry St:geo:-89.3985283,40.6331249
END:VEVENT
BEGIN:VEVENT
DTSTART;TZID=America/Chicago:20200816T173000
DTEND;TZID=America/Chicago:20200823T203000
DTSTAMP:20260423T210105
CREATED:20200714T191259Z
LAST-MODIFIED:20200714T191455Z
UID:3898-1597599000-1598214600@thyword.media
SUMMARY:Southern Indiana Holiness Association Camp Meeting
DESCRIPTION:On Sunday evening Aug. 16\,2020 the Southern Indiana Holiness association will open its 125th annual camp meeting beginning at 6:00 p.m. (CDT) at the campground located at Walnut and Trusler st. in Oakland City. The guest evangelistic speaker Sunday night through Saturday night will be Rev. Billy Huddleston from Cincinnati\,Ohio beginning at 6:00 p.m Sunday night and 6:30 p.m Monday thru Friday night. Each evening Rev. Huddleston will be assisted by Ms. Lindsay Huggins\, well known and acclaimed gospel singer from Nashville\, Tennessee. The closing service on Sunday night Aug.23 will be given by Rev. Jared Henry from the Mackey Church of the Nazarene. Youth Rally day will be on Saturday Aug.15 beginning at 2:00 p.m at the campground. Special youth activities will be led by Associate Pastor Garrett Sparks from Mackey Church of the Nazarene. The specially invited speaker for the youth on Saturday night will be Rev. Amber Cook for the Grace fellowship church in Princeton\, IN. That service will begin at 6:00 p.m.\nThe annual election of SIHA offices will be voted by ballot beginning Sunday night Aug.16-Saturday night Aug.22.\nDaily prayer chapel will be open at 5:30 P.M before each service.\nAll individuals and area churches are cordially invited to attend the camp meetings. \nFor more information please contact Cindy Messick at 812-215-9220.
URL:https://thyword.media/event/southern-indiana-holiness-association-camp-meeting/
LOCATION:SIHA Camp\, Corner of Trusler and Walnut\, Oakland City\, IN\, 47660\, United States
GEO:38.3328107;-87.3457681
X-APPLE-STRUCTURED-LOCATION;VALUE=URI;X-ADDRESS=SIHA Camp Corner of Trusler and Walnut Oakland City IN 47660 United States;X-APPLE-RADIUS=500;X-TITLE=Corner of Trusler and Walnut:geo:-87.3457681,38.3328107
END:VEVENT
BEGIN:VEVENT
DTSTART;TZID=America/Chicago:20200821T170000
DTEND;TZID=America/Chicago:20200821T213000
DTSTAMP:20260423T210105
CREATED:20200729T162337Z
LAST-MODIFIED:20200729T162421Z
UID:3954-1598029200-1598045400@thyword.media
SUMMARY:Jeff and Sheri Easter Concert
DESCRIPTION:Green Gables Bed and Breakfast located at 8824 900 E in Odon \, IN will be featuring the Jeff and Sheri Easter in concert\, along with local talent on Friday August the 21st starting at 5Pm EST. This is at no cost but donations are accepted. Concessions will be available. Bring a lawn chair. All proceeds go to local youth groups. For more information please contact Steve Graber at 812-486-8267.
URL:https://thyword.media/event/jeff-and-sheri-easter-concert/
LOCATION:Green Gables Bed and Breakfast\, 8824 900 E\, Odon\, IN\, 47562
GEO:38.785238;-86.9968523
X-APPLE-STRUCTURED-LOCATION;VALUE=URI;X-ADDRESS=Green Gables Bed and Breakfast 8824 900 E Odon IN 47562;X-APPLE-RADIUS=500;X-TITLE=8824 900 E:geo:-86.9968523,38.785238
END:VEVENT
BEGIN:VEVENT
DTSTART;TZID=America/Chicago:20200821T183000
DTEND;TZID=America/Chicago:20200821T183000
DTSTAMP:20260423T210105
CREATED:20200806T142731Z
LAST-MODIFIED:20200806T142731Z
UID:3965-1598034600-1598034600@thyword.media
SUMMARY:Night of Praise
DESCRIPTION:First Choice Solutions\, formerly the Pregnancy Care Center\, is having a Night of Praise on August 21st at the Word of Life church located at 7144 N. Russell Drive\, Bicknell\, IN. 47512. Music will be provided by Forged in Fire.  The doors will open at 6:30. Music will be provided from 7:00 to 8:30. Free will offerings will be accepted. Come join us to relax and listen to some good Christian praise music and to give praise and honor to our Lord Jesus Christ.
URL:https://thyword.media/event/night-of-praise-3/
LOCATION:Word of Life Church\, 7144 N. Russell Drive\, Bicknell\, IN\, 47512\, United States
GEO:38.7792695;-87.2953609
X-APPLE-STRUCTURED-LOCATION;VALUE=URI;X-ADDRESS=Word of Life Church 7144 N. Russell Drive Bicknell IN 47512 United States;X-APPLE-RADIUS=500;X-TITLE=7144 N. Russell Drive:geo:-87.2953609,38.7792695
END:VEVENT
BEGIN:VEVENT
DTSTART;TZID=America/Chicago:20200821T183000
DTEND;TZID=America/Chicago:20200821T183000
DTSTAMP:20260423T210105
CREATED:20200811T205117Z
LAST-MODIFIED:20200811T205156Z
UID:4024-1598034600-1598034600@thyword.media
SUMMARY:Seventh Day Slumber in Concert
DESCRIPTION:Dove Award Winning Christian Rock Band Seventh Day Slumber will be at the Community Christian Church located at 821 10th St. in Tell City. The show will be opened by Nashville Recording Artist and Tell City resident Nate Fetters. Cost is free. Music will start at 6:30. Auntie Anne’s food truck will be on location. Masks will be available for anyone who might want one. Masks recommended but not required. For more information please contact Tasha at 662-996-8877.
URL:https://thyword.media/event/seventh-day-slumber-in-concert/
LOCATION:Community Christian Church\, 821 10th St\, Tell City\, IN\, 47586\, United States
GEO:37.9531374;-86.7674385
X-APPLE-STRUCTURED-LOCATION;VALUE=URI;X-ADDRESS=Community Christian Church 821 10th St Tell City IN 47586 United States;X-APPLE-RADIUS=500;X-TITLE=821 10th St:geo:-86.7674385,37.9531374
END:VEVENT
BEGIN:VEVENT
DTSTART;TZID=America/Chicago:20200825T190000
DTEND;TZID=America/Chicago:20200825T203000
DTSTAMP:20260423T210105
CREATED:20200624T193220Z
LAST-MODIFIED:20200624T193220Z
UID:3850-1598382000-1598387400@thyword.media
SUMMARY:Grief Support Group Meeting
DESCRIPTION:The Southeastern Illinois Center for Pastoral Counseling is sponsoring a free Grief Support Group meeting to be held at the First Christian Church\, 803 N Market Street in Mt. Carmel\, IL on Tuesday\, August 25 from 7:00 p.m. to 8:30 p.m. for anyone who has experienced a loss (death of a loved one\, divorce\, long-term illness\, etc.). For more information\, their phone number is 618-262-5921 or go by our Events Page at www.thyword.org.
URL:https://thyword.media/event/grief-support-group-meeting-7/
LOCATION:First Christian Church – Mt Carmel\, 803 N Market St\, Mt Carmel\, IL\, 62863
GEO:38.4145594;-87.7638549
X-APPLE-STRUCTURED-LOCATION;VALUE=URI;X-ADDRESS=First Christian Church – Mt Carmel 803 N Market St Mt Carmel IL 62863;X-APPLE-RADIUS=500;X-TITLE=803 N Market St:geo:-87.7638549,38.4145594
END:VEVENT
END:VCALENDAR