BEGIN:VCALENDAR
VERSION:2.0
PRODID:-//Thy Word Network - ECPv6.15.20//NONSGML v1.0//EN
CALSCALE:GREGORIAN
METHOD:PUBLISH
X-ORIGINAL-URL:https://thyword.media
X-WR-CALDESC:Events for Thy Word Network
REFRESH-INTERVAL;VALUE=DURATION:PT1H
X-Robots-Tag:noindex
X-PUBLISHED-TTL:PT1H
BEGIN:VTIMEZONE
TZID:America/Chicago
BEGIN:DAYLIGHT
TZOFFSETFROM:-0600
TZOFFSETTO:-0500
TZNAME:CDT
DTSTART:20190310T080000
END:DAYLIGHT
BEGIN:STANDARD
TZOFFSETFROM:-0500
TZOFFSETTO:-0600
TZNAME:CST
DTSTART:20191103T070000
END:STANDARD
BEGIN:DAYLIGHT
TZOFFSETFROM:-0600
TZOFFSETTO:-0500
TZNAME:CDT
DTSTART:20200308T080000
END:DAYLIGHT
BEGIN:STANDARD
TZOFFSETFROM:-0500
TZOFFSETTO:-0600
TZNAME:CST
DTSTART:20201101T070000
END:STANDARD
BEGIN:DAYLIGHT
TZOFFSETFROM:-0600
TZOFFSETTO:-0500
TZNAME:CDT
DTSTART:20210314T080000
END:DAYLIGHT
BEGIN:STANDARD
TZOFFSETFROM:-0500
TZOFFSETTO:-0600
TZNAME:CST
DTSTART:20211107T070000
END:STANDARD
END:VTIMEZONE
BEGIN:VEVENT
DTSTART;TZID=America/Chicago:20200709T180000
DTEND;TZID=America/Chicago:20200709T190000
DTSTAMP:20260423T232303
CREATED:20200624T184834Z
LAST-MODIFIED:20200624T200751Z
UID:3839-1594317600-1594321200@thyword.media
SUMMARY:Grief Support Group Meeting
DESCRIPTION:The monthly Grief Support Group Meeting: presented by the SE Illinois Pastoral Counseling Center will be held on Thursday\, July 9th from 6:00 p.m. to 7:00 p.m. at the First United Methodist Church\,100 S Church Street in Carmi\, IL. For more information their phone number is 618-382-5548 or go by the Events Page at thyword.org.
URL:https://thyword.media/event/grief-support-group-meeting-3/
LOCATION:First United Methodist Church – Carmi\, 100 S Church St\, Carmi\, IL
GEO:38.0890988;-88.1613126
X-APPLE-STRUCTURED-LOCATION;VALUE=URI;X-ADDRESS=First United Methodist Church – Carmi 100 S Church St Carmi IL;X-APPLE-RADIUS=500;X-TITLE=100 S Church St:geo:-88.1613126,38.0890988
END:VEVENT
BEGIN:VEVENT
DTSTART;TZID=America/Chicago:20200711T100000
DTEND;TZID=America/Chicago:20200711T140000
DTSTAMP:20260423T232303
CREATED:20200630T162736Z
LAST-MODIFIED:20200630T162736Z
UID:3876-1594461600-1594476000@thyword.media
SUMMARY:Redeeming Grace Center for Women's Ministries Open House
DESCRIPTION:Redeeming Grace Center for Women’s Ministries will hold an Open House on Saturday July11th from 10:00 AM to 2:00 PM. The Center is located at 300 Williams Street in Loogootee\, IN. For more information on Redeeming Grace Center for Women’s Ministries and their services please go to www.cwmhope.org or call 812-709-2397.
URL:https://thyword.media/event/redeeming-grace-center-for-womens-ministries-open-house/
LOCATION:Redeeming Grace CWM\, 300 Williams Street\, Loogootee\, IN\, 47553\, United States
GEO:38.683185;-86.9167669
X-APPLE-STRUCTURED-LOCATION;VALUE=URI;X-ADDRESS=Redeeming Grace CWM 300 Williams Street Loogootee IN 47553 United States;X-APPLE-RADIUS=500;X-TITLE=300 Williams Street:geo:-86.9167669,38.683185
END:VEVENT
BEGIN:VEVENT
DTSTART;TZID=America/Chicago:20200714T190000
DTEND;TZID=America/Chicago:20200714T203000
DTSTAMP:20260423T232303
CREATED:20200624T195551Z
LAST-MODIFIED:20200624T195551Z
UID:3856-1594753200-1594758600@thyword.media
SUMMARY:Overcoming Anxiety Group Meeting
DESCRIPTION:A free Overcoming Anxiety Support Group meeting will be held at the First Christian Church\, 8th & Market Streets in Mt. Carmel\, IL on Tuesday\, July 14th from 7:00 p.m. to 8:30 p.m. for anyone who has experienced anxiety\, worry\, fear\, dread or panic. For more information\, their phone number is 618-262-5921 or go by our Events Page at www.thyword.org.
URL:https://thyword.media/event/overcoming-anxiety-group-meeting/
LOCATION:IL
END:VEVENT
BEGIN:VEVENT
DTSTART;TZID=America/Chicago:20200717T200000
DTEND;TZID=America/Chicago:20200717T200000
DTSTAMP:20260423T232303
CREATED:20200630T161424Z
LAST-MODIFIED:20200630T161459Z
UID:3872-1595016000-1595016000@thyword.media
SUMMARY:Free Family Movie Night
DESCRIPTION:There will be a free family movie night\, featuring Toy Story 4\, at Mt. Pleasant Church located in Evansville\, IN at 8900 Baumgart Road. This will begin at dusk. Free hotdogs and drinks and be sure to bring your lawn chairs. For more information please contact Brenda at 812-453-1057 or go to www.mpcevv.com.
URL:https://thyword.media/event/free-family-movie-night/
LOCATION:Mount Pleasant Church\, 8900 Baumgart Road\, Evansville\, IN\, 47725\, United States
GEO:38.0588188;-87.5422363
X-APPLE-STRUCTURED-LOCATION;VALUE=URI;X-ADDRESS=Mount Pleasant Church 8900 Baumgart Road Evansville IN 47725 United States;X-APPLE-RADIUS=500;X-TITLE=8900 Baumgart Road:geo:-87.5422363,38.0588188
END:VEVENT
BEGIN:VEVENT
DTSTART;TZID=America/Chicago:20200723T173000
DTEND;TZID=America/Chicago:20200723T183000
DTSTAMP:20260423T232303
CREATED:20200228T144901Z
LAST-MODIFIED:20200630T161900Z
UID:3631-1595525400-1595529000@thyword.media
SUMMARY:Gift of Life Banquet
DESCRIPTION:“The Pregnancy Care center of Washington is holding their “Gift of Life” banquet on July 23rd\, 2020 at 6:30 P.M. at the Simon Graber complex in Cannelburg.  Doors will open at 5:30. Angela Minter from Louisville will be the keynote speaker.  Angela is the Director of Sisters of Life. The meal will be catered by Wittmer’s Catering.  Please call the office at (812) 257-1041 if you want to  purchase tickets.  Tickets are $15 for individuals and $25 for couples. Tickets can be picked up at our office at 705 Troy Road in Washington or you can send a check and the tickets will be  mailed to you. \n You can also go onto the center's\nwebsite at http://www.pccwashingtonin.com/ to purchase tickets by pressing\nthe donate button.  If you use the website please note that the donation is\nfor the banquet. \n\nIf you desire to pay for your tickets at the door please let the center know\nwhen you call. Tickets will be held in your name. Please come join us for a\nspecial evening and for a good cause.  If you plan on calling\, the center is\nopen from 9 until 6 P.M on Monday and Wednesday and from 9 until 4 P.M. on\nTuesday and Thursday.  The center is closed for lunch from noon to 1 P.M.\neach day."\n 
URL:https://thyword.media/event/gift-of-life-banquet-2/
LOCATION:Simon Graber Complex\, 9164 E 875 N\, Odon\, Indiana\, 47562\, United States
GEO:38.786107;-86.994881
X-APPLE-STRUCTURED-LOCATION;VALUE=URI;X-ADDRESS=Simon Graber Complex 9164 E 875 N Odon Indiana 47562 United States;X-APPLE-RADIUS=500;X-TITLE=9164 E 875 N:geo:-86.994881,38.786107
END:VEVENT
BEGIN:VEVENT
DTSTART;TZID=America/Chicago:20200726T100000
DTEND;TZID=America/Chicago:20200726T230000
DTSTAMP:20260423T232303
CREATED:20200724T132035Z
LAST-MODIFIED:20200724T132035Z
UID:3946-1595757600-1595804400@thyword.media
SUMMARY:Conquerors Quartet to Sing at Liberty Baptist Church
DESCRIPTION:The Conquerors Quartet will be singing at the Liberty Baptist Church at 10 Am CDT on Sunday. The church is located at 1261 State Roue 818 in Princeton\, KY.
URL:https://thyword.media/event/conquerors-quartet-to-sing-at-liberty-baptist-church/
LOCATION:Liberty Baptist CHurch\, 1261 State Route 818\, Princeton\, KY\, United States
GEO:37.0868129;-88.0070703
X-APPLE-STRUCTURED-LOCATION;VALUE=URI;X-ADDRESS=Liberty Baptist CHurch 1261 State Route 818 Princeton KY United States;X-APPLE-RADIUS=500;X-TITLE=1261 State Route 818:geo:-88.0070703,37.0868129
END:VEVENT
BEGIN:VEVENT
DTSTART;TZID=America/Chicago:20200728T190000
DTEND;TZID=America/Chicago:20200728T203000
DTSTAMP:20260423T232303
CREATED:20200624T190751Z
LAST-MODIFIED:20200624T190751Z
UID:3848-1595962800-1595968200@thyword.media
SUMMARY:Grief Support Group Meeting
DESCRIPTION:The Southeastern Illinois Center for Pastoral Counseling is sponsoring a free Grief Support Group meeting to be held at the First Christian Church\, 803 N Market Street in Mt. Carmel\, IL on Tuesday\, July 28th from 7:00 p.m. to 8:30 p.m. for anyone who has experienced a loss (death of a loved one\, divorce\, long-term illness\, etc.). For more information\, their phone number is 618-262-5921 or go by our Events Page at www.thyword.org.
URL:https://thyword.media/event/grief-support-group-meeting-6/
LOCATION:First Christian Church – Mt Carmel\, 803 N Market St\, Mt Carmel\, IL\, 62863
GEO:38.4145594;-87.7638549
X-APPLE-STRUCTURED-LOCATION;VALUE=URI;X-ADDRESS=First Christian Church – Mt Carmel 803 N Market St Mt Carmel IL 62863;X-APPLE-RADIUS=500;X-TITLE=803 N Market St:geo:-87.7638549,38.4145594
END:VEVENT
BEGIN:VEVENT
DTSTART;TZID=America/Chicago:20200731T180000
DTEND;TZID=America/Chicago:20200801T120000
DTSTAMP:20260423T232303
CREATED:20200630T181944Z
LAST-MODIFIED:20200630T181944Z
UID:3879-1596218400-1596283200@thyword.media
SUMMARY:Promise Keepers Simulcast
DESCRIPTION:Promise Keepers will hold a simulcast conference at various local churches on Friday July 31st\, 6PM to 9PM CST and Saturday August 1st\, 9 AM to 12PM CST. The local representative is Bob Stone and he can be reached at 812-568-5534. If you are interested in attending this event please go to : \nhttps://promisekeepersevent.com/simulcast/ \nThis event is free but donations are accepted.
URL:https://thyword.media/event/promise-keepers-simulcast/
LOCATION:IL
END:VEVENT
END:VCALENDAR