BEGIN:VCALENDAR
VERSION:2.0
PRODID:-//Thy Word Network - ECPv6.15.20//NONSGML v1.0//EN
CALSCALE:GREGORIAN
METHOD:PUBLISH
X-ORIGINAL-URL:https://thyword.media
X-WR-CALDESC:Events for Thy Word Network
REFRESH-INTERVAL;VALUE=DURATION:PT1H
X-Robots-Tag:noindex
X-PUBLISHED-TTL:PT1H
BEGIN:VTIMEZONE
TZID:America/Chicago
BEGIN:DAYLIGHT
TZOFFSETFROM:-0600
TZOFFSETTO:-0500
TZNAME:CDT
DTSTART:20190310T080000
END:DAYLIGHT
BEGIN:STANDARD
TZOFFSETFROM:-0500
TZOFFSETTO:-0600
TZNAME:CST
DTSTART:20191103T070000
END:STANDARD
BEGIN:DAYLIGHT
TZOFFSETFROM:-0600
TZOFFSETTO:-0500
TZNAME:CDT
DTSTART:20200308T080000
END:DAYLIGHT
BEGIN:STANDARD
TZOFFSETFROM:-0500
TZOFFSETTO:-0600
TZNAME:CST
DTSTART:20201101T070000
END:STANDARD
BEGIN:DAYLIGHT
TZOFFSETFROM:-0600
TZOFFSETTO:-0500
TZNAME:CDT
DTSTART:20210314T080000
END:DAYLIGHT
BEGIN:STANDARD
TZOFFSETFROM:-0500
TZOFFSETTO:-0600
TZNAME:CST
DTSTART:20211107T070000
END:STANDARD
END:VTIMEZONE
BEGIN:VEVENT
DTSTART;TZID=America/Chicago:20200609T190000
DTEND;TZID=America/Chicago:20200609T203000
DTSTAMP:20260424T014836
CREATED:20200324T181245Z
LAST-MODIFIED:20200324T181245Z
UID:3723-1591729200-1591734600@thyword.media
SUMMARY:Overcoming Anxiety Support Group
DESCRIPTION:A free Overcoming Anxiety Support Group meeting will be held at the First Christian Church\, 8th & Market Streets in Mt. Carmel\, IL on Tuesday\, June 9th from 7:00 p.m. to 8:30 p.m. for anyone who has experienced anxiety\, worry\, fear\, dread or panic. For more information\, their phone number is 618-262-5921 or go by www.freewebs.com/sicpc2006..
URL:https://thyword.media/event/overcoming-anxiety-support-group-3/
LOCATION:IL
END:VEVENT
BEGIN:VEVENT
DTSTART;TZID=America/Chicago:20200611T180000
DTEND;TZID=America/Chicago:20200611T190000
DTSTAMP:20260424T014836
CREATED:20200324T172535Z
LAST-MODIFIED:20200324T181657Z
UID:3715-1591898400-1591902000@thyword.media
SUMMARY:Grief Support Group
DESCRIPTION:The monthly Grief Support Group Meeting: presented by the SE Illinois Pastoral Counseling Center will be held on Thursday\, June 11th from 6:00 p.m. to 7:00 p.m. at the First United Methodist Church\,100 S Church Street in Carmi\, IL. For more information their phone number is 618-382-5548 or visit www.freewebs.com/sicpc2006.
URL:https://thyword.media/event/grief-support-group-17/
LOCATION:First United Methodist Church – Carmi\, 100 S Church St\, Carmi\, IL
GEO:38.0890988;-88.1613126
X-APPLE-STRUCTURED-LOCATION;VALUE=URI;X-ADDRESS=First United Methodist Church – Carmi 100 S Church St Carmi IL;X-APPLE-RADIUS=500;X-TITLE=100 S Church St:geo:-88.1613126,38.0890988
END:VEVENT
BEGIN:VEVENT
DTSTART;TZID=America/Chicago:20200612T190000
DTEND;TZID=America/Chicago:20200612T190000
DTSTAMP:20260424T014836
CREATED:20200423T191602Z
LAST-MODIFIED:20200423T191602Z
UID:3752-1591988400-1591988400@thyword.media
SUMMARY:Night of Praise
DESCRIPTION:On Friday June the 12th the Pregnancy Care Center of Washington will be having a free”Night of Praise” at the Harvest Community Fellowship Church located at 200 W Main Street in Washington\, IN\, starting at 7:00 PM- 8:30 PM. Please bring lawn chairs\, if it rains event will be moved inside the church. For more information please contact Denny Smith at 812-257-1041.
URL:https://thyword.media/event/night-of-praise-2/
LOCATION:Harvest Community Fellowship Church\, 200 W Main St\, Washington\, IN\, 47501
GEO:38.6572345;-87.1779104
X-APPLE-STRUCTURED-LOCATION;VALUE=URI;X-ADDRESS=Harvest Community Fellowship Church 200 W Main St Washington IN 47501;X-APPLE-RADIUS=500;X-TITLE=200 W Main St:geo:-87.1779104,38.6572345
END:VEVENT
BEGIN:VEVENT
DTSTART;TZID=America/Chicago:20200619T203000
DTEND;TZID=America/Chicago:20200619T203000
DTSTAMP:20260424T014836
CREATED:20200616T163252Z
LAST-MODIFIED:20200616T163252Z
UID:3831-1592598600-1592598600@thyword.media
SUMMARY:Free outdoor family movie
DESCRIPTION:There will be a free family outdoor movie starting at dusk. Frozen 2 with free popcorn\, hotdogs and drinks at Mount Pleasant Church parking lot located at 8900 Baumgart Road in Evansville\, IN. Bring lawn chairs.  more information please go to www.mpcevv.com.
URL:https://thyword.media/event/free-outdoor-family-movie/
LOCATION:Mount Pleasant Church\, 8900 Baumgart Road\, Evansville\, IN\, 47725\, United States
GEO:38.0588188;-87.5422363
X-APPLE-STRUCTURED-LOCATION;VALUE=URI;X-ADDRESS=Mount Pleasant Church 8900 Baumgart Road Evansville IN 47725 United States;X-APPLE-RADIUS=500;X-TITLE=8900 Baumgart Road:geo:-87.5422363,38.0588188
END:VEVENT
BEGIN:VEVENT
DTSTART;TZID=America/Chicago:20200623T190000
DTEND;TZID=America/Chicago:20200623T203000
DTSTAMP:20260424T014836
CREATED:20200324T184555Z
LAST-MODIFIED:20200324T184555Z
UID:3732-1592938800-1592944200@thyword.media
SUMMARY:Grief Support Group
DESCRIPTION:The Southeastern Illinois Center for Pastoral Counseling is sponsoring a free Grief Support Group meeting to be held at the First Christian Church\, 803 N Market Street in Mt. Carmel\, IL on Tuesday\, June 23rd from 7:00 p.m. to 8:30 p.m. for anyone who has experienced a loss (death of a loved one\, divorce\, long-term illness\, etc.). For more information\, their phone number is 618-262-5921 or go by www.freewebs.com/sicpc2006.
URL:https://thyword.media/event/grief-support-group-21/
LOCATION:IL
END:VEVENT
BEGIN:VEVENT
DTSTART;TZID=America/Chicago:20200627T090000
DTEND;TZID=America/Chicago:20200627T090000
DTSTAMP:20260424T014836
CREATED:20200514T181025Z
LAST-MODIFIED:20200514T181025Z
UID:3809-1593248400-1593248400@thyword.media
SUMMARY:Pregnancy Care Center 5 K Life Walk
DESCRIPTION:"The Pregnancy Care Center of Washington will be having a 5K Life walk on\nSaturday June 27th.  The walk begins at 9:00 A.M. with registration opening\nat 8:15 A.M. The Walk starts and ends at the Eastside Park Kiwanis Cabin in\nWashington. Cost to benefit the center is $20 per adult and $10 for children\n12 and under.\n\nRegistration forms are available online at Facebook.com/washpcc\, and at the\nPregnancy Care Center\, 705 Troy Road\, Washington. Phone (812) 257-1041 if\nyou have any questions.\n\nIf you are unable to walk you can sponsor someone else who would like to\nwalk. Walkers are encouraged to seek out sponsors. Walkers can have multiple\nsponsors.  Sponsors can donate any amount they desire to help the center.\nForms are available to list sponsors and their donation amount."
URL:https://thyword.media/event/pregnancy-care-center-5-k-life-walk/
LOCATION:East Side Park\, Washington\, IN
END:VEVENT
BEGIN:VEVENT
DTSTART;TZID=America/Chicago:20200627T090000
DTEND;TZID=America/Chicago:20200627T160000
DTSTAMP:20260424T014836
CREATED:20200504T190250Z
LAST-MODIFIED:20200504T190250Z
UID:3799-1593248400-1593273600@thyword.media
SUMMARY:Sonrise Bike Show and Craft/Vendor Show
DESCRIPTION:The Sonrise Bike Show and Craft/Vendor Event will be held on June 27th from 9AM to 4PM at the Glezen Revival Center located at 245 S Glezen Center Street in Petersburg\, IN. This is a ministry fundraiser\, concessions available and live emcee and silent auction. For more information contact Rae Ann Brock at 8123544812. \nJust Some of the booths include:\nBake Sale\nRoad Riders For Jesus Motorcycle Ministry\nJohn’s Classic Lures\nHand Crafted Wooden Flags\nPink Zebra\nPaparazzi Jewelry\nThirty One Gifts\nLipSense\nQuilted Items\nInfinite Charm\nLady Leika Tumblers\nColor Street\nReddy Made Earrings\nSaveOne Ministry\nLuLaRoe\nXyngular\nWood Burning\nWood Signs/Wreaths\nJesus is Key LLC\nIt Works\nMary Kay & Monat Hair Products\nNorwex\nHalos Boutique\nTastefully Simple\nPatch sewing \n 
URL:https://thyword.media/event/sonrise-bike-show-and-craft-vendor-show/
LOCATION:Glezen Revival Center\, 245 S Glezen Center St.\, Petersburg\, IN\, 47567
GEO:38.418096;-87.300785
X-APPLE-STRUCTURED-LOCATION;VALUE=URI;X-ADDRESS=Glezen Revival Center 245 S Glezen Center St. Petersburg IN 47567;X-APPLE-RADIUS=500;X-TITLE=245 S Glezen Center St.:geo:-87.300785,38.418096
END:VEVENT
END:VCALENDAR