BEGIN:VCALENDAR
VERSION:2.0
PRODID:-//Thy Word Network - ECPv6.15.20//NONSGML v1.0//EN
CALSCALE:GREGORIAN
METHOD:PUBLISH
X-ORIGINAL-URL:https://thyword.media
X-WR-CALDESC:Events for Thy Word Network
REFRESH-INTERVAL;VALUE=DURATION:PT1H
X-Robots-Tag:noindex
X-PUBLISHED-TTL:PT1H
BEGIN:VTIMEZONE
TZID:America/Chicago
BEGIN:DAYLIGHT
TZOFFSETFROM:-0600
TZOFFSETTO:-0500
TZNAME:CDT
DTSTART:20190310T080000
END:DAYLIGHT
BEGIN:STANDARD
TZOFFSETFROM:-0500
TZOFFSETTO:-0600
TZNAME:CST
DTSTART:20191103T070000
END:STANDARD
BEGIN:DAYLIGHT
TZOFFSETFROM:-0600
TZOFFSETTO:-0500
TZNAME:CDT
DTSTART:20200308T080000
END:DAYLIGHT
BEGIN:STANDARD
TZOFFSETFROM:-0500
TZOFFSETTO:-0600
TZNAME:CST
DTSTART:20201101T070000
END:STANDARD
BEGIN:DAYLIGHT
TZOFFSETFROM:-0600
TZOFFSETTO:-0500
TZNAME:CDT
DTSTART:20210314T080000
END:DAYLIGHT
BEGIN:STANDARD
TZOFFSETFROM:-0500
TZOFFSETTO:-0600
TZNAME:CST
DTSTART:20211107T070000
END:STANDARD
END:VTIMEZONE
BEGIN:VEVENT
DTSTART;TZID=America/Chicago:20200510T110000
DTEND;TZID=America/Chicago:20200510T110000
DTSTAMP:20260424T015437
CREATED:20200428T172702Z
LAST-MODIFIED:20200428T172702Z
UID:3760-1589108400-1589108400@thyword.media
SUMMARY:Drive in Mother's Day Service
DESCRIPTION:The Shoals Church of the Cross located at 9976 Mill Road in Shoals\, IN will hold a drive in Mother’s Day service starting at 11:00 AM. Social Distancing will apply and FM radio will be used for the service. For more information please call 812-709-1658.
URL:https://thyword.media/event/drive-in-mothers-day-service/
LOCATION:Shoals Church of the Cross\, 9976 Mill Road\, Shoals\, IN\, 47581\, United States
ORGANIZER;CN="":MAILTO:gina.hertel@thyword.org
GEO:38.6366351;-86.7379245
X-APPLE-STRUCTURED-LOCATION;VALUE=URI;X-ADDRESS=Shoals Church of the Cross 9976 Mill Road Shoals IN 47581 United States;X-APPLE-RADIUS=500;X-TITLE=9976 Mill Road:geo:-86.7379245,38.6366351
END:VEVENT
BEGIN:VEVENT
DTSTART;TZID=America/Chicago:20200512T190000
DTEND;TZID=America/Chicago:20200512T203000
DTSTAMP:20260424T015437
CREATED:20200324T180920Z
LAST-MODIFIED:20200324T180920Z
UID:3721-1589310000-1589315400@thyword.media
SUMMARY:Overcoming Anxiety Support Group
DESCRIPTION:A free Overcoming Anxiety Support Group meeting will be held at the First Christian Church\, 8th & Market Streets in Mt. Carmel\, IL on Tuesday\, May 12th from 7:00 p.m. to 8:30 p.m. for anyone who has experienced anxiety\, worry\, fear\, dread or panic. For more information\, their phone number is 618-262-5921 or go to www.freewebs.com/sicpc2006
URL:https://thyword.media/event/overcoming-anxiety-support-group-2/
LOCATION:First Christian Church – Mt Carmel\, 803 N Market St\, Mt Carmel\, IL\, 62863
GEO:38.4145594;-87.7638549
X-APPLE-STRUCTURED-LOCATION;VALUE=URI;X-ADDRESS=First Christian Church – Mt Carmel 803 N Market St Mt Carmel IL 62863;X-APPLE-RADIUS=500;X-TITLE=803 N Market St:geo:-87.7638549,38.4145594
END:VEVENT
BEGIN:VEVENT
DTSTART;TZID=America/Chicago:20200514T190000
DTEND;TZID=America/Chicago:20200514T200000
DTSTAMP:20260424T015437
CREATED:20200324T164624Z
LAST-MODIFIED:20200324T164624Z
UID:3713-1589482800-1589486400@thyword.media
SUMMARY:Grief Support Group
DESCRIPTION:The monthly Grief Support Group Meeting: presented by the SE Illinois Pastoral Counseling Center will be held on Thursday\, May 14th from 6:00 p.m. to 7:00 p.m. at the First United Methodist Church\,100 S Church Street in Carmi\, IL. For more information their phone number is 618-382-5548 or visit www.freewebs.com/sicpc2006.
URL:https://thyword.media/event/grief-support-group-16/
LOCATION:First United Methodist Church – Carmi\, 100 S Church St\, Carmi\, IL
GEO:38.0890988;-88.1613126
X-APPLE-STRUCTURED-LOCATION;VALUE=URI;X-ADDRESS=First United Methodist Church – Carmi 100 S Church St Carmi IL;X-APPLE-RADIUS=500;X-TITLE=100 S Church St:geo:-88.1613126,38.0890988
END:VEVENT
BEGIN:VEVENT
DTSTART;TZID=America/Chicago:20200526T190000
DTEND;TZID=America/Chicago:20200526T203000
DTSTAMP:20260424T015437
CREATED:20200324T184416Z
LAST-MODIFIED:20200324T184416Z
UID:3730-1590519600-1590525000@thyword.media
SUMMARY:Grief Support Group
DESCRIPTION:The Southeastern Illinois Center for Pastoral Counseling is sponsoring a free Grief Support Group meeting to be held at the First Christian Church\, 803 N Market Street in Mt. Carmel\, IL on Tuesday\, May 26th from 7:00 p.m. to 8:30 p.m. for anyone who has experienced a loss (death of a loved one\, divorce\, long-term illness\, etc.). For more information\, their phone number is 618-262-5921 or go by www.freewebs.com/sicpc2006.
URL:https://thyword.media/event/grief-support-group-20/
LOCATION:First Christian Church – Mt Carmel\, 803 N Market St\, Mt Carmel\, IL\, 62863
GEO:38.4145594;-87.7638549
X-APPLE-STRUCTURED-LOCATION;VALUE=URI;X-ADDRESS=First Christian Church – Mt Carmel 803 N Market St Mt Carmel IL 62863;X-APPLE-RADIUS=500;X-TITLE=803 N Market St:geo:-87.7638549,38.4145594
END:VEVENT
END:VCALENDAR