BEGIN:VCALENDAR
VERSION:2.0
PRODID:-//Thy Word Network - ECPv6.15.20//NONSGML v1.0//EN
CALSCALE:GREGORIAN
METHOD:PUBLISH
X-ORIGINAL-URL:https://thyword.media
X-WR-CALDESC:Events for Thy Word Network
REFRESH-INTERVAL;VALUE=DURATION:PT1H
X-Robots-Tag:noindex
X-PUBLISHED-TTL:PT1H
BEGIN:VTIMEZONE
TZID:America/Chicago
BEGIN:DAYLIGHT
TZOFFSETFROM:-0600
TZOFFSETTO:-0500
TZNAME:CDT
DTSTART:20190310T080000
END:DAYLIGHT
BEGIN:STANDARD
TZOFFSETFROM:-0500
TZOFFSETTO:-0600
TZNAME:CST
DTSTART:20191103T070000
END:STANDARD
BEGIN:DAYLIGHT
TZOFFSETFROM:-0600
TZOFFSETTO:-0500
TZNAME:CDT
DTSTART:20200308T080000
END:DAYLIGHT
BEGIN:STANDARD
TZOFFSETFROM:-0500
TZOFFSETTO:-0600
TZNAME:CST
DTSTART:20201101T070000
END:STANDARD
BEGIN:DAYLIGHT
TZOFFSETFROM:-0600
TZOFFSETTO:-0500
TZNAME:CDT
DTSTART:20210314T080000
END:DAYLIGHT
BEGIN:STANDARD
TZOFFSETFROM:-0500
TZOFFSETTO:-0600
TZNAME:CST
DTSTART:20211107T070000
END:STANDARD
END:VTIMEZONE
BEGIN:VEVENT
DTSTART;TZID=America/Chicago:20200402T180000
DTEND;TZID=America/Chicago:20200402T203000
DTSTAMP:20260424T043949
CREATED:20200313T141355Z
LAST-MODIFIED:20200313T141355Z
UID:3670-1585850400-1585859400@thyword.media
SUMMARY:Movie Premiere "The Library That Dolly Built" and Art Auction
DESCRIPTION:On April 2nd at 7:00PM the Foundry Center for the Arts theatre located at 8255 Bell Oaks Drive in Newburgh\, will feature the premiere of the documentary The Library that Dolly Built. Prior to the movie premiere\, the Foundry will host an art auction from 6-7PM. All proceeds will benefit The Warrick Literacy and Educational Connections and The Foundry Center for the Arts. Attendance for both events on April 2nd are free. Movie seating is limited. Register for free at foundryarts.org! For more information please call 812-858-3082.
URL:https://thyword.media/event/movie-premiere-the-library-that-dolly-built-and-art-auction/
LOCATION:The Foundry Center for the Arts\, 8255 Bell Oaks Drive\, Newburgh\, IN\, 47630\, United States
GEO:37.9751068;-87.3999478
X-APPLE-STRUCTURED-LOCATION;VALUE=URI;X-ADDRESS=The Foundry Center for the Arts 8255 Bell Oaks Drive Newburgh IN 47630 United States;X-APPLE-RADIUS=500;X-TITLE=8255 Bell Oaks Drive:geo:-87.3999478,37.9751068
END:VEVENT
BEGIN:VEVENT
DTSTART;TZID=America/Chicago:20200403T183000
DTEND;TZID=America/Chicago:20200404T183000
DTSTAMP:20260424T043949
CREATED:20200221T210715Z
LAST-MODIFIED:20200221T210715Z
UID:3619-1585938600-1586025000@thyword.media
SUMMARY:Dream With 2020 Vision Young Ladies' and Women's Conferences
DESCRIPTION:April 3rd @ 6:30PM and April 4th 12:00PM Ivy Tech Community College will be hosting a Dream With 2020 Vision Young Ladies’ and Women’s Conference. This Conference is aimed at helping young ladies and women discover\, recapture\, or pursue their dreams and goals. It is a 2-day event. There will be speakers\, singing\, dancing\, food\, fun\, and prizes. Admission is free. Registration is not needed. Ages are from 13 and up. The event takes place in the Vectren Auditorium on the Ivy Tech campus in Evansville\, IN. Questions can contact Erica Johnson @ (812) 760-1787.
URL:https://thyword.media/event/dream-with-2020-vision-young-ladies-and-womens-conferences/
LOCATION:Ivy Tech Community College\, 3501 North First Avenue\, Evansville\, IN\, 47708-1200\, United States
GEO:38.0098167;-87.57374
X-APPLE-STRUCTURED-LOCATION;VALUE=URI;X-ADDRESS=Ivy Tech Community College 3501 North First Avenue Evansville IN 47708-1200 United States;X-APPLE-RADIUS=500;X-TITLE=3501 North First Avenue:geo:-87.57374,38.0098167
END:VEVENT
BEGIN:VEVENT
DTSTART;TZID=America/Chicago:20200409T180000
DTEND;TZID=America/Chicago:20200409T190000
DTSTAMP:20260424T043949
CREATED:20200324T163529Z
LAST-MODIFIED:20200324T163529Z
UID:3711-1586455200-1586458800@thyword.media
SUMMARY:Grief Support Group
DESCRIPTION:The monthly Grief Support Group Meeting: presented by the SE Illinois Pastoral Counseling Center will be held on Thursday\, April 9th from 6:00 p.m. to 7:00 p.m. at the First United Methodist Church\,100 S Church Street in Carmi\, IL. For more information their phone number is 618-382-5548 or visit www.freewebs.com/sicpc2006.
URL:https://thyword.media/event/grief-support-group-15/
LOCATION:First United Methodist Church – Carmi\, 100 S Church St\, Carmi\, IL
GEO:38.0890988;-88.1613126
X-APPLE-STRUCTURED-LOCATION;VALUE=URI;X-ADDRESS=First United Methodist Church – Carmi 100 S Church St Carmi IL;X-APPLE-RADIUS=500;X-TITLE=100 S Church St:geo:-88.1613126,38.0890988
END:VEVENT
BEGIN:VEVENT
DTSTART;TZID=America/Chicago:20200411T170000
DTEND;TZID=America/Chicago:20200411T170000
DTSTAMP:20260424T043949
CREATED:20200129T182157Z
LAST-MODIFIED:20200129T182157Z
UID:3548-1586624400-1586624400@thyword.media
SUMMARY:Jay Shidler the Blonde Bomber
DESCRIPTION:Enjoy an evening with the “Blonde Bomber\,” JAY SHIDLER on Saturday\, April 11th at Edwards County High School Gym in Albion.  Jay will be sharing many basketball stories about his storied career with Lawrenceville\, where he won a State Championship and was selected Mr. Basketball in Illinois\, as well as his career at Kentucky\, where he won a National Championship.  Jay will also share his Faith\, and discuss the importance of being a good teammate and a positive person and role model. Doors will open at 5pm and dinner will begin around 5:30pm along with music by the Judah First Band of Mt. Vernon\, IL. Dinner will be catered by Jason Laws- Super Seven Sandwich Shoppe in Albion. Jay will be interviewed live in a casual setting on stage\, followed by an open Q&A with the audience.  He will also be available for pictures\, and Jay will be happy to sign your Kentucky Wildcat memorabilia. Tickets are $20.00 each for the speaker and dinner.. Group Ticket discounts ($15.00 each including speaker and dinner) are available for FCA groups or other organizations of ten people or more including area basketball teams. Those interested in SPEAKER ONLY tickets will be $12.00 each and those holding these tickets will be allowed to enter the gym following the dinner at approximately 6:30pm.  Proceeds from the event will help fund a new program at The Hope Center in Albion for infants and children. For more information\, call 618-599-8698 OR email at detours2destinyproductions@gmail.com.  Tickets are available online at goodconcerts.com OR can also be purchased at the following locations….. \nIn Fairfield: \nFairfield National Bank \nDoug Aman-State Farm Insurance \nFairfield Banking Company \nCarter Turf & Tractor \nIn Albion: \nDoug Hortin-Country Financial Insurance \nCitizens National Bank
URL:https://thyword.media/event/jay-shidler-the-blonde-bomber/
LOCATION:Edwards County High Schol Gym\, 361 W Main Street\, Albion\, IL\, 62806
GEO:38.3762548;-88.0676301
X-APPLE-STRUCTURED-LOCATION;VALUE=URI;X-ADDRESS=Edwards County High Schol Gym 361 W Main Street Albion IL 62806;X-APPLE-RADIUS=500;X-TITLE=361 W Main Street:geo:-88.0676301,38.3762548
END:VEVENT
BEGIN:VEVENT
DTSTART;TZID=America/Chicago:20200414T190000
DTEND;TZID=America/Chicago:20200414T203000
DTSTAMP:20260424T043949
CREATED:20200324T175418Z
LAST-MODIFIED:20200324T180606Z
UID:3717-1586890800-1586896200@thyword.media
SUMMARY:Overcoming Anxiety Support  Group
DESCRIPTION:A free Overcoming Anxiety Support Group meeting will be held at the First Christian Church\, 8th & Market Streets in Mt. Carmel\, IL on Tuesday\, April 14th from 7:00 p.m. to 8:30 p.m. for anyone who has experienced anxiety\, worry\, fear\, dread or panic. For more information\, their phone number is 618-262-5921 or go to www.freewebs.com/sicpc2006.
URL:https://thyword.media/event/grief-support-group-18/
LOCATION:First Christian Church – Mt Carmel\, 803 N Market St\, Mt Carmel\, IL\, 62863
GEO:38.4145594;-87.7638549
X-APPLE-STRUCTURED-LOCATION;VALUE=URI;X-ADDRESS=First Christian Church – Mt Carmel 803 N Market St Mt Carmel IL 62863;X-APPLE-RADIUS=500;X-TITLE=803 N Market St:geo:-87.7638549,38.4145594
END:VEVENT
END:VCALENDAR