BEGIN:VCALENDAR
VERSION:2.0
PRODID:-//Thy Word Network - ECPv6.15.20//NONSGML v1.0//EN
CALSCALE:GREGORIAN
METHOD:PUBLISH
X-WR-CALNAME:Thy Word Network
X-ORIGINAL-URL:https://thyword.media
X-WR-CALDESC:Events for Thy Word Network
REFRESH-INTERVAL;VALUE=DURATION:PT1H
X-Robots-Tag:noindex
X-PUBLISHED-TTL:PT1H
BEGIN:VTIMEZONE
TZID:America/Chicago
BEGIN:DAYLIGHT
TZOFFSETFROM:-0600
TZOFFSETTO:-0500
TZNAME:CDT
DTSTART:20190310T080000
END:DAYLIGHT
BEGIN:STANDARD
TZOFFSETFROM:-0500
TZOFFSETTO:-0600
TZNAME:CST
DTSTART:20191103T070000
END:STANDARD
BEGIN:DAYLIGHT
TZOFFSETFROM:-0600
TZOFFSETTO:-0500
TZNAME:CDT
DTSTART:20200308T080000
END:DAYLIGHT
BEGIN:STANDARD
TZOFFSETFROM:-0500
TZOFFSETTO:-0600
TZNAME:CST
DTSTART:20201101T070000
END:STANDARD
BEGIN:DAYLIGHT
TZOFFSETFROM:-0600
TZOFFSETTO:-0500
TZNAME:CDT
DTSTART:20210314T080000
END:DAYLIGHT
BEGIN:STANDARD
TZOFFSETFROM:-0500
TZOFFSETTO:-0600
TZNAME:CST
DTSTART:20211107T070000
END:STANDARD
END:VTIMEZONE
BEGIN:VEVENT
DTSTART;TZID=America/Chicago:20200301T103000
DTEND;TZID=America/Chicago:20200301T103000
DTSTAMP:20260424T044545
CREATED:20200109T153932Z
LAST-MODIFIED:20200109T153932Z
UID:3461-1583058600-1583058600@thyword.media
SUMMARY:Spiritual Warfare Teaching
DESCRIPTION:February 28th-March 1st\, Friday evening through Sunday morning\, Grace Fellowship Church in Princeton\, IN will be hosting Dr. “Umfundisi” Jim Lo as a special guest teacher/preacher. He is an author\, speaker and professor/campus intercessor at Indiana Wesleyan University. “Umfundisi” Lo served as a Wesleyan missionary for 13 years in Southern Africa and Cambodia. As a missionary\, he was first significantly exposed to spiritual warfare. He states\, “We need to know who the enemy of our soul is… and we need to know that in Christ we need not live in fear but victory.” Please mark your calendars for this incredible opportunity to sharpen our view of reality and enhance our ability to live in spiritual victory! Please also invite other Christian friends in the community to join us for this amazing event at no cost.\nFor more information please go to www.gracefellowshipwc.com/events. \nGENERAL WEEKEND SCHEDULE:\nFRI. 6:30 PM: Introduction of Class\nSAT. 9 AM: Teaching on Spiritual Warfare\nSAT. 12 PM – 1:30 PM: Lunch Break\n**Local restaurants available\nSAT 1:30 PM – 3:30 PM: Teaching on Spiritual Warfare Part 2\nSUNDAY 10:30 AM: “Victory in Christ” Message
URL:https://thyword.media/event/spiritual-warfare-teaching-2/
LOCATION:Grace Fellowship Church\, 527 E Illinois Street\, Princeton\, IN\, 47670\, United States
GEO:38.3469001;-87.5619679
X-APPLE-STRUCTURED-LOCATION;VALUE=URI;X-ADDRESS=Grace Fellowship Church 527 E Illinois Street Princeton IN 47670 United States;X-APPLE-RADIUS=500;X-TITLE=527 E Illinois Street:geo:-87.5619679,38.3469001
END:VEVENT
BEGIN:VEVENT
DTSTART;TZID=America/Chicago:20200305T180000
DTEND;TZID=America/Chicago:20200305T200000
DTSTAMP:20260424T044545
CREATED:20200225T151935Z
LAST-MODIFIED:20200225T151935Z
UID:3624-1583431200-1583438400@thyword.media
SUMMARY:Free Community Dinner
DESCRIPTION:A free community dinner will be held at Loogootee Christian Church\, located at 206 Sherman St. in Loogootee\, on Thursday March the 5th from 6-8 PM. For more information please call 812-295-2741.
URL:https://thyword.media/event/free-community-dinner-2/
LOCATION:Loogootee Christian Church\, 206 Sherman Street\, Loogootee\, IN\, 47553
GEO:38.674136;-86.9173952
X-APPLE-STRUCTURED-LOCATION;VALUE=URI;X-ADDRESS=Loogootee Christian Church 206 Sherman Street Loogootee IN 47553;X-APPLE-RADIUS=500;X-TITLE=206 Sherman Street:geo:-86.9173952,38.674136
END:VEVENT
BEGIN:VEVENT
DTSTART;TZID=America/Chicago:20200308T103000
DTEND;TZID=America/Chicago:20200308T103000
DTSTAMP:20260424T044545
CREATED:20200214T152758Z
LAST-MODIFIED:20200214T152758Z
UID:3586-1583663400-1583663400@thyword.media
SUMMARY:Dixie Melody Boys
DESCRIPTION:The Dixie Melody Boys will be featured on Sunday\, March 8th\, at 10:30 AM\, at the Forest Hills Wesleyan Church located at 2801 Claremont Avenue in Evansville\, IN. For more information please call 812-424-2647 or go to  https://foresthillswesleyanchurch.org/.
URL:https://thyword.media/event/dixie-melody-boys/
LOCATION:Forest Hills Wesleyan Church\, 2801 Claremont Ave\, Evansville\, IN
GEO:37.9715445;-87.6089953
X-APPLE-STRUCTURED-LOCATION;VALUE=URI;X-ADDRESS=Forest Hills Wesleyan Church 2801 Claremont Ave Evansville IN;X-APPLE-RADIUS=500;X-TITLE=2801 Claremont Ave:geo:-87.6089953,37.9715445
END:VEVENT
BEGIN:VEVENT
DTSTART;TZID=America/Chicago:20200310T193000
DTEND;TZID=America/Chicago:20200310T200000
DTSTAMP:20260424T044545
CREATED:20191213T172819Z
LAST-MODIFIED:20191213T172819Z
UID:3395-1583868600-1583870400@thyword.media
SUMMARY:Anxiety Support Group
DESCRIPTION:A free Overcoming Anxiety Support Group meeting will be held at the First Christian Church\, 8th & Market Streets in Mt. Carmel\, IL on Tuesday\, March 10th  from 7:00 p.m. to 8:30 p.m. for anyone who has experienced anxiety\, worry\, fear\, dread or panic.  For more information\, their phone number is 618-262-5921 or go by www.freewebs.com/sicpc2006.
URL:https://thyword.media/event/anxiety-support-group-6/
LOCATION:First Christian Church – Mt Carmel\, 803 N Market St\, Mt Carmel\, IL\, 62863
GEO:38.4145594;-87.7638549
X-APPLE-STRUCTURED-LOCATION;VALUE=URI;X-ADDRESS=First Christian Church – Mt Carmel 803 N Market St Mt Carmel IL 62863;X-APPLE-RADIUS=500;X-TITLE=803 N Market St:geo:-87.7638549,38.4145594
END:VEVENT
BEGIN:VEVENT
DTSTART;TZID=America/Chicago:20200311T090000
DTEND;TZID=America/Chicago:20200311T133000
DTSTAMP:20260424T044545
CREATED:20200124T211445Z
LAST-MODIFIED:20200124T211445Z
UID:3528-1583917200-1583933400@thyword.media
SUMMARY:Ignite IT! Creativity Forum
DESCRIPTION:The Children’s Museum of Evansville (cMoe) will host its annual Ignite It! Creativity Forum\, with special guest speaker Jason Kotecki\, on Wednesday\, March 11th. The Ignite It! Creativity Forum brings together community and business leaders each year for an energetic professional development workshop & luncheon feature motivating stories and strategies to cultivate creativity\, innovation\, and fun.\nJason Kotecki is an expert at helping people “Escape Adulthood\,” in order to restore balance\, beat burnout\, and become more innovative by breaking rules that don’t exist. Jason uses his extraordinary artistic gifts\, combined with humor and memorable storytelling\, to spark intentional thinking that leads people to become more passionate and productive.\nThe Ignite It! Creativity Forum will consist of two separate sessions:\n Professional Development – “Lemonade Stand 2.0: Secrets from Childhood for Succeeding in Business & Life” from 9:00 am to 11:30 am at the Children’s Museum of Evansville. The cost to attend both the luncheon and professional development workshop is $250.\n Luncheon – Keynote by Jason Kotecki “Curing Adultitis: Living and Working With Less Stress and More Success” from 12:00 pm to 1:15 pm at Old National Events Plaza. The cost to attend the luncheon is $50.\nProceeds from this event benefit The Children’s Museum of Evansville\, one of the most unique\, educational\, and cultural resources for children & families.\nRegistration is open at www.cMoekids.org or by calling (812) 464-2663 ext. 225.\nIgnite It! Creativity Forum is sponsored by Heritage Federal Credit Union and Vectren\, A CenterPoint Energy Company.
URL:https://thyword.media/event/ignite-it-creativity-forum/
LOCATION:Children’s Musuem of Evansville\, 22 S.E. 5th Street\, Evansville\, IN\, 47708\, United States
GEO:37.971602;-87.5692847
X-APPLE-STRUCTURED-LOCATION;VALUE=URI;X-ADDRESS=Children’s Musuem of Evansville 22 S.E. 5th Street Evansville IN 47708 United States;X-APPLE-RADIUS=500;X-TITLE=22 S.E. 5th Street:geo:-87.5692847,37.971602
END:VEVENT
BEGIN:VEVENT
DTSTART;TZID=America/Chicago:20200312T180000
DTEND;TZID=America/Chicago:20200312T190000
DTSTAMP:20260424T044545
CREATED:20191213T174337Z
LAST-MODIFIED:20191213T174337Z
UID:3401-1584036000-1584039600@thyword.media
SUMMARY:Grief Support Group
DESCRIPTION:The monthly Grief Support Group Meeting: presented by the SE Illinois Pastoral Counseling Center will be held on Thursday\, March 12th from 6:00 p.m. to 7:00 p.m. at the First United Methodist Church\,100 S Church Street in Carmi\, IL.  For more information their phone number is 618-382-5548 or go by the website at www.freewebs.com/sicpc2006.
URL:https://thyword.media/event/grief-support-group-14/
LOCATION:First United Methodist Church – Carmi\, 100 S Church St\, Carmi\, IL
GEO:38.0890988;-88.1613126
X-APPLE-STRUCTURED-LOCATION;VALUE=URI;X-ADDRESS=First United Methodist Church – Carmi 100 S Church St Carmi IL;X-APPLE-RADIUS=500;X-TITLE=100 S Church St:geo:-88.1613126,38.0890988
END:VEVENT
BEGIN:VEVENT
DTSTART;TZID=America/Chicago:20200314T130000
DTEND;TZID=America/Chicago:20200314T160000
DTSTAMP:20260424T044545
CREATED:20200226T151842Z
LAST-MODIFIED:20200226T151842Z
UID:3626-1584190800-1584201600@thyword.media
SUMMARY:Barnabas Ministries Reunion Open HOuse
DESCRIPTION: Barnabas Ministries Open House/Reunion is being celebrated on March 14\, 2020\, @ 1:00 pm – 4:00 pm.  The event will be held @ Redeemer Lutheran Church\, 1811  Lincoln Ave. Evansville\, IN. 47714.\n        Keith Hueftle\,  Tyrone Edwards\, and Don Brown and others will be sharing memories and future information about the ministry. There will food and fellowship\, lots of pictures\, and child care service will be provided. This is a free event\, but donations will be accepted. We are looking for pictures\, and names\, addresses of previous participants of Barnabas events. Everyone is welcome even if you are not familiar with Barnabas Ministries. Come and meet a great group of Christians that are “Encouragers” of God’s Word.\n        Great “youth” weekends and “young adult” events. We would all love to see you again\, renew acquaintances\, and even renew your walk with Christ.\n        Please Call\, Text\, or Email “Jamie Jones” to let us know you are coming so we can make accurate plans to accommodate you and your Family @ 812-470-9643\, email @ jamiescandles@live.com.\n        You can find us  on Facebook @ “”\n        Please spread the  Word about the Barnabas Reunion to all your Friends\, See you there….
URL:https://thyword.media/event/barnabas-ministries-reunion-open-house/
LOCATION:Redeemer Lutheran Church\, 1811 Lincoln Avenue\, Evansville\, IN\, 47714\, United States
GEO:37.969571;-87.531614
X-APPLE-STRUCTURED-LOCATION;VALUE=URI;X-ADDRESS=Redeemer Lutheran Church 1811 Lincoln Avenue Evansville IN 47714 United States;X-APPLE-RADIUS=500;X-TITLE=1811 Lincoln Avenue:geo:-87.531614,37.969571
END:VEVENT
BEGIN:VEVENT
DTSTART;TZID=America/Chicago:20200318T180000
DTEND;TZID=America/Chicago:20200318T180000
DTSTAMP:20260424T044545
CREATED:20200305T210117Z
LAST-MODIFIED:20200305T210117Z
UID:3650-1584554400-1584554400@thyword.media
SUMMARY:Messiah in the Passover
DESCRIPTION:Messiah in the Passover Demonstration \nMESSIAH IN THE PASSOVER\, a vivid and exciting demonstration showing how Jesus fulfilled the ancient feast of Passover\, will be held on March 18\, 2020\nat 6:00pm at Cherry Street General Baptist Church in Carmi\, IL. \nMESSIAH IN THE PASSOVER will be conducted by Efraim Goldstein. \nChosen People Ministries is an over one hundred-year-old mission that was founded in 1894 by Leopold Cohn\, a Hungarian rabbi who came to believe that Jesus is the Messiah promised by the Hebrew Scriptures. From humble beginnings in Brooklyn\, New York\, Chosen People Ministries has grown into a worldwide ministry to “the Jew first and to the Gentile.” \nMESSIAH IN THE PASSOVER begins with the traditional Passover Seder table –\ncomplete with all the articles of this important Jewish celebration. The speaker will explain the symbolic meanings of the various items of the Passover feast and highlight their relationship to the Last Supper that Messiah celebrated with the disciples\, giving special emphasis on the redemptive significance of the crucifixion. \nMESSIAH IN THE PASSOVER gives the Christian community insight into Jewish traditions so that the Jewish roots of Christianity can be better understood. This program also helps the Jewish and Christian communities understand their common heritage. \nThis meeting is open to the public and is sponsored by the Carmi Ministerial Association and Cherry Street General Baptist Church. The Carmi Ministerial Association would like to invite the Christian as well as the Jewish community to attend. The church is located at 210 3rd Street in Carmi\, IL. \nA love offering will be received. \nFor more information please contact Denny Hydrick atdenny.hydrick@bchfs.com.
URL:https://thyword.media/event/messiah-in-the-passover-2/
LOCATION:Cherry Street General Baptist Church\, 210 3rd Street\, Carmi\, IL
GEO:38.0885759;-88.1644897
X-APPLE-STRUCTURED-LOCATION;VALUE=URI;X-ADDRESS=Cherry Street General Baptist Church 210 3rd Street Carmi IL;X-APPLE-RADIUS=500;X-TITLE=210 3rd Street:geo:-88.1644897,38.0885759
END:VEVENT
BEGIN:VEVENT
DTSTART;TZID=America/Chicago:20200318T190000
DTEND;TZID=America/Chicago:20200318T190000
DTSTAMP:20260424T044545
CREATED:20200305T205138Z
LAST-MODIFIED:20200305T205138Z
UID:3646-1584558000-1584558000@thyword.media
SUMMARY:Hyde to Address Family Alcoholism and Drugs
DESCRIPTION:The featured speaker will be Mike Hyde\, Director of Reflections of Freedom Ministries in Edmond\, Oklahoma. He will present a special program on family alcoholism and drugs at the Turning Point Apostolic Church.\nHyde states that 1 in 8 American adults (12.7% of U.S. population)\nnow meets diagnostic criteria for alcohol use disorder. One in ten becomes an alcoholic\, and that 70 percent of young people have engaged in heavy drinking. The “Reflections of Freedom Ministries” will be introducing a new approach to family alcoholism and drugs. The CD\, “Raised From The Ruins” by Fred Hyde (Mikes father)\, along with other materials. Hyde will also be giving true accounts of men and women who have been delivered from alcoholism and drugs.\nThis special program should be of great interest to those who would like to help anyone with alcohol and drug problems or is having alcohol or drug related problems in their own life or family. The program is Wednesday evening\, March 18th at the Turning Point Apostolic Church. The church is located at 11250 Church St. Cynthiana Indiana and the time will be 7:00 pm. The public is invited and there is no obligation or admission charge.\nFor additional information\, call Pastor James Mullins at 812-664-8050
URL:https://thyword.media/event/hyde-to-address-family-alcoholism-and-drugs/
LOCATION:Turning Point Apostolic Church\, 11250 Church Street\, Cynthiana\, IN\, 47612\, United States
GEO:38.1897028;-87.7009803
X-APPLE-STRUCTURED-LOCATION;VALUE=URI;X-ADDRESS=Turning Point Apostolic Church 11250 Church Street Cynthiana IN 47612 United States;X-APPLE-RADIUS=500;X-TITLE=11250 Church Street:geo:-87.7009803,38.1897028
END:VEVENT
BEGIN:VEVENT
DTSTART;TZID=America/Chicago:20200321T080000
DTEND;TZID=America/Chicago:20200321T080000
DTSTAMP:20260424T044545
CREATED:20200311T153603Z
LAST-MODIFIED:20200311T154453Z
UID:3658-1584777600-1584777600@thyword.media
SUMMARY:Hope Center Feed
DESCRIPTION:The Hope Center located at 23 West Cherry Street in Mount Carmel\, IL. will be having a free community feed\, with clothes and food to give away\, on Saturday March 21st. Set up will begin at 8AM. The Hope Center is also in need of some items for their pantry such as Ramen noodles\, shoes\,books\, and dish towels. The Hope Center is open every Wednesday at 9 AM or by appointment. For more information please call Steve at 618-445-2065.
URL:https://thyword.media/event/hope-center-feed/
LOCATION:The Hope Center\, 23 Cherry St\, Albion\, IL
GEO:40.6331249;-89.3985283
X-APPLE-STRUCTURED-LOCATION;VALUE=URI;X-ADDRESS=The Hope Center 23 Cherry St Albion IL;X-APPLE-RADIUS=500;X-TITLE=23 Cherry St:geo:-89.3985283,40.6331249
END:VEVENT
BEGIN:VEVENT
DTSTART;TZID=America/Chicago:20200321T180000
DTEND;TZID=America/Chicago:20200321T180000
DTSTAMP:20260424T044545
CREATED:20200304T151408Z
LAST-MODIFIED:20200304T151408Z
UID:3638-1584813600-1584813600@thyword.media
SUMMARY:Dixie Melody Boys
DESCRIPTION:The Dixie Melody Boys will be featured in concert on Saturday March 21st at the Olney Church of the Nazarene in Olney\, IL. The popular quartete will be featured during the service at 6:00 PM. For more information 1411 N Walnut Stcall (618) 392-0986.
URL:https://thyword.media/event/dixie-melody-boys-2/
LOCATION:Olney Church of the Nazarene\, 1411 N Walnut St\, Olney\, IL\, 62450\, United States
GEO:38.744176;-88.08589
X-APPLE-STRUCTURED-LOCATION;VALUE=URI;X-ADDRESS=Olney Church of the Nazarene 1411 N Walnut St Olney IL 62450 United States;X-APPLE-RADIUS=500;X-TITLE=1411 N Walnut St:geo:-88.08589,38.744176
END:VEVENT
BEGIN:VEVENT
DTSTART;TZID=America/Chicago:20200324T180000
DTEND;TZID=America/Chicago:20200324T180000
DTSTAMP:20260424T044545
CREATED:20200312T203127Z
LAST-MODIFIED:20200312T203127Z
UID:3663-1585072800-1585072800@thyword.media
SUMMARY:Community Church Dinner
DESCRIPTION:There will be a community dinner church held on Tuesday the 24th starting at 6PM at the Highland Woods Community Center located at 1377 S. Hart Street in Vincennes\, IN. For more information please contact Holly Hadra at 618-553-8996.
URL:https://thyword.media/event/community-church-dinner/
LOCATION:Highland Woods Community Center\, 1377 Hart St\, Vincennes\, IN
GEO:38.6725493;-87.5182263
X-APPLE-STRUCTURED-LOCATION;VALUE=URI;X-ADDRESS=Highland Woods Community Center 1377 Hart St Vincennes IN;X-APPLE-RADIUS=500;X-TITLE=1377 Hart St:geo:-87.5182263,38.6725493
END:VEVENT
BEGIN:VEVENT
DTSTART;TZID=America/Chicago:20200327T190000
DTEND;TZID=America/Chicago:20200328T190000
DTSTAMP:20260424T044545
CREATED:20200311T150410Z
LAST-MODIFIED:20200311T150410Z
UID:3654-1585335600-1585422000@thyword.media
SUMMARY:Pastor Terry Warren Anniversary Service
DESCRIPTION:The Jesus Name Pentecostal Church\, located at 209 N. Monroe St. in Sturgis KY will be having a one year anniversary service for Pastor Terry Warren on Friday March the 27th and Saturday the 28th at 7pm on both nights. All are welcome to attend this free service. For more information please call (270) 333-9210.
URL:https://thyword.media/event/pastor-terry-warren-anniversary-service/
LOCATION:Jesus Name Pentecostal Church\, 209 N. Monroe St\, Sturgis\, KY\, 42459
GEO:37.5426725;-87.9835087
X-APPLE-STRUCTURED-LOCATION;VALUE=URI;X-ADDRESS=Jesus Name Pentecostal Church 209 N. Monroe St Sturgis KY 42459;X-APPLE-RADIUS=500;X-TITLE=209 N. Monroe St:geo:-87.9835087,37.5426725
END:VEVENT
BEGIN:VEVENT
DTSTART;TZID=America/Chicago:20200328T130000
DTEND;TZID=America/Chicago:20200328T150000
DTSTAMP:20260424T044545
CREATED:20200313T142146Z
LAST-MODIFIED:20200313T143755Z
UID:3675-1585400400-1585407600@thyword.media
SUMMARY:Paint Me A Story Art Event
DESCRIPTION:Paint me a Story Art Event – On March 28th from 1-3:00pm The Foundry Center for the Arts\, located at 8255 Bell Oaks Drive in Newburgh\, IN\, is hosting an art event. You can join us for painting\, drawing\, bracelet making\, and more! All proceeds will support The Foundry Center for the Arts and The Dolly Parton Imagination Library in Warrick County. Your works of art can be donated to our April 2nd Art Auction where proceeds will be used to support both organizations. The cost is $5 per person. For more information call 812-858-3082.
URL:https://thyword.media/event/paint-me-a-story-art-event/
LOCATION:The Foundry Center for the Arts\, 8255 Bell Oaks Drive\, Newburgh\, IN\, 47630\, United States
GEO:37.9751068;-87.3999478
X-APPLE-STRUCTURED-LOCATION;VALUE=URI;X-ADDRESS=The Foundry Center for the Arts 8255 Bell Oaks Drive Newburgh IN 47630 United States;X-APPLE-RADIUS=500;X-TITLE=8255 Bell Oaks Drive:geo:-87.3999478,37.9751068
END:VEVENT
END:VCALENDAR