BEGIN:VCALENDAR
VERSION:2.0
PRODID:-//Thy Word Network - ECPv6.15.20//NONSGML v1.0//EN
CALSCALE:GREGORIAN
METHOD:PUBLISH
X-ORIGINAL-URL:https://thyword.media
X-WR-CALDESC:Events for Thy Word Network
REFRESH-INTERVAL;VALUE=DURATION:PT1H
X-Robots-Tag:noindex
X-PUBLISHED-TTL:PT1H
BEGIN:VTIMEZONE
TZID:America/Chicago
BEGIN:DAYLIGHT
TZOFFSETFROM:-0600
TZOFFSETTO:-0500
TZNAME:CDT
DTSTART:20250309T080000
END:DAYLIGHT
BEGIN:STANDARD
TZOFFSETFROM:-0500
TZOFFSETTO:-0600
TZNAME:CST
DTSTART:20251102T070000
END:STANDARD
BEGIN:DAYLIGHT
TZOFFSETFROM:-0600
TZOFFSETTO:-0500
TZNAME:CDT
DTSTART:20260308T080000
END:DAYLIGHT
BEGIN:STANDARD
TZOFFSETFROM:-0500
TZOFFSETTO:-0600
TZNAME:CST
DTSTART:20261101T070000
END:STANDARD
BEGIN:DAYLIGHT
TZOFFSETFROM:-0600
TZOFFSETTO:-0500
TZNAME:CDT
DTSTART:20270314T080000
END:DAYLIGHT
BEGIN:STANDARD
TZOFFSETFROM:-0500
TZOFFSETTO:-0600
TZNAME:CST
DTSTART:20271107T070000
END:STANDARD
END:VTIMEZONE
BEGIN:VEVENT
DTSTART;TZID=America/Chicago:20260512T190000
DTEND;TZID=America/Chicago:20260512T203000
DTSTAMP:20260425T063229
CREATED:20260423T185013Z
LAST-MODIFIED:20260423T185013Z
UID:28821-1778612400-1778617800@thyword.media
SUMMARY:Anxiety Support Group Meeting - Mt Carmel\, IL
DESCRIPTION:The Southeastern Illinois Center for Pastoral Counseling is offering an Overcoming Anxiety Support Group Meeting for people who have experienced any form of anxiety\, worry\, fear\, dread\, or panic. The meeting will be held at the First Christian Church\, at 8th & Market Streets\, Mt. Carmel\, IL\, on May 12th\, from 7-8:30 PM CT. For more information\, call 618-262-5921.
URL:https://thyword.media/event/anxiety-support-group-meeting-mt-carmel-il-5/
LOCATION:First Christian Church – Mt Carmel\, 803 N Market St\, Mt Carmel\, IL\, 62863
GEO:38.4145594;-87.7638549
X-APPLE-STRUCTURED-LOCATION;VALUE=URI;X-ADDRESS=First Christian Church – Mt Carmel 803 N Market St Mt Carmel IL 62863;X-APPLE-RADIUS=500;X-TITLE=803 N Market St:geo:-87.7638549,38.4145594
END:VEVENT
BEGIN:VEVENT
DTSTART;TZID=America/Chicago:20260828T180000
DTEND;TZID=America/Chicago:20260828T210000
DTSTAMP:20260425T063229
CREATED:20260416T140317Z
LAST-MODIFIED:20260423T140911Z
UID:28804-1787940000-1787950800@thyword.media
SUMMARY:Caleb & John Concert
DESCRIPTION:The Men and Ladies of Honor of Boonville\, Indiana are promoting a new concert featuring the Christian music group Caleb & John! This concert will take place on August 28th\, beginning at 6 PM CT. This event will be held at Boonville High School in Boonville\, Indiana. The address is 300 N 1st St\, Boonville\, IN 47601. For more information\, call (812) 568-7131.
URL:https://thyword.media/event/caleb-john-concert/
LOCATION:Boonville High School\, 300 North 1st Street\, Boonville\, IN\, 47601\, United States
GEO:38.0522837;-87.2798625
X-APPLE-STRUCTURED-LOCATION;VALUE=URI;X-ADDRESS=Boonville High School 300 North 1st Street Boonville IN 47601 United States;X-APPLE-RADIUS=500;X-TITLE=300 North 1st Street:geo:-87.2798625,38.0522837
END:VEVENT
END:VCALENDAR