BEGIN:VCALENDAR
VERSION:2.0
PRODID:-//Thy Word Network - ECPv6.15.20//NONSGML v1.0//EN
CALSCALE:GREGORIAN
METHOD:PUBLISH
X-ORIGINAL-URL:https://thyword.media
X-WR-CALDESC:Events for Thy Word Network
REFRESH-INTERVAL;VALUE=DURATION:PT1H
X-Robots-Tag:noindex
X-PUBLISHED-TTL:PT1H
BEGIN:VTIMEZONE
TZID:America/Chicago
BEGIN:DAYLIGHT
TZOFFSETFROM:-0600
TZOFFSETTO:-0500
TZNAME:CDT
DTSTART:20210314T080000
END:DAYLIGHT
BEGIN:STANDARD
TZOFFSETFROM:-0500
TZOFFSETTO:-0600
TZNAME:CST
DTSTART:20211107T070000
END:STANDARD
BEGIN:DAYLIGHT
TZOFFSETFROM:-0600
TZOFFSETTO:-0500
TZNAME:CDT
DTSTART:20220313T080000
END:DAYLIGHT
BEGIN:STANDARD
TZOFFSETFROM:-0500
TZOFFSETTO:-0600
TZNAME:CST
DTSTART:20221106T070000
END:STANDARD
BEGIN:DAYLIGHT
TZOFFSETFROM:-0600
TZOFFSETTO:-0500
TZNAME:CDT
DTSTART:20230312T080000
END:DAYLIGHT
BEGIN:STANDARD
TZOFFSETFROM:-0500
TZOFFSETTO:-0600
TZNAME:CST
DTSTART:20231105T070000
END:STANDARD
END:VTIMEZONE
BEGIN:VEVENT
DTSTART;TZID=America/Chicago:20220215T080000
DTEND;TZID=America/Chicago:20220228T170000
DTSTAMP:20260420T153126
CREATED:20220215T195707Z
LAST-MODIFIED:20220215T195707Z
UID:4931-1644912000-1646067600@thyword.media
SUMMARY:Right to Life Diaper Collections
DESCRIPTION:EVANSVILLE\, IND (FEBRUARY 11\, 2022) – Right to Life of Southwest Indiana (RTLSWIN) along with Churches for Life are hosting its annual “Show Love from the Bottom Up” Diaper Drive that helps local pregnancy centers restock on diaper supplies. In 2021 almost 31\,000 diapers were distributed to the centers. This year the distribution will include Birthright\, Evansville Christian Life Center and Trotter House\, Little Lambs and the Gabriel Project in Evansville\, and Marsha’s Place in Henderson\, Kentucky. \n  \n“What a wonderful way to show love in a very real and tangible way\, by helping supply diapers to centers that are on the front lines of helping moms navigate an unplanned pregnancy\,” said Amy Davis\, Family Life Coordinator for RTLSWIN. \n  \n“Helping pregnancy centers with practical needs such as diapers is one way we can be of assistance in the cause for life because we care about children born and unborn\,” said Mary Ellen Van Dyke\, Executive Director for RTLSWIN. \n  \nDonations of diapers and wipes can be dropped off at participating area churches or at the Right to Life Office at 20 NW Third Street\, Suite 810 in downtown Evansville through the month of February. Monetary donations are being accepted online at www.rtlswin.org/diaperdrive or checks can be mailed to the RTLSWIN Office at 20 NW Third Street\, Suite 810\, Evansville\, IN 47708. \n 
URL:https://thyword.media/event/right-to-life-diaper-collections/
LOCATION:Right to Life of Southwest Indiana\, 20 NW Third St Suite 810\, Evansville\, IN\, 47708-1200
GEO:37.97131;-87.573184
X-APPLE-STRUCTURED-LOCATION;VALUE=URI;X-ADDRESS=Right to Life of Southwest Indiana 20 NW Third St Suite 810 Evansville IN 47708-1200;X-APPLE-RADIUS=500;X-TITLE=20 NW Third St Suite 810:geo:-87.573184,37.97131
END:VEVENT
END:VCALENDAR