BEGIN:VCALENDAR
VERSION:2.0
PRODID:-//Thy Word Network - ECPv6.15.20//NONSGML v1.0//EN
CALSCALE:GREGORIAN
METHOD:PUBLISH
X-ORIGINAL-URL:https://thyword.media
X-WR-CALDESC:Events for Thy Word Network
REFRESH-INTERVAL;VALUE=DURATION:PT1H
X-Robots-Tag:noindex
X-PUBLISHED-TTL:PT1H
BEGIN:VTIMEZONE
TZID:America/Chicago
BEGIN:DAYLIGHT
TZOFFSETFROM:-0600
TZOFFSETTO:-0500
TZNAME:CDT
DTSTART:20200308T080000
END:DAYLIGHT
BEGIN:STANDARD
TZOFFSETFROM:-0500
TZOFFSETTO:-0600
TZNAME:CST
DTSTART:20201101T070000
END:STANDARD
BEGIN:DAYLIGHT
TZOFFSETFROM:-0600
TZOFFSETTO:-0500
TZNAME:CDT
DTSTART:20210314T080000
END:DAYLIGHT
BEGIN:STANDARD
TZOFFSETFROM:-0500
TZOFFSETTO:-0600
TZNAME:CST
DTSTART:20211107T070000
END:STANDARD
BEGIN:DAYLIGHT
TZOFFSETFROM:-0600
TZOFFSETTO:-0500
TZNAME:CDT
DTSTART:20220313T080000
END:DAYLIGHT
BEGIN:STANDARD
TZOFFSETFROM:-0500
TZOFFSETTO:-0600
TZNAME:CST
DTSTART:20221106T070000
END:STANDARD
END:VTIMEZONE
BEGIN:VEVENT
DTSTART;TZID=America/Chicago:20210925T160000
DTEND;TZID=America/Chicago:20210925T160000
DTSTAMP:20260420T214258
CREATED:20210913T194002Z
LAST-MODIFIED:20210913T194002Z
UID:4701-1632585600-1632585600@thyword.media
SUMMARY:Cowling Community Center Annual Chicken Noodle Dinner
DESCRIPTION:The Cowling Community Center will be having their annual chicken noodle dinner of Saturday Sept 25th beginning at 4 PM at the Cowling Community Center located at 15 miles South of Mount Carmel right off State Route 1 or 7 miles North of Interstate 64 Grayville\, IL. Menu will be homemade chicken and noodles\, mashed potatoes\, green beans\, slaw\, cranberry salad\, roll dessert\, and beverage. Suggested Donation $10.
URL:https://thyword.media/event/cowling-community-center-annual-chicken-noodle-dinner/
LOCATION:Cowling Community Center
GEO:38.4145961;-87.767703
END:VEVENT
END:VCALENDAR