BEGIN:VCALENDAR
VERSION:2.0
PRODID:-//Thy Word Network - ECPv6.15.20//NONSGML v1.0//EN
CALSCALE:GREGORIAN
METHOD:PUBLISH
X-ORIGINAL-URL:https://thyword.media
X-WR-CALDESC:Events for Thy Word Network
REFRESH-INTERVAL;VALUE=DURATION:PT1H
X-Robots-Tag:noindex
X-PUBLISHED-TTL:PT1H
BEGIN:VTIMEZONE
TZID:America/Chicago
BEGIN:DAYLIGHT
TZOFFSETFROM:-0600
TZOFFSETTO:-0500
TZNAME:CDT
DTSTART:20200308T080000
END:DAYLIGHT
BEGIN:STANDARD
TZOFFSETFROM:-0500
TZOFFSETTO:-0600
TZNAME:CST
DTSTART:20201101T070000
END:STANDARD
BEGIN:DAYLIGHT
TZOFFSETFROM:-0600
TZOFFSETTO:-0500
TZNAME:CDT
DTSTART:20210314T080000
END:DAYLIGHT
BEGIN:STANDARD
TZOFFSETFROM:-0500
TZOFFSETTO:-0600
TZNAME:CST
DTSTART:20211107T070000
END:STANDARD
BEGIN:DAYLIGHT
TZOFFSETFROM:-0600
TZOFFSETTO:-0500
TZNAME:CDT
DTSTART:20220313T080000
END:DAYLIGHT
BEGIN:STANDARD
TZOFFSETFROM:-0500
TZOFFSETTO:-0600
TZNAME:CST
DTSTART:20221106T070000
END:STANDARD
END:VTIMEZONE
BEGIN:VEVENT
DTSTART;TZID=America/Chicago:20210912T180000
DTEND;TZID=America/Chicago:20210919T203000
DTSTAMP:20260420T214300
CREATED:20210910T151727Z
LAST-MODIFIED:20210910T151727Z
UID:4691-1631469600-1632083400@thyword.media
SUMMARY:Evangelistic Service Camp Meetings
DESCRIPTION:There will be a Evangelistic Service Meetings at the Chandler International Holiness camp located at North 4th Street in Chandler\, IN\, A Prayer service on September 12th at 6 PM\, Missionary Services Sept 13th through the 17th at 6 PM and September 18th and 19th at 6:30 PM. Rev. Lane Loman will be an evangelist and singer and Gary and Laura Griffin will be the featured missionaries.
URL:https://thyword.media/event/evangelistic-service-camp-meetings/
LOCATION:Chandler Holiness Camp International\, North 4th Street\, Chandler\, IN\, 47610\, United States
GEO:38.0458855;-87.363388
X-APPLE-STRUCTURED-LOCATION;VALUE=URI;X-ADDRESS=Chandler Holiness Camp International North 4th Street Chandler IN 47610 United States;X-APPLE-RADIUS=500;X-TITLE=North 4th Street:geo:-87.363388,38.0458855
END:VEVENT
BEGIN:VEVENT
DTSTART;TZID=America/Chicago:20210913T120000
DTEND;TZID=America/Chicago:20210913T140000
DTSTAMP:20260420T214300
CREATED:20210913T144047Z
LAST-MODIFIED:20210913T144047Z
UID:4696-1631534400-1631541600@thyword.media
SUMMARY:Holy Rosary Fall Festival
DESCRIPTION:Holy Rosary Fall Festival – Sunday\, October 3\, Holy Rosary Catholic Church\, Evansville\, grounds open from 12:00 p.m. to 6:00 p.m. Super HOT Split Pot Raffle\, tickets $25 each or 7 for $100 if purchased before/on Sept. 26\, 2021. After Sept. 26\, tickets are 6 for $100. Serving fried chicken dinners from 12:00 p.m. to 2:00 p.m. in the Gym and a tented outside area. Advance dinner reservations required – form is on the website. Dinner\, catered by Marx Barbecue\, includes fried chicken\, mashed potatoes\, gravy\, dressing\, corn\, green beans\, cole slaw\, homemade desserts by Holy Rosary parishioners\, and a choice of water\, tea\, or lemonade. $12 Adults $5 Ages 4-10\, Free for Age 3 and under. There will be several area Food Trucks including Fuego Tacqueria\, Bruce Li\, Rock a Burger\, DeWig’s Pappa Bears\, and JB’s Barnyard & Real Dairy Ice Cream\, as well as a Sweets Booth;  Quilt Raffle (tickets $3 each or 4 for $10); Basket Raffle (tickets 3 for $1-regular items; $1 each-specialty items); and games and activities throughout the afternoon.  Visit our website for more information: www.hrparish.org/feastival or contact the parish office at 812-477-8923.
URL:https://thyword.media/event/holy-rosary-fall-festival-2/
LOCATION:Holy Rosary Catholic Church\, 1301 S Green River Road\, Evansville\, IN\, 47715
GEO:37.958951;-87.495121
X-APPLE-STRUCTURED-LOCATION;VALUE=URI;X-ADDRESS=Holy Rosary Catholic Church 1301 S Green River Road Evansville IN 47715;X-APPLE-RADIUS=500;X-TITLE=1301 S Green River Road:geo:-87.495121,37.958951
END:VEVENT
END:VCALENDAR