BEGIN:VCALENDAR
VERSION:2.0
PRODID:-//Thy Word Network - ECPv6.15.20//NONSGML v1.0//EN
CALSCALE:GREGORIAN
METHOD:PUBLISH
X-ORIGINAL-URL:https://thyword.media
X-WR-CALDESC:Events for Thy Word Network
REFRESH-INTERVAL;VALUE=DURATION:PT1H
X-Robots-Tag:noindex
X-PUBLISHED-TTL:PT1H
BEGIN:VTIMEZONE
TZID:America/Chicago
BEGIN:DAYLIGHT
TZOFFSETFROM:-0600
TZOFFSETTO:-0500
TZNAME:CDT
DTSTART:20200308T080000
END:DAYLIGHT
BEGIN:STANDARD
TZOFFSETFROM:-0500
TZOFFSETTO:-0600
TZNAME:CST
DTSTART:20201101T070000
END:STANDARD
BEGIN:DAYLIGHT
TZOFFSETFROM:-0600
TZOFFSETTO:-0500
TZNAME:CDT
DTSTART:20210314T080000
END:DAYLIGHT
BEGIN:STANDARD
TZOFFSETFROM:-0500
TZOFFSETTO:-0600
TZNAME:CST
DTSTART:20211107T070000
END:STANDARD
BEGIN:DAYLIGHT
TZOFFSETFROM:-0600
TZOFFSETTO:-0500
TZNAME:CDT
DTSTART:20220313T080000
END:DAYLIGHT
BEGIN:STANDARD
TZOFFSETFROM:-0500
TZOFFSETTO:-0600
TZNAME:CST
DTSTART:20221106T070000
END:STANDARD
END:VTIMEZONE
BEGIN:VEVENT
DTSTART;TZID=America/Chicago:20210910T183000
DTEND;TZID=America/Chicago:20210910T183000
DTSTAMP:20260420T214259
CREATED:20210810T192039Z
LAST-MODIFIED:20210810T192039Z
UID:4613-1631298600-1631298600@thyword.media
SUMMARY:Gospel Music Extravaganza\, Childress Family 50th anniversary
DESCRIPTION:A Gospel Music Extravaganza will be held at the Grapevine Baptist Church located at 85 Sandcut Road in Madisonville\, KY on Friday Sept 10th at 6:30 PM and Sat Sept 11 at 2:00 PM. This is a free event but an offering will be taken. This is to celebrate the Childress Family 50th anniversary. Karen Peck and New River\, along with Tribute Quartet will also be singing. For more information please call 270-836-8882or visit childressfamily.com. Doors open 1 hour before the event.
URL:https://thyword.media/event/gospel-music-extravaganza-childress-family-50th-anniversary/
LOCATION:Grapevine Baptist CHurch\, 85 Sandcut Road\, Madisonville\, KY\, 42431
GEO:37.2988175;-87.4866664
X-APPLE-STRUCTURED-LOCATION;VALUE=URI;X-ADDRESS=Grapevine Baptist CHurch 85 Sandcut Road Madisonville KY 42431;X-APPLE-RADIUS=500;X-TITLE=85 Sandcut Road:geo:-87.4866664,37.2988175
END:VEVENT
END:VCALENDAR