BEGIN:VCALENDAR
VERSION:2.0
PRODID:-//Thy Word Network - ECPv6.15.20//NONSGML v1.0//EN
CALSCALE:GREGORIAN
METHOD:PUBLISH
X-WR-CALNAME:Thy Word Network
X-ORIGINAL-URL:https://thyword.media
X-WR-CALDESC:Events for Thy Word Network
REFRESH-INTERVAL;VALUE=DURATION:PT1H
X-Robots-Tag:noindex
X-PUBLISHED-TTL:PT1H
BEGIN:VTIMEZONE
TZID:America/Chicago
BEGIN:DAYLIGHT
TZOFFSETFROM:-0600
TZOFFSETTO:-0500
TZNAME:CDT
DTSTART:20200308T080000
END:DAYLIGHT
BEGIN:STANDARD
TZOFFSETFROM:-0500
TZOFFSETTO:-0600
TZNAME:CST
DTSTART:20201101T070000
END:STANDARD
BEGIN:DAYLIGHT
TZOFFSETFROM:-0600
TZOFFSETTO:-0500
TZNAME:CDT
DTSTART:20210314T080000
END:DAYLIGHT
BEGIN:STANDARD
TZOFFSETFROM:-0500
TZOFFSETTO:-0600
TZNAME:CST
DTSTART:20211107T070000
END:STANDARD
BEGIN:DAYLIGHT
TZOFFSETFROM:-0600
TZOFFSETTO:-0500
TZNAME:CDT
DTSTART:20220313T080000
END:DAYLIGHT
BEGIN:STANDARD
TZOFFSETFROM:-0500
TZOFFSETTO:-0600
TZNAME:CST
DTSTART:20221106T070000
END:STANDARD
END:VTIMEZONE
BEGIN:VEVENT
DTSTART;TZID=America/Chicago:20210824T190000
DTEND;TZID=America/Chicago:20210824T203000
DTSTAMP:20260421T000559
CREATED:20210622T191330Z
LAST-MODIFIED:20210622T191330Z
UID:4518-1629831600-1629837000@thyword.media
SUMMARY:Grief Support Meeting
DESCRIPTION:The Southeastern Illinois Center for Pastoral Counseling is sponsoring a free Grief Support Group meeting to be held at the First Christian Church\, 803 N Market Street in Mt. Carmel\, IL on Tuesday\, August 24th from 7:00 p.m. to 8:30 p.m. for anyone who has experienced a loss (death of a loved one\, divorce\, long-term illness\, etc.). For more information\, their phone number is 618-262-5921 or go by our Events Page at www.thyword.org.
URL:https://thyword.media/event/grief-support-meeting-15/
LOCATION:IN
END:VEVENT
END:VCALENDAR