BEGIN:VCALENDAR
VERSION:2.0
PRODID:-//Thy Word Network - ECPv6.15.20//NONSGML v1.0//EN
CALSCALE:GREGORIAN
METHOD:PUBLISH
X-ORIGINAL-URL:https://thyword.media
X-WR-CALDESC:Events for Thy Word Network
REFRESH-INTERVAL;VALUE=DURATION:PT1H
X-Robots-Tag:noindex
X-PUBLISHED-TTL:PT1H
BEGIN:VTIMEZONE
TZID:America/Chicago
BEGIN:DAYLIGHT
TZOFFSETFROM:-0600
TZOFFSETTO:-0500
TZNAME:CDT
DTSTART:20200308T080000
END:DAYLIGHT
BEGIN:STANDARD
TZOFFSETFROM:-0500
TZOFFSETTO:-0600
TZNAME:CST
DTSTART:20201101T070000
END:STANDARD
BEGIN:DAYLIGHT
TZOFFSETFROM:-0600
TZOFFSETTO:-0500
TZNAME:CDT
DTSTART:20210314T080000
END:DAYLIGHT
BEGIN:STANDARD
TZOFFSETFROM:-0500
TZOFFSETTO:-0600
TZNAME:CST
DTSTART:20211107T070000
END:STANDARD
BEGIN:DAYLIGHT
TZOFFSETFROM:-0600
TZOFFSETTO:-0500
TZNAME:CDT
DTSTART:20220313T080000
END:DAYLIGHT
BEGIN:STANDARD
TZOFFSETFROM:-0500
TZOFFSETTO:-0600
TZNAME:CST
DTSTART:20221106T070000
END:STANDARD
END:VTIMEZONE
BEGIN:VEVENT
DTSTART;TZID=America/Chicago:20210821T130000
DTEND;TZID=America/Chicago:20210821T170000
DTSTAMP:20260420T225554
CREATED:20210722T164631Z
LAST-MODIFIED:20210722T164631Z
UID:4584-1629550800-1629565200@thyword.media
SUMMARY:Celebrate Jesus Praise Picnic
DESCRIPTION:There will be a celebrate Jesus Praise Picnic in Owenton\, KY on August 21st at 1:00 PM at 13245 Georgetown Road in Owenton. Please bring a lawn chair. For more information please call 502-514-7855. Hosted by Bill Cooper and Jennifer Jordan Cooper and special guest speakers\, Pastor Samuel Koomson \, Elder Jososeph Duodu and Deacon Atta Kwaku
URL:https://thyword.media/event/celebrate-jesus-praise-picnic/
LOCATION:Celebrate Jesus Picnic\, 13245 Georgetown Road\, Owenton\, KY\, 40355\, United States
GEO:38.3819464;-84.7105773
X-APPLE-STRUCTURED-LOCATION;VALUE=URI;X-ADDRESS=Celebrate Jesus Picnic 13245 Georgetown Road Owenton KY 40355 United States;X-APPLE-RADIUS=500;X-TITLE=13245 Georgetown Road:geo:-84.7105773,38.3819464
END:VEVENT
BEGIN:VEVENT
DTSTART;TZID=America/Chicago:20210821T180000
DTEND;TZID=America/Chicago:20210821T180000
DTSTAMP:20260420T225554
CREATED:20210728T161428Z
LAST-MODIFIED:20210728T161428Z
UID:4603-1629568800-1629568800@thyword.media
SUMMARY:Grace College & Village at Winona Concert Series Welcomes The Booth Brothers and The Guardians
DESCRIPTION:Grace College & Village at Winona Concert Series Welcomes The Booth Brothers and The Guardians\nSaturday\, August 21\, 2021 6:00 pm\nWinona Heritage Room\, (formerly Rodeheaver Auditorium)\n901 Park Avenue\nWinona Lake\, IN 46590\nThis concert will begin at 6:00 pm with local favorites\, The No Name Quartet\, kicking off the evening. To acquire additional information regarding this exciting musical event\, call Wende Roberts at 574-457-6875 or email at nlgospelpromotions@gmail.com.
URL:https://thyword.media/event/grace-college-village-at-winona-concert-series-welcomes-the-booth-brothers-and-the-guardians/
LOCATION:Grace College & Village\, 901 Park Avenue\, Winona Lake\, IN\, 46590\, United States
GEO:41.2260116;-85.8208646
X-APPLE-STRUCTURED-LOCATION;VALUE=URI;X-ADDRESS=Grace College & Village 901 Park Avenue Winona Lake IN 46590 United States;X-APPLE-RADIUS=500;X-TITLE=901 Park Avenue:geo:-85.8208646,41.2260116
END:VEVENT
END:VCALENDAR