BEGIN:VCALENDAR
VERSION:2.0
PRODID:-//Thy Word Network - ECPv6.15.20//NONSGML v1.0//EN
CALSCALE:GREGORIAN
METHOD:PUBLISH
X-ORIGINAL-URL:https://thyword.media
X-WR-CALDESC:Events for Thy Word Network
REFRESH-INTERVAL;VALUE=DURATION:PT1H
X-Robots-Tag:noindex
X-PUBLISHED-TTL:PT1H
BEGIN:VTIMEZONE
TZID:America/Chicago
BEGIN:DAYLIGHT
TZOFFSETFROM:-0600
TZOFFSETTO:-0500
TZNAME:CDT
DTSTART:20200308T080000
END:DAYLIGHT
BEGIN:STANDARD
TZOFFSETFROM:-0500
TZOFFSETTO:-0600
TZNAME:CST
DTSTART:20201101T070000
END:STANDARD
BEGIN:DAYLIGHT
TZOFFSETFROM:-0600
TZOFFSETTO:-0500
TZNAME:CDT
DTSTART:20210314T080000
END:DAYLIGHT
BEGIN:STANDARD
TZOFFSETFROM:-0500
TZOFFSETTO:-0600
TZNAME:CST
DTSTART:20211107T070000
END:STANDARD
BEGIN:DAYLIGHT
TZOFFSETFROM:-0600
TZOFFSETTO:-0500
TZNAME:CDT
DTSTART:20220313T080000
END:DAYLIGHT
BEGIN:STANDARD
TZOFFSETFROM:-0500
TZOFFSETTO:-0600
TZNAME:CST
DTSTART:20221106T070000
END:STANDARD
END:VTIMEZONE
BEGIN:VEVENT
DTSTART;TZID=America/Chicago:20210723T173000
DTEND;TZID=America/Chicago:20210805T170000
DTSTAMP:20260421T000646
CREATED:20210723T190419Z
LAST-MODIFIED:20210723T190419Z
UID:4589-1627061400-1628182800@thyword.media
SUMMARY:Vacation Bible School
DESCRIPTION:CrossPointe Trinity Church (6515 Old Boonville HWY) invites you to join us for our 3rd annual Vacation Bible School: Tell It on the Mountain. VBS begins on Sunday Aug. 1-5th at 6:00pm. Registration opens at 5:30pm. There will be 2 prizes up for grabs. We can’t wait to meet you and your friends!  For more information please call Phone: (812) 424-0900
URL:https://thyword.media/event/vacation-bible-school-5/
LOCATION:Crosspointe Trinity Church\, 6515 Old Boonville Highway\, Evansville\, IN\, 47715
GEO:38.0017482;-87.4717245
X-APPLE-STRUCTURED-LOCATION;VALUE=URI;X-ADDRESS=Crosspointe Trinity Church 6515 Old Boonville Highway Evansville IN 47715;X-APPLE-RADIUS=500;X-TITLE=6515 Old Boonville Highway:geo:-87.4717245,38.0017482
END:VEVENT
BEGIN:VEVENT
DTSTART;TZID=America/Chicago:20210726T180000
DTEND;TZID=America/Chicago:20210730T203000
DTSTAMP:20260421T000646
CREATED:20210726T190648Z
LAST-MODIFIED:20210726T190648Z
UID:4595-1627322400-1627677000@thyword.media
SUMMARY:Vacation Bible School
DESCRIPTION:The First Baptist Church located at 3556 N. Portersville Road in Jasper will be having Vacation Bible School this week through Friday the 30th from 6pm-8:30 PM. For more information please call Kenny at 812-827-6789.
URL:https://thyword.media/event/vacation-bible-school-6/
LOCATION:First Baptist Church Jasper\, 3556 N. Portersville Road\, Jasper\, IN\, 47546\, United States
GEO:38.4308433;-86.9477792
X-APPLE-STRUCTURED-LOCATION;VALUE=URI;X-ADDRESS=First Baptist Church Jasper 3556 N. Portersville Road Jasper IN 47546 United States;X-APPLE-RADIUS=500;X-TITLE=3556 N. Portersville Road:geo:-86.9477792,38.4308433
END:VEVENT
BEGIN:VEVENT
DTSTART;TZID=America/Chicago:20210728T170000
DTEND;TZID=America/Chicago:20210730T170000
DTSTAMP:20260421T000646
CREATED:20210728T162008Z
LAST-MODIFIED:20210728T162008Z
UID:4606-1627491600-1627664400@thyword.media
SUMMARY:VBS First Baptist Church Evannsville
DESCRIPTION:The First Baptist Church located at 320 Cherry St.in Evansville will be having a VBS starting today July 28th through Friday 30th from 2-5pm. Friday at 5pm the entire family is invited to join us for a meal celebrating VBS. For more information please call Pastor Claspell at 812-568-8585.
URL:https://thyword.media/event/vbs-first-baptist-church-evannsville/
LOCATION:First Baptist Church\, Evansville\, 320 Cherry St\, Evansville\, IN
GEO:37.968218;-87.569034
X-APPLE-STRUCTURED-LOCATION;VALUE=URI;X-ADDRESS=First Baptist Church Evansville 320 Cherry St Evansville IN;X-APPLE-RADIUS=500;X-TITLE=320 Cherry St:geo:-87.569034,37.968218
END:VEVENT
BEGIN:VEVENT
DTSTART;TZID=America/Chicago:20210730T190000
DTEND;TZID=America/Chicago:20210730T190000
DTSTAMP:20260421T000646
CREATED:20210726T190105Z
LAST-MODIFIED:20210726T190105Z
UID:4592-1627671600-1627671600@thyword.media
SUMMARY:Conquerors Quartet
DESCRIPTION:The Conquerors Quartet will be singing Friday July 30th at 7PM at The Assemble located at 4330 North Burkhardt Road in Evansville. There will be free admission but a love offering will be taken. For more information please call 812-480-2632.
URL:https://thyword.media/event/conquerors-quartet/
LOCATION:The Assembly\, 4330 North Burkhardt Road\, Evansville\, IN\, 47725\, United States
GEO:38.0170458;-87.4751778
X-APPLE-STRUCTURED-LOCATION;VALUE=URI;X-ADDRESS=The Assembly 4330 North Burkhardt Road Evansville IN 47725 United States;X-APPLE-RADIUS=500;X-TITLE=4330 North Burkhardt Road:geo:-87.4751778,38.0170458
END:VEVENT
END:VCALENDAR