BEGIN:VCALENDAR
VERSION:2.0
PRODID:-//Thy Word Network - ECPv6.15.20//NONSGML v1.0//EN
CALSCALE:GREGORIAN
METHOD:PUBLISH
X-WR-CALNAME:Thy Word Network
X-ORIGINAL-URL:https://thyword.media
X-WR-CALDESC:Events for Thy Word Network
REFRESH-INTERVAL;VALUE=DURATION:PT1H
X-Robots-Tag:noindex
X-PUBLISHED-TTL:PT1H
BEGIN:VTIMEZONE
TZID:America/Chicago
BEGIN:DAYLIGHT
TZOFFSETFROM:-0600
TZOFFSETTO:-0500
TZNAME:CDT
DTSTART:20200308T080000
END:DAYLIGHT
BEGIN:STANDARD
TZOFFSETFROM:-0500
TZOFFSETTO:-0600
TZNAME:CST
DTSTART:20201101T070000
END:STANDARD
BEGIN:DAYLIGHT
TZOFFSETFROM:-0600
TZOFFSETTO:-0500
TZNAME:CDT
DTSTART:20210314T080000
END:DAYLIGHT
BEGIN:STANDARD
TZOFFSETFROM:-0500
TZOFFSETTO:-0600
TZNAME:CST
DTSTART:20211107T070000
END:STANDARD
BEGIN:DAYLIGHT
TZOFFSETFROM:-0600
TZOFFSETTO:-0500
TZNAME:CDT
DTSTART:20220313T080000
END:DAYLIGHT
BEGIN:STANDARD
TZOFFSETFROM:-0500
TZOFFSETTO:-0600
TZNAME:CST
DTSTART:20221106T070000
END:STANDARD
END:VTIMEZONE
BEGIN:VEVENT
DTSTART;TZID=America/Chicago:20210709T180000
DTEND;TZID=America/Chicago:20210709T180000
DTSTAMP:20260421T000554
CREATED:20210609T132724Z
LAST-MODIFIED:20210609T132724Z
UID:4481-1625853600-1625853600@thyword.media
SUMMARY:ACA Block Party
DESCRIPTION:Ambassador Christian Academy located in Mt. Carmel\, IL would like to invite the public to ACA’s Block Party – an evening of fellowship and worship – on Friday\, July 9 beginning at 6 pm.  This special event will take place in the school’s parking lot\,  located at 219 North Market St.\, Mt. Carmel\, IL.  The night will include food\, fun\, music by Perry Case\, group-guided tours of the newly remodeled school\, along with school registration opportunities. A free will offering will be taken  If you have any questions\, please call Ambassador Christian Academy at 618-263-9523.
URL:https://thyword.media/event/aca-block-party/
LOCATION:Ambassador Christian Academy\, 219 North Market St\, Mount Carmel\, IL\, 62863\, United States
GEO:38.4078747;-87.7596975
X-APPLE-STRUCTURED-LOCATION;VALUE=URI;X-ADDRESS=Ambassador Christian Academy 219 North Market St Mount Carmel IL 62863 United States;X-APPLE-RADIUS=500;X-TITLE=219 North Market St:geo:-87.7596975,38.4078747
END:VEVENT
END:VCALENDAR