BEGIN:VCALENDAR
VERSION:2.0
PRODID:-//Thy Word Network - ECPv6.15.20//NONSGML v1.0//EN
CALSCALE:GREGORIAN
METHOD:PUBLISH
X-ORIGINAL-URL:https://thyword.media
X-WR-CALDESC:Events for Thy Word Network
REFRESH-INTERVAL;VALUE=DURATION:PT1H
X-Robots-Tag:noindex
X-PUBLISHED-TTL:PT1H
BEGIN:VTIMEZONE
TZID:America/Chicago
BEGIN:DAYLIGHT
TZOFFSETFROM:-0600
TZOFFSETTO:-0500
TZNAME:CDT
DTSTART:20200308T080000
END:DAYLIGHT
BEGIN:STANDARD
TZOFFSETFROM:-0500
TZOFFSETTO:-0600
TZNAME:CST
DTSTART:20201101T070000
END:STANDARD
BEGIN:DAYLIGHT
TZOFFSETFROM:-0600
TZOFFSETTO:-0500
TZNAME:CDT
DTSTART:20210314T080000
END:DAYLIGHT
BEGIN:STANDARD
TZOFFSETFROM:-0500
TZOFFSETTO:-0600
TZNAME:CST
DTSTART:20211107T070000
END:STANDARD
BEGIN:DAYLIGHT
TZOFFSETFROM:-0600
TZOFFSETTO:-0500
TZNAME:CDT
DTSTART:20220313T080000
END:DAYLIGHT
BEGIN:STANDARD
TZOFFSETFROM:-0500
TZOFFSETTO:-0600
TZNAME:CST
DTSTART:20221106T070000
END:STANDARD
END:VTIMEZONE
BEGIN:VEVENT
DTSTART;TZID=America/Chicago:20210617T180000
DTEND;TZID=America/Chicago:20210617T180000
DTSTAMP:20260421T023045
CREATED:20210514T152746Z
LAST-MODIFIED:20210514T152746Z
UID:4460-1623952800-1623952800@thyword.media
SUMMARY:First Choice Solutions Gift of Life Banquet
DESCRIPTION:First Choice Solutions\, (FCS)\, formerly the Pregnancy Care Center is having\ntheir Gift of Life Banquet on Thursday\, June 17\, at 6:00 PM at the Simon J.\nGraber Community Building\, located at 9164 E 875 N\, Odon\, IN 47562.  Tickets\nare $15 for a single person and $25 per couple. Monica Kelsey\, founder of\nSafe Haven Baby Boxes\, Inc. will be the keynote speaker.  A wonderful meal\nwill be included. Please mail your check to First Choice Solutions\, PO Box\n589\, Washington\, IN 47501\, or you may pay online via PayPal\, at\nhttps://www.paypal.com/paypalme/FirstChoiceSolutions. Please add "FCS\nbanquet" in the notes or memo section. You can request that a ticket be\nmailed to you or you can pick up your ticket at the door. You can also stop\nby or call the office for tickets at 812-257-1041.”
URL:https://thyword.media/event/first-choice-solutions-gift-of-life-banquet/
LOCATION:Simon Graber Complex\, 9164 E 875 N\, Odon\, Indiana\, 47562\, United States
GEO:38.786107;-86.994881
X-APPLE-STRUCTURED-LOCATION;VALUE=URI;X-ADDRESS=Simon Graber Complex 9164 E 875 N Odon Indiana 47562 United States;X-APPLE-RADIUS=500;X-TITLE=9164 E 875 N:geo:-86.994881,38.786107
END:VEVENT
END:VCALENDAR