BEGIN:VCALENDAR
VERSION:2.0
PRODID:-//Thy Word Network - ECPv6.15.20//NONSGML v1.0//EN
CALSCALE:GREGORIAN
METHOD:PUBLISH
X-WR-CALNAME:Thy Word Network
X-ORIGINAL-URL:https://thyword.media
X-WR-CALDESC:Events for Thy Word Network
REFRESH-INTERVAL;VALUE=DURATION:PT1H
X-Robots-Tag:noindex
X-PUBLISHED-TTL:PT1H
BEGIN:VTIMEZONE
TZID:America/Chicago
BEGIN:DAYLIGHT
TZOFFSETFROM:-0600
TZOFFSETTO:-0500
TZNAME:CDT
DTSTART:20200308T080000
END:DAYLIGHT
BEGIN:STANDARD
TZOFFSETFROM:-0500
TZOFFSETTO:-0600
TZNAME:CST
DTSTART:20201101T070000
END:STANDARD
BEGIN:DAYLIGHT
TZOFFSETFROM:-0600
TZOFFSETTO:-0500
TZNAME:CDT
DTSTART:20210314T080000
END:DAYLIGHT
BEGIN:STANDARD
TZOFFSETFROM:-0500
TZOFFSETTO:-0600
TZNAME:CST
DTSTART:20211107T070000
END:STANDARD
BEGIN:DAYLIGHT
TZOFFSETFROM:-0600
TZOFFSETTO:-0500
TZNAME:CDT
DTSTART:20220313T080000
END:DAYLIGHT
BEGIN:STANDARD
TZOFFSETFROM:-0500
TZOFFSETTO:-0600
TZNAME:CST
DTSTART:20221106T070000
END:STANDARD
END:VTIMEZONE
BEGIN:VEVENT
DTSTART;TZID=America/Chicago:20210514T183000
DTEND;TZID=America/Chicago:20210514T200000
DTSTAMP:20260423T031752
CREATED:20210423T180351Z
LAST-MODIFIED:20210423T180351Z
UID:4435-1621017000-1621022400@thyword.media
SUMMARY:NIght of Praise Hosted by First Choice Solutions
DESCRIPTION:"First Choice Solutions\, (FCS)\, formerly the Pregnancy Care Center\,  is\nhaving a Night of Praise at 6:30 on May 14th\, hosted by Wheatland Christian\nchurch located at 330 IN-550\, Wheatland\, IN 47597.  The event will start at\n6:30 and conclude at 7:45.  At 6:30 the Executive Director of First Choice\nSolutions\, Yolonda Taylor will update everyone on the latest news regarding\nFCS and the services that they provide for the local communities.  Then from\n6:45 to 7:30 P.M. the Wheatland Christian worship band will perform.  Free\nwill donations will be collected after the band has performed.  Come join us\nas we give honor\, worship and praise to our Lord Jesus Christ."
URL:https://thyword.media/event/night-of-praise-hosted-by-first-choice-solutions/
LOCATION:Wheatland Christian Church\, 330 IN-550\, Wheatland\, IN\, 47597\, United States
GEO:38.6616915;-87.30868
X-APPLE-STRUCTURED-LOCATION;VALUE=URI;X-ADDRESS=Wheatland Christian Church 330 IN-550 Wheatland IN 47597 United States;X-APPLE-RADIUS=500;X-TITLE=330 IN-550:geo:-87.30868,38.6616915
END:VEVENT
END:VCALENDAR