BEGIN:VCALENDAR
VERSION:2.0
PRODID:-//Thy Word Network - ECPv6.15.20//NONSGML v1.0//EN
CALSCALE:GREGORIAN
METHOD:PUBLISH
X-WR-CALNAME:Thy Word Network
X-ORIGINAL-URL:https://thyword.media
X-WR-CALDESC:Events for Thy Word Network
REFRESH-INTERVAL;VALUE=DURATION:PT1H
X-Robots-Tag:noindex
X-PUBLISHED-TTL:PT1H
BEGIN:VTIMEZONE
TZID:America/Chicago
BEGIN:DAYLIGHT
TZOFFSETFROM:-0600
TZOFFSETTO:-0500
TZNAME:CDT
DTSTART:20200308T080000
END:DAYLIGHT
BEGIN:STANDARD
TZOFFSETFROM:-0500
TZOFFSETTO:-0600
TZNAME:CST
DTSTART:20201101T070000
END:STANDARD
BEGIN:DAYLIGHT
TZOFFSETFROM:-0600
TZOFFSETTO:-0500
TZNAME:CDT
DTSTART:20210314T080000
END:DAYLIGHT
BEGIN:STANDARD
TZOFFSETFROM:-0500
TZOFFSETTO:-0600
TZNAME:CST
DTSTART:20211107T070000
END:STANDARD
BEGIN:DAYLIGHT
TZOFFSETFROM:-0600
TZOFFSETTO:-0500
TZNAME:CDT
DTSTART:20220313T080000
END:DAYLIGHT
BEGIN:STANDARD
TZOFFSETFROM:-0500
TZOFFSETTO:-0600
TZNAME:CST
DTSTART:20221106T070000
END:STANDARD
END:VTIMEZONE
BEGIN:VEVENT
DTSTART;TZID=America/Chicago:20210416T080000
DTEND;TZID=America/Chicago:20210430T170000
DTSTAMP:20260423T042502
CREATED:20210408T160533Z
LAST-MODIFIED:20210408T160533Z
UID:4418-1618560000-1619802000@thyword.media
SUMMARY:Red Cross Blood Donation
DESCRIPTION:Upcoming blood donation opportunities April 16-30 \nThe Red Cross continues to urge healthy individuals\, especially those with type O blood\, to give blood to ensure hospitals can meet patient needs. Schedule a donation appointment by downloading the Red Cross Blood Donor App\, visiting RedCrossBlood.org\, calling 1-800-RED CROSS (1-800-733-2767) or enabling the Blood Donor Skill on any Alexa Echo device. \nAmerican Legion Hall\, 425 South Main St. Ferdinand\, IN 47532 \n4/19/2021: 2 p.m. – 7 p.m. \n  \nAmerican Red Cross Southwestern Indiana Chapter\, 29 South Stockwell Road Evansville\, IN 47714 \n4/22/2021: 10 a.m. – 4 p.m. \n4/28/2021: 10 a.m. – 4 p.m. \n4/29/2021: 10 a.m. – 4 p.m. \n4/27/2021: 2 p.m. – 7 p.m. \n  \nEvansville Blood Donation Center\, 29 North Stockwell Road Evansville\, IN 47714 \n4/16/2021: 7:45 a.m. – 3 p.m. \n4/17/2021: 7:45 a.m. – 2:45 p.m. \n4/19/2021: 12:15 p.m. – 7:15 p.m. \n4/20/2021: 12:15 p.m. – 7:15 p.m. \n4/21/2021: 12:15 p.m. – 7:15 p.m. \n4/23/2021: 7:45 a.m. – 3 p.m. \n4/24/2021: 7:45 a.m. – 2:45 p.m. \n4/26/2021: 12:15 p.m. – 7:15 p.m. \n4/27/2021: 12:15 p.m. – 7:15 p.m. \n4/28/2021: 12:15 p.m. – 7:15 p.m. \n4/30/2021: 7:45 a.m. – 3 p.m. \n  \nEverybody’s Fun & Fitness Center\, 710 Fulton St. Tell City\, IN 47586 \n4/21/2021: 10 a.m. – 3 p.m. \n  \nJasper Middle School\, 3600 North Portersville Road Jasper\, IN 47546 \n4/20/2021: 2 p.m. – 7 p.m. \n  \nLincoln Heritage Public Library\, 105 N. Wallace St. Dale\, IN 47523 \n4/20/2021: 2:30 p.m. – 6:30 p.m. \n  \nMoose Lodge 1175\, 2507 Newton Street Jasper\, IN  47546 \n4/19/2021: 1 p.m. – 7 p.m. \n  \nNorris\, Blessinger & Woebkenberg Orthopaedics\, 1900 Saint Charles St. Jasper\, IN 47546 \n4/16/2021: 10:30 a.m. – 3:30 p.m. \n  \nNorth East Park Baptist Church\, 1215 N Boeke Road Evansville\, IN 47711 \n4/30/2021: 9 a.m. – 1 p.m. \n  \nRedemption Christian Church\, 1450 Energy Drive Jasper\, IN 47546 \n4/23/2021: 2 p.m. – 7 p.m. \n  \nSaint Meinrad Archabbey\, 200 Hill Drive Saint Meinrad\, IN   47577 \n4/22/2021: 11 a.m. – 4 p.m. \n  \nSchergens Center\, 1140 31st St. Tell City\, IN 47586 \n4/27/2021: 10 a.m. – 3 p.m. \n  \nSt Celestine Catholic Church\, 6864 East State Road 164 Celestine\, IN 47521 \n4/18/2021: 7 a.m. – 12 p.m. \n  \nSt. Mary’s Catholic Church\, 2835 North 500 West Ireland\, IN 47545 \n4/29/2021: 2 p.m. – 7 p.m. \n  \nSt. Matthews Catholic Church\, 421 Mulberry St. Mount Vernon\, IN   47620 \n4/25/2021: 7 a.m. – 11 a.m. \n  \nToyota Event Center\, 709 North Embree St. Princeton\, IN 47670 \n4/21/2021: 2 p.m. – 7 p.m. \n  \nTrinity Assembly of God\, 440 Airline Road Morganfield\, KY   42437 \n4/29/2021: 2 p.m. – 6 p.m. \n  \nVertical Church\, 415 W. 800 S Fort Branch\, IN 47648 \n4/26/2021: 1:30 p.m. – 6:30 p.m. \n  \nVFW Post 1114\, 110 N Wabash Ave of Flags Evansville\, IN 47712 \n4/20/2021: 11 a.m. – 3:30 p.m. \n  \nWarrick County 4h Center\, 133 County Road 100 N. Boonville\, IN    47601 \n4/28/2021: 2 p.m. – 7 p.m. \n 
URL:https://thyword.media/event/red-cross-blood-donation/
LOCATION:IN
END:VEVENT
BEGIN:VEVENT
DTSTART;TZID=America/Chicago:20210417T120000
DTEND;TZID=America/Chicago:20210417T160000
DTSTAMP:20260423T042502
CREATED:20210309T170605Z
LAST-MODIFIED:20210309T170605Z
UID:4362-1618660800-1618675200@thyword.media
SUMMARY:First Choice Solutions April Showers Festival
DESCRIPTION:First Choice Solutions\, (FCS) April Showers Festival on April 17\, 2021:\n\nFirst Choice Solutions\, (formerly known as the Pregnancy Care Center) will\nbe having a festival on April 17th\, 2021\, outside at our new building\nlocated at 714 W. Walnut Street\, in Washington\, Indiana.\nPlease bring your family and come join the FCS staff and volunteers as we\ncelebrate God’s goodness at our wonderful new building.  The festival will\nbe from 12-4 PM. \nThere will be games for kids.\nThere will be a raffle for 5 baskets filled with goodies.\nThere will be a raffle for a new guitar. \nThere will be food and drinks along with Scoop’s ice cream. Free will\nofferings for the food and ice cream would be greatly appreciated.\nThere will be live Christian music during the day from 3 local Christian\nbands.\nThere will be Kettle corn for sale.\nThere will be a fire truck and an obstacle course for kids to see what it is\nlike to be a fireman.\nThere will be a policeman with his police dog. He will be handing out kits\nto parents for their children.\nPeople are encouraged to bring their own lawn chairs as everything will be\nheld outside.\nAll proceeds will go to FCS to help them serve their clients.\nRain date is May 8\, 2021.\n\nTake care:\nDenny Smith\nAssistant Director\n705 Troy Road\nP.O. Box 589\nWashington\, IN  47501\n812-257-1041
URL:https://thyword.media/event/first-choice-solutions-april-showers-festival/
LOCATION:First Choice Solutions\, 714 W. Walnut\, Washington\, IN\, 47591\, United States
GEO:38.6588351;-87.1851684
X-APPLE-STRUCTURED-LOCATION;VALUE=URI;X-ADDRESS=First Choice Solutions 714 W. Walnut Washington IN 47591 United States;X-APPLE-RADIUS=500;X-TITLE=714 W. Walnut:geo:-87.1851684,38.6588351
END:VEVENT
BEGIN:VEVENT
DTSTART;TZID=America/Chicago:20210417T180000
DTEND;TZID=America/Chicago:20210417T180000
DTSTAMP:20260423T042502
CREATED:20210406T145212Z
LAST-MODIFIED:20210406T145212Z
UID:4413-1618682400-1618682400@thyword.media
SUMMARY:Conquerors in concert
DESCRIPTION:The First Baptist Church located at 214 E Walnut St in Boonville will be featuring the Conquerors in concert on Saturday April 17th at 6 PM. This event is free but an offering will be taken. For more information please call (812) 897-3221.
URL:https://thyword.media/event/conquerors-in-concert-2/
LOCATION:The First Baptist Church Boonville\, 214 E. Walnut St\, Boonville\, IN\, 47601\, United States
GEO:38.0482625;-87.27246
X-APPLE-STRUCTURED-LOCATION;VALUE=URI;X-ADDRESS=The First Baptist Church Boonville 214 E. Walnut St Boonville IN 47601 United States;X-APPLE-RADIUS=500;X-TITLE=214 E. Walnut St:geo:-87.27246,38.0482625
END:VEVENT
END:VCALENDAR