BEGIN:VCALENDAR
VERSION:2.0
PRODID:-//Thy Word Network - ECPv6.15.20//NONSGML v1.0//EN
CALSCALE:GREGORIAN
METHOD:PUBLISH
X-WR-CALNAME:Thy Word Network
X-ORIGINAL-URL:https://thyword.media
X-WR-CALDESC:Events for Thy Word Network
REFRESH-INTERVAL;VALUE=DURATION:PT1H
X-Robots-Tag:noindex
X-PUBLISHED-TTL:PT1H
BEGIN:VTIMEZONE
TZID:America/Chicago
BEGIN:DAYLIGHT
TZOFFSETFROM:-0600
TZOFFSETTO:-0500
TZNAME:CDT
DTSTART:20200308T080000
END:DAYLIGHT
BEGIN:STANDARD
TZOFFSETFROM:-0500
TZOFFSETTO:-0600
TZNAME:CST
DTSTART:20201101T070000
END:STANDARD
BEGIN:DAYLIGHT
TZOFFSETFROM:-0600
TZOFFSETTO:-0500
TZNAME:CDT
DTSTART:20210314T080000
END:DAYLIGHT
BEGIN:STANDARD
TZOFFSETFROM:-0500
TZOFFSETTO:-0600
TZNAME:CST
DTSTART:20211107T070000
END:STANDARD
BEGIN:DAYLIGHT
TZOFFSETFROM:-0600
TZOFFSETTO:-0500
TZNAME:CDT
DTSTART:20220313T080000
END:DAYLIGHT
BEGIN:STANDARD
TZOFFSETFROM:-0500
TZOFFSETTO:-0600
TZNAME:CST
DTSTART:20221106T070000
END:STANDARD
END:VTIMEZONE
BEGIN:VEVENT
DTSTART;TZID=America/Chicago:20210211T180000
DTEND;TZID=America/Chicago:20210211T190000
DTSTAMP:20260423T151830
CREATED:20201215T185504Z
LAST-MODIFIED:20201215T185504Z
UID:4228-1613066400-1613070000@thyword.media
SUMMARY:Grief Support Meeting
DESCRIPTION:The monthly Grief Support Group Meeting: presented by the SE Illinois Pastoral Counseling Center will be held on Thursday\, February 11th from 6:00 p.m. to 7:00 p.m. at the First United Methodist Church\, 100 S Church Street in Carmi\, IL. For more information their phone number is 618-382-5548 or visit www.freewebs.com/sicpc2006.
URL:https://thyword.media/event/grief-support-meeting-6/
LOCATION:First Chrisitan Church of Carmi\, 504 Bohleber Dr\, Carmi\, IL
GEO:38.0802228;-88.1651675
X-APPLE-STRUCTURED-LOCATION;VALUE=URI;X-ADDRESS=First Chrisitan Church of Carmi 504 Bohleber Dr Carmi IL;X-APPLE-RADIUS=500;X-TITLE=504 Bohleber Dr:geo:-88.1651675,38.0802228
END:VEVENT
END:VCALENDAR