BEGIN:VCALENDAR
VERSION:2.0
PRODID:-//Thy Word Network - ECPv6.15.20//NONSGML v1.0//EN
CALSCALE:GREGORIAN
METHOD:PUBLISH
X-WR-CALNAME:Thy Word Network
X-ORIGINAL-URL:https://thyword.media
X-WR-CALDESC:Events for Thy Word Network
REFRESH-INTERVAL;VALUE=DURATION:PT1H
X-Robots-Tag:noindex
X-PUBLISHED-TTL:PT1H
BEGIN:VTIMEZONE
TZID:America/Chicago
BEGIN:DAYLIGHT
TZOFFSETFROM:-0600
TZOFFSETTO:-0500
TZNAME:CDT
DTSTART:20200308T080000
END:DAYLIGHT
BEGIN:STANDARD
TZOFFSETFROM:-0500
TZOFFSETTO:-0600
TZNAME:CST
DTSTART:20201101T070000
END:STANDARD
BEGIN:DAYLIGHT
TZOFFSETFROM:-0600
TZOFFSETTO:-0500
TZNAME:CDT
DTSTART:20210314T080000
END:DAYLIGHT
BEGIN:STANDARD
TZOFFSETFROM:-0500
TZOFFSETTO:-0600
TZNAME:CST
DTSTART:20211107T070000
END:STANDARD
BEGIN:DAYLIGHT
TZOFFSETFROM:-0600
TZOFFSETTO:-0500
TZNAME:CDT
DTSTART:20220313T080000
END:DAYLIGHT
BEGIN:STANDARD
TZOFFSETFROM:-0500
TZOFFSETTO:-0600
TZNAME:CST
DTSTART:20221106T070000
END:STANDARD
END:VTIMEZONE
BEGIN:VEVENT
DTSTART;TZID=America/Chicago:20210130T190000
DTEND;TZID=America/Chicago:20210130T190000
DTSTAMP:20260423T155206
CREATED:20201221T181235Z
LAST-MODIFIED:20210115T160653Z
UID:4248-1612033200-1612033200@thyword.media
SUMMARY:Holy Rosary Annual Half Pot and Gayle Event
DESCRIPTION:Holy Rosary Catholic Church will hold their annual Rose Gala event. \nThis year’s Gala is more important than ever since we had to cancel our Summer Social. We hope you will join us on Saturday\, January 30\, 2021\, to watch the LIVE portion of the event which will include a LIVE Auction\, Fund an Item\,and a highlight of our sponsors all while providing for our parish’s continued financial well-being. We are asking you to make a difference for the many children and families of our parish with your support of the annual gala. You can be a part of the continued growth and mission of our church in a number of ways. For information please call 812-477-8923.
URL:https://thyword.media/event/holy-rosary-annual-half-pot-and-gayle-event/
LOCATION:Holy Rosary Catholic Church\, 1301 S Green River Road\, Evansville\, IN\, 47715
GEO:37.958951;-87.495121
X-APPLE-STRUCTURED-LOCATION;VALUE=URI;X-ADDRESS=Holy Rosary Catholic Church 1301 S Green River Road Evansville IN 47715;X-APPLE-RADIUS=500;X-TITLE=1301 S Green River Road:geo:-87.495121,37.958951
END:VEVENT
END:VCALENDAR