BEGIN:VCALENDAR
VERSION:2.0
PRODID:-//Thy Word Network - ECPv6.15.20//NONSGML v1.0//EN
CALSCALE:GREGORIAN
METHOD:PUBLISH
X-ORIGINAL-URL:https://thyword.media
X-WR-CALDESC:Events for Thy Word Network
REFRESH-INTERVAL;VALUE=DURATION:PT1H
X-Robots-Tag:noindex
X-PUBLISHED-TTL:PT1H
BEGIN:VTIMEZONE
TZID:America/Chicago
BEGIN:DAYLIGHT
TZOFFSETFROM:-0600
TZOFFSETTO:-0500
TZNAME:CDT
DTSTART:20190310T080000
END:DAYLIGHT
BEGIN:STANDARD
TZOFFSETFROM:-0500
TZOFFSETTO:-0600
TZNAME:CST
DTSTART:20191103T070000
END:STANDARD
BEGIN:DAYLIGHT
TZOFFSETFROM:-0600
TZOFFSETTO:-0500
TZNAME:CDT
DTSTART:20200308T080000
END:DAYLIGHT
BEGIN:STANDARD
TZOFFSETFROM:-0500
TZOFFSETTO:-0600
TZNAME:CST
DTSTART:20201101T070000
END:STANDARD
BEGIN:DAYLIGHT
TZOFFSETFROM:-0600
TZOFFSETTO:-0500
TZNAME:CDT
DTSTART:20210314T080000
END:DAYLIGHT
BEGIN:STANDARD
TZOFFSETFROM:-0500
TZOFFSETTO:-0600
TZNAME:CST
DTSTART:20211107T070000
END:STANDARD
END:VTIMEZONE
BEGIN:VEVENT
DTSTART;TZID=America/Chicago:20201218T180000
DTEND;TZID=America/Chicago:20201220T200000
DTSTAMP:20260423T183427
CREATED:20201208T181018Z
LAST-MODIFIED:20201208T181018Z
UID:4222-1608314400-1608494400@thyword.media
SUMMARY:Drive Thru Christmas Story
DESCRIPTION:The Assembly EVV at 4330 N Burkhardt Road in Evansville will be presenting a drive thru Christmas Story on Dec 18th\, 19th\, and 20th from 6 – 8 PM CST. For more information please call 812-473-HOPE.
URL:https://thyword.media/event/drive-thru-christmas-story-2/
LOCATION:Assembly EVV\, 4330 N Burkhardt Road\, Evansville\, IN\, 47715\, United States
GEO:38.0170458;-87.4751778
X-APPLE-STRUCTURED-LOCATION;VALUE=URI;X-ADDRESS=Assembly EVV 4330 N Burkhardt Road Evansville IN 47715 United States;X-APPLE-RADIUS=500;X-TITLE=4330 N Burkhardt Road:geo:-87.4751778,38.0170458
END:VEVENT
END:VCALENDAR