BEGIN:VCALENDAR
VERSION:2.0
PRODID:-//Thy Word Network - ECPv6.15.20//NONSGML v1.0//EN
CALSCALE:GREGORIAN
METHOD:PUBLISH
X-ORIGINAL-URL:https://thyword.media
X-WR-CALDESC:Events for Thy Word Network
REFRESH-INTERVAL;VALUE=DURATION:PT1H
X-Robots-Tag:noindex
X-PUBLISHED-TTL:PT1H
BEGIN:VTIMEZONE
TZID:America/Chicago
BEGIN:DAYLIGHT
TZOFFSETFROM:-0600
TZOFFSETTO:-0500
TZNAME:CDT
DTSTART:20190310T080000
END:DAYLIGHT
BEGIN:STANDARD
TZOFFSETFROM:-0500
TZOFFSETTO:-0600
TZNAME:CST
DTSTART:20191103T070000
END:STANDARD
BEGIN:DAYLIGHT
TZOFFSETFROM:-0600
TZOFFSETTO:-0500
TZNAME:CDT
DTSTART:20200308T080000
END:DAYLIGHT
BEGIN:STANDARD
TZOFFSETFROM:-0500
TZOFFSETTO:-0600
TZNAME:CST
DTSTART:20201101T070000
END:STANDARD
BEGIN:DAYLIGHT
TZOFFSETFROM:-0600
TZOFFSETTO:-0500
TZNAME:CDT
DTSTART:20210314T080000
END:DAYLIGHT
BEGIN:STANDARD
TZOFFSETFROM:-0500
TZOFFSETTO:-0600
TZNAME:CST
DTSTART:20211107T070000
END:STANDARD
END:VTIMEZONE
BEGIN:VEVENT
DTSTART;TZID=America/Chicago:20201208T160000
DTEND;TZID=America/Chicago:20201208T170000
DTSTAMP:20260423T183401
CREATED:20201120T161648Z
LAST-MODIFIED:20201120T161817Z
UID:4196-1607443200-1607446800@thyword.media
SUMMARY:Farmers to Families Food Box giveaway
DESCRIPTION:There will be a free mixed food box giveaway at the Daviess County Fairgrounds located at 532 E State Road 57 in Elnora\, IN on Thursday Dec. 8th from 4:00PM – 5:00 PM or until food boxes are gone. Participants are to enter off highway 57. Please do not arrive early.Approximately 1\,100 families will be served.
URL:https://thyword.media/event/farmers-to-families-food-box-giveaway/
LOCATION:daviess county fairgrounds\, 532 E State Rd 57\, Elnora\, IN\, 47529\, United States
GEO:38.8751383;-87.0807127
X-APPLE-STRUCTURED-LOCATION;VALUE=URI;X-ADDRESS=daviess county fairgrounds 532 E State Rd 57 Elnora IN 47529 United States;X-APPLE-RADIUS=500;X-TITLE=532 E State Rd 57:geo:-87.0807127,38.8751383
END:VEVENT
BEGIN:VEVENT
DTSTART;TZID=America/Chicago:20201208T180000
DTEND;TZID=America/Chicago:20201208T180000
DTSTAMP:20260423T183401
CREATED:20201208T180524Z
LAST-MODIFIED:20201208T180524Z
UID:4219-1607450400-1607450400@thyword.media
SUMMARY:Drive Thru Christmas Story
DESCRIPTION:The Assembly EVV at 4330 N Burkhardt Road in Evansville will be presenting a drive thru Christmas Story on Dec 18th\, 19th\, and 20th from 6 – 8 PM CST. For more information please call 812-473-HOPE.
URL:https://thyword.media/event/drive-thru-christmas-story/
LOCATION:Assembly EVV\, 4330 N Burkhardt Road\, Evansville\, IN\, 47715\, United States
GEO:38.0170458;-87.4751778
X-APPLE-STRUCTURED-LOCATION;VALUE=URI;X-ADDRESS=Assembly EVV 4330 N Burkhardt Road Evansville IN 47715 United States;X-APPLE-RADIUS=500;X-TITLE=4330 N Burkhardt Road:geo:-87.4751778,38.0170458
END:VEVENT
BEGIN:VEVENT
DTSTART;TZID=America/Chicago:20201208T190000
DTEND;TZID=America/Chicago:20201208T203000
DTSTAMP:20260423T183401
CREATED:20201002T140716Z
LAST-MODIFIED:20201002T140716Z
UID:4152-1607454000-1607459400@thyword.media
SUMMARY:Overcoming Anxiety Support Group
DESCRIPTION:A free Overcoming Anxiety Support Group meeting will be held at the First Christian Church\, 8th & Market Streets in Mt. Carmel\, IL on Tuesday\, December 8th from 7:00 p.m. to 8:30 p.m. for anyone who has experienced anxiety\, worry\, fear\, dread or panic. For more information\, their phone number is 618-262-5921.
URL:https://thyword.media/event/overcoming-anxiety-support-group-6/
LOCATION:First Christian Church – Mt Carmel\, 803 N Market St\, Mt Carmel\, IL\, 62863
GEO:38.4145594;-87.7638549
X-APPLE-STRUCTURED-LOCATION;VALUE=URI;X-ADDRESS=First Christian Church – Mt Carmel 803 N Market St Mt Carmel IL 62863;X-APPLE-RADIUS=500;X-TITLE=803 N Market St:geo:-87.7638549,38.4145594
END:VEVENT
END:VCALENDAR