BEGIN:VCALENDAR
VERSION:2.0
PRODID:-//Thy Word Network - ECPv6.15.20//NONSGML v1.0//EN
CALSCALE:GREGORIAN
METHOD:PUBLISH
X-ORIGINAL-URL:https://thyword.media
X-WR-CALDESC:Events for Thy Word Network
REFRESH-INTERVAL;VALUE=DURATION:PT1H
X-Robots-Tag:noindex
X-PUBLISHED-TTL:PT1H
BEGIN:VTIMEZONE
TZID:America/Chicago
BEGIN:DAYLIGHT
TZOFFSETFROM:-0600
TZOFFSETTO:-0500
TZNAME:CDT
DTSTART:20190310T080000
END:DAYLIGHT
BEGIN:STANDARD
TZOFFSETFROM:-0500
TZOFFSETTO:-0600
TZNAME:CST
DTSTART:20191103T070000
END:STANDARD
BEGIN:DAYLIGHT
TZOFFSETFROM:-0600
TZOFFSETTO:-0500
TZNAME:CDT
DTSTART:20200308T080000
END:DAYLIGHT
BEGIN:STANDARD
TZOFFSETFROM:-0500
TZOFFSETTO:-0600
TZNAME:CST
DTSTART:20201101T070000
END:STANDARD
BEGIN:DAYLIGHT
TZOFFSETFROM:-0600
TZOFFSETTO:-0500
TZNAME:CDT
DTSTART:20210314T080000
END:DAYLIGHT
BEGIN:STANDARD
TZOFFSETFROM:-0500
TZOFFSETTO:-0600
TZNAME:CST
DTSTART:20211107T070000
END:STANDARD
END:VTIMEZONE
BEGIN:VEVENT
DTSTART;TZID=America/Chicago:20200929T183000
DTEND;TZID=America/Chicago:20201004T203000
DTSTAMP:20260424T003758
CREATED:20200921T134334Z
LAST-MODIFIED:20200921T134334Z
UID:4102-1601404200-1601843400@thyword.media
SUMMARY:Interdenominational Camp Meeting
DESCRIPTION:An interdenominational camp meeting will be held at the Chandler Nazarene church located at 205 N 4th Street in Chandler\, IN September 29th -October 4th. Services will begin at 6:30 PM CST on Tuesday through Thursday and at 6:00 PM CST on Friday\, Saturday and Sunday. For more information please contact Michael Bell at 812-453-2359.
URL:https://thyword.media/event/interdenominational-camp-meeting/
LOCATION:Chandler Church of the Nazarene\, 205 N Fourth St\, Chandler\, IN\, 47610
GEO:38.0441071;-87.3632191
X-APPLE-STRUCTURED-LOCATION;VALUE=URI;X-ADDRESS=Chandler Church of the Nazarene 205 N Fourth St Chandler IN 47610;X-APPLE-RADIUS=500;X-TITLE=205 N Fourth St:geo:-87.3632191,38.0441071
END:VEVENT
BEGIN:VEVENT
DTSTART;TZID=America/Chicago:20201001T080000
DTEND;TZID=America/Chicago:20201001T170000
DTSTAMP:20260424T003758
CREATED:20200903T204500Z
LAST-MODIFIED:20200903T204500Z
UID:4075-1601539200-1601571600@thyword.media
SUMMARY:Bring Your Bible to School Day 2020
DESCRIPTION:On Bring Your Bible to School Day — this year’s event is on Thursday\, October 1\, 2020 — students across the nation will share God’s love with their friends. It’s an annual event for students sponsored by Focus on the Family. The event is designed to empower students to express their belief in the truth of God’s Word — and to do so in a respectful way that demonstrates the love of Christ. \nParticipation is completely up to students. Christian clubs and youth groups can sign up online and lead the activities in their school. \nBe sure to mark your calendars and be counted by registering to participate in this event! \nFollow the link below: \nhttps://www.focusonthefamily.com/bring-your-bible/for-students/bring-your-bible-faqs/
URL:https://thyword.media/event/bring-your-bible-to-school-day-2020/
LOCATION:IL
END:VEVENT
END:VCALENDAR