BEGIN:VCALENDAR
VERSION:2.0
PRODID:-//Thy Word Network - ECPv6.15.20//NONSGML v1.0//EN
CALSCALE:GREGORIAN
METHOD:PUBLISH
X-ORIGINAL-URL:https://thyword.media
X-WR-CALDESC:Events for Thy Word Network
REFRESH-INTERVAL;VALUE=DURATION:PT1H
X-Robots-Tag:noindex
X-PUBLISHED-TTL:PT1H
BEGIN:VTIMEZONE
TZID:America/Chicago
BEGIN:DAYLIGHT
TZOFFSETFROM:-0600
TZOFFSETTO:-0500
TZNAME:CDT
DTSTART:20190310T080000
END:DAYLIGHT
BEGIN:STANDARD
TZOFFSETFROM:-0500
TZOFFSETTO:-0600
TZNAME:CST
DTSTART:20191103T070000
END:STANDARD
BEGIN:DAYLIGHT
TZOFFSETFROM:-0600
TZOFFSETTO:-0500
TZNAME:CDT
DTSTART:20200308T080000
END:DAYLIGHT
BEGIN:STANDARD
TZOFFSETFROM:-0500
TZOFFSETTO:-0600
TZNAME:CST
DTSTART:20201101T070000
END:STANDARD
BEGIN:DAYLIGHT
TZOFFSETFROM:-0600
TZOFFSETTO:-0500
TZNAME:CDT
DTSTART:20210314T080000
END:DAYLIGHT
BEGIN:STANDARD
TZOFFSETFROM:-0500
TZOFFSETTO:-0600
TZNAME:CST
DTSTART:20211107T070000
END:STANDARD
END:VTIMEZONE
BEGIN:VEVENT
DTSTART;TZID=America/Chicago:20200925T080000
DTEND;TZID=America/Chicago:20200926T170000
DTSTAMP:20260423T221709
CREATED:20200923T150608Z
LAST-MODIFIED:20200923T150608Z
UID:4115-1601020800-1601139600@thyword.media
SUMMARY:Yard Sale to benefit Youth
DESCRIPTION:Clark’s Chapel Baptist Church will have a yard sale to benefit the youth on September 25th and September 26th. The church is located on the corner of 550S and 825E\, 1.7 miles West of Somerville\, IN.
URL:https://thyword.media/event/yard-sale-to-benefit-youth/
LOCATION:Clarks Chapel Baptist Church\, 5515 S 825E\, Oakland City\, IN\, 47660
GEO:38.2700859;-87.4127042
X-APPLE-STRUCTURED-LOCATION;VALUE=URI;X-ADDRESS=Clarks Chapel Baptist Church 5515 S 825E Oakland City IN 47660;X-APPLE-RADIUS=500;X-TITLE=5515 S 825E:geo:-87.4127042,38.2700859
END:VEVENT
END:VCALENDAR