BEGIN:VCALENDAR
VERSION:2.0
PRODID:-//Thy Word Network - ECPv6.15.20//NONSGML v1.0//EN
CALSCALE:GREGORIAN
METHOD:PUBLISH
X-ORIGINAL-URL:https://thyword.media
X-WR-CALDESC:Events for Thy Word Network
REFRESH-INTERVAL;VALUE=DURATION:PT1H
X-Robots-Tag:noindex
X-PUBLISHED-TTL:PT1H
BEGIN:VTIMEZONE
TZID:America/Chicago
BEGIN:DAYLIGHT
TZOFFSETFROM:-0600
TZOFFSETTO:-0500
TZNAME:CDT
DTSTART:20190310T080000
END:DAYLIGHT
BEGIN:STANDARD
TZOFFSETFROM:-0500
TZOFFSETTO:-0600
TZNAME:CST
DTSTART:20191103T070000
END:STANDARD
BEGIN:DAYLIGHT
TZOFFSETFROM:-0600
TZOFFSETTO:-0500
TZNAME:CDT
DTSTART:20200308T080000
END:DAYLIGHT
BEGIN:STANDARD
TZOFFSETFROM:-0500
TZOFFSETTO:-0600
TZNAME:CST
DTSTART:20201101T070000
END:STANDARD
BEGIN:DAYLIGHT
TZOFFSETFROM:-0600
TZOFFSETTO:-0500
TZNAME:CDT
DTSTART:20210314T080000
END:DAYLIGHT
BEGIN:STANDARD
TZOFFSETFROM:-0500
TZOFFSETTO:-0600
TZNAME:CST
DTSTART:20211107T070000
END:STANDARD
END:VTIMEZONE
BEGIN:VEVENT
DTSTART;TZID=America/Chicago:20200912T180000
DTEND;TZID=America/Chicago:20200912T180000
DTSTAMP:20260424T003836
CREATED:20200909T182830Z
LAST-MODIFIED:20200909T182912Z
UID:4080-1599933600-1599933600@thyword.media
SUMMARY:The Conquerors in Concert
DESCRIPTION:The Conquerors Quartet will be in concert at the Church of the Cross located at 7525 N Green River Road in Evansville\, IN. This is a free event but a free will offering will be received. Social distancing and masks will be observed. The concert begins at 6:00PM. For more information please call 812-480-2632.
URL:https://thyword.media/event/the-conquerors-in-concert/
LOCATION:Church of the Cross\, 7525 N Green River Rd\, Evansville\, IN
GEO:38.046322;-87.489165
X-APPLE-STRUCTURED-LOCATION;VALUE=URI;X-ADDRESS=Church of the Cross 7525 N Green River Rd Evansville IN;X-APPLE-RADIUS=500;X-TITLE=7525 N Green River Rd:geo:-87.489165,38.046322
END:VEVENT
END:VCALENDAR