BEGIN:VCALENDAR
VERSION:2.0
PRODID:-//Thy Word Network - ECPv6.15.20//NONSGML v1.0//EN
CALSCALE:GREGORIAN
METHOD:PUBLISH
X-WR-CALNAME:Thy Word Network
X-ORIGINAL-URL:https://thyword.media
X-WR-CALDESC:Events for Thy Word Network
REFRESH-INTERVAL;VALUE=DURATION:PT1H
X-Robots-Tag:noindex
X-PUBLISHED-TTL:PT1H
BEGIN:VTIMEZONE
TZID:America/Chicago
BEGIN:DAYLIGHT
TZOFFSETFROM:-0600
TZOFFSETTO:-0500
TZNAME:CDT
DTSTART:20190310T080000
END:DAYLIGHT
BEGIN:STANDARD
TZOFFSETFROM:-0500
TZOFFSETTO:-0600
TZNAME:CST
DTSTART:20191103T070000
END:STANDARD
BEGIN:DAYLIGHT
TZOFFSETFROM:-0600
TZOFFSETTO:-0500
TZNAME:CDT
DTSTART:20200308T080000
END:DAYLIGHT
BEGIN:STANDARD
TZOFFSETFROM:-0500
TZOFFSETTO:-0600
TZNAME:CST
DTSTART:20201101T070000
END:STANDARD
BEGIN:DAYLIGHT
TZOFFSETFROM:-0600
TZOFFSETTO:-0500
TZNAME:CDT
DTSTART:20210314T080000
END:DAYLIGHT
BEGIN:STANDARD
TZOFFSETFROM:-0500
TZOFFSETTO:-0600
TZNAME:CST
DTSTART:20211107T070000
END:STANDARD
END:VTIMEZONE
BEGIN:VEVENT
DTSTART;TZID=America/Chicago:20200816T173000
DTEND;TZID=America/Chicago:20200823T203000
DTSTAMP:20260423T232316
CREATED:20200714T191259Z
LAST-MODIFIED:20200714T191455Z
UID:3898-1597599000-1598214600@thyword.media
SUMMARY:Southern Indiana Holiness Association Camp Meeting
DESCRIPTION:On Sunday evening Aug. 16\,2020 the Southern Indiana Holiness association will open its 125th annual camp meeting beginning at 6:00 p.m. (CDT) at the campground located at Walnut and Trusler st. in Oakland City. The guest evangelistic speaker Sunday night through Saturday night will be Rev. Billy Huddleston from Cincinnati\,Ohio beginning at 6:00 p.m Sunday night and 6:30 p.m Monday thru Friday night. Each evening Rev. Huddleston will be assisted by Ms. Lindsay Huggins\, well known and acclaimed gospel singer from Nashville\, Tennessee. The closing service on Sunday night Aug.23 will be given by Rev. Jared Henry from the Mackey Church of the Nazarene. Youth Rally day will be on Saturday Aug.15 beginning at 2:00 p.m at the campground. Special youth activities will be led by Associate Pastor Garrett Sparks from Mackey Church of the Nazarene. The specially invited speaker for the youth on Saturday night will be Rev. Amber Cook for the Grace fellowship church in Princeton\, IN. That service will begin at 6:00 p.m.\nThe annual election of SIHA offices will be voted by ballot beginning Sunday night Aug.16-Saturday night Aug.22.\nDaily prayer chapel will be open at 5:30 P.M before each service.\nAll individuals and area churches are cordially invited to attend the camp meetings. \nFor more information please contact Cindy Messick at 812-215-9220.
URL:https://thyword.media/event/southern-indiana-holiness-association-camp-meeting/
LOCATION:SIHA Camp\, Corner of Trusler and Walnut\, Oakland City\, IN\, 47660\, United States
GEO:38.3328107;-87.3457681
X-APPLE-STRUCTURED-LOCATION;VALUE=URI;X-ADDRESS=SIHA Camp Corner of Trusler and Walnut Oakland City IN 47660 United States;X-APPLE-RADIUS=500;X-TITLE=Corner of Trusler and Walnut:geo:-87.3457681,38.3328107
END:VEVENT
END:VCALENDAR