BEGIN:VCALENDAR
VERSION:2.0
PRODID:-//Thy Word Network - ECPv6.15.20//NONSGML v1.0//EN
CALSCALE:GREGORIAN
METHOD:PUBLISH
X-ORIGINAL-URL:https://thyword.media
X-WR-CALDESC:Events for Thy Word Network
REFRESH-INTERVAL;VALUE=DURATION:PT1H
X-Robots-Tag:noindex
X-PUBLISHED-TTL:PT1H
BEGIN:VTIMEZONE
TZID:America/Chicago
BEGIN:DAYLIGHT
TZOFFSETFROM:-0600
TZOFFSETTO:-0500
TZNAME:CDT
DTSTART:20190310T080000
END:DAYLIGHT
BEGIN:STANDARD
TZOFFSETFROM:-0500
TZOFFSETTO:-0600
TZNAME:CST
DTSTART:20191103T070000
END:STANDARD
BEGIN:DAYLIGHT
TZOFFSETFROM:-0600
TZOFFSETTO:-0500
TZNAME:CDT
DTSTART:20200308T080000
END:DAYLIGHT
BEGIN:STANDARD
TZOFFSETFROM:-0500
TZOFFSETTO:-0600
TZNAME:CST
DTSTART:20201101T070000
END:STANDARD
BEGIN:DAYLIGHT
TZOFFSETFROM:-0600
TZOFFSETTO:-0500
TZNAME:CDT
DTSTART:20210314T080000
END:DAYLIGHT
BEGIN:STANDARD
TZOFFSETFROM:-0500
TZOFFSETTO:-0600
TZNAME:CST
DTSTART:20211107T070000
END:STANDARD
END:VTIMEZONE
BEGIN:VEVENT
DTSTART;TZID=America/Chicago:20200815T080000
DTEND;TZID=America/Chicago:20200815T080000
DTSTAMP:20260423T232300
CREATED:20200729T161210Z
LAST-MODIFIED:20200729T161210Z
UID:3952-1597478400-1597478400@thyword.media
SUMMARY:Hope Center Food Giveaway
DESCRIPTION:The H be passing out food on Saturday August 15th at around 8am for everyone in EC and surrounding counties. We will have food\, clothes and other items on that Saturday…Please bring a tote or something to take items home with you……If you would like to donate food (RAMEN NOODLES) or $$$ the Hope Center is located at 23 West Cherry\, Albion Illinois 62806. For more info call Steve at 618-445-2065.
URL:https://thyword.media/event/hope-center-food-giveaway-2/
LOCATION:The Hope Center\, 23 Cherry St\, Albion\, IL
GEO:40.6331249;-89.3985283
X-APPLE-STRUCTURED-LOCATION;VALUE=URI;X-ADDRESS=The Hope Center 23 Cherry St Albion IL;X-APPLE-RADIUS=500;X-TITLE=23 Cherry St:geo:-89.3985283,40.6331249
END:VEVENT
END:VCALENDAR