BEGIN:VCALENDAR
VERSION:2.0
PRODID:-//Thy Word Network - ECPv6.15.20//NONSGML v1.0//EN
CALSCALE:GREGORIAN
METHOD:PUBLISH
X-WR-CALNAME:Thy Word Network
X-ORIGINAL-URL:https://thyword.media
X-WR-CALDESC:Events for Thy Word Network
REFRESH-INTERVAL;VALUE=DURATION:PT1H
X-Robots-Tag:noindex
X-PUBLISHED-TTL:PT1H
BEGIN:VTIMEZONE
TZID:America/Chicago
BEGIN:DAYLIGHT
TZOFFSETFROM:-0600
TZOFFSETTO:-0500
TZNAME:CDT
DTSTART:20190310T080000
END:DAYLIGHT
BEGIN:STANDARD
TZOFFSETFROM:-0500
TZOFFSETTO:-0600
TZNAME:CST
DTSTART:20191103T070000
END:STANDARD
BEGIN:DAYLIGHT
TZOFFSETFROM:-0600
TZOFFSETTO:-0500
TZNAME:CDT
DTSTART:20200308T080000
END:DAYLIGHT
BEGIN:STANDARD
TZOFFSETFROM:-0500
TZOFFSETTO:-0600
TZNAME:CST
DTSTART:20201101T070000
END:STANDARD
BEGIN:DAYLIGHT
TZOFFSETFROM:-0600
TZOFFSETTO:-0500
TZNAME:CDT
DTSTART:20210314T080000
END:DAYLIGHT
BEGIN:STANDARD
TZOFFSETFROM:-0500
TZOFFSETTO:-0600
TZNAME:CST
DTSTART:20211107T070000
END:STANDARD
END:VTIMEZONE
BEGIN:VEVENT
DTSTART;TZID=America/Chicago:20200723T173000
DTEND;TZID=America/Chicago:20200723T183000
DTSTAMP:20260424T014747
CREATED:20200228T144901Z
LAST-MODIFIED:20200630T161900Z
UID:3631-1595525400-1595529000@thyword.media
SUMMARY:Gift of Life Banquet
DESCRIPTION:“The Pregnancy Care center of Washington is holding their “Gift of Life” banquet on July 23rd\, 2020 at 6:30 P.M. at the Simon Graber complex in Cannelburg.  Doors will open at 5:30. Angela Minter from Louisville will be the keynote speaker.  Angela is the Director of Sisters of Life. The meal will be catered by Wittmer’s Catering.  Please call the office at (812) 257-1041 if you want to  purchase tickets.  Tickets are $15 for individuals and $25 for couples. Tickets can be picked up at our office at 705 Troy Road in Washington or you can send a check and the tickets will be  mailed to you. \n You can also go onto the center's\nwebsite at http://www.pccwashingtonin.com/ to purchase tickets by pressing\nthe donate button.  If you use the website please note that the donation is\nfor the banquet. \n\nIf you desire to pay for your tickets at the door please let the center know\nwhen you call. Tickets will be held in your name. Please come join us for a\nspecial evening and for a good cause.  If you plan on calling\, the center is\nopen from 9 until 6 P.M on Monday and Wednesday and from 9 until 4 P.M. on\nTuesday and Thursday.  The center is closed for lunch from noon to 1 P.M.\neach day."\n 
URL:https://thyword.media/event/gift-of-life-banquet-2/
LOCATION:Simon Graber Complex\, 9164 E 875 N\, Odon\, Indiana\, 47562\, United States
GEO:38.786107;-86.994881
X-APPLE-STRUCTURED-LOCATION;VALUE=URI;X-ADDRESS=Simon Graber Complex 9164 E 875 N Odon Indiana 47562 United States;X-APPLE-RADIUS=500;X-TITLE=9164 E 875 N:geo:-86.994881,38.786107
END:VEVENT
END:VCALENDAR