BEGIN:VCALENDAR
VERSION:2.0
PRODID:-//Thy Word Network - ECPv6.15.20//NONSGML v1.0//EN
CALSCALE:GREGORIAN
METHOD:PUBLISH
X-ORIGINAL-URL:https://thyword.media
X-WR-CALDESC:Events for Thy Word Network
REFRESH-INTERVAL;VALUE=DURATION:PT1H
X-Robots-Tag:noindex
X-PUBLISHED-TTL:PT1H
BEGIN:VTIMEZONE
TZID:America/Chicago
BEGIN:DAYLIGHT
TZOFFSETFROM:-0600
TZOFFSETTO:-0500
TZNAME:CDT
DTSTART:20190310T080000
END:DAYLIGHT
BEGIN:STANDARD
TZOFFSETFROM:-0500
TZOFFSETTO:-0600
TZNAME:CST
DTSTART:20191103T070000
END:STANDARD
BEGIN:DAYLIGHT
TZOFFSETFROM:-0600
TZOFFSETTO:-0500
TZNAME:CDT
DTSTART:20200308T080000
END:DAYLIGHT
BEGIN:STANDARD
TZOFFSETFROM:-0500
TZOFFSETTO:-0600
TZNAME:CST
DTSTART:20201101T070000
END:STANDARD
BEGIN:DAYLIGHT
TZOFFSETFROM:-0600
TZOFFSETTO:-0500
TZNAME:CDT
DTSTART:20210314T080000
END:DAYLIGHT
BEGIN:STANDARD
TZOFFSETFROM:-0500
TZOFFSETTO:-0600
TZNAME:CST
DTSTART:20211107T070000
END:STANDARD
END:VTIMEZONE
BEGIN:VEVENT
DTSTART;TZID=America/Chicago:20200711T100000
DTEND;TZID=America/Chicago:20200711T140000
DTSTAMP:20260424T014836
CREATED:20200630T162736Z
LAST-MODIFIED:20200630T162736Z
UID:3876-1594461600-1594476000@thyword.media
SUMMARY:Redeeming Grace Center for Women's Ministries Open House
DESCRIPTION:Redeeming Grace Center for Women’s Ministries will hold an Open House on Saturday July11th from 10:00 AM to 2:00 PM. The Center is located at 300 Williams Street in Loogootee\, IN. For more information on Redeeming Grace Center for Women’s Ministries and their services please go to www.cwmhope.org or call 812-709-2397.
URL:https://thyword.media/event/redeeming-grace-center-for-womens-ministries-open-house/
LOCATION:Redeeming Grace CWM\, 300 Williams Street\, Loogootee\, IN\, 47553\, United States
GEO:38.683185;-86.9167669
X-APPLE-STRUCTURED-LOCATION;VALUE=URI;X-ADDRESS=Redeeming Grace CWM 300 Williams Street Loogootee IN 47553 United States;X-APPLE-RADIUS=500;X-TITLE=300 Williams Street:geo:-86.9167669,38.683185
END:VEVENT
END:VCALENDAR