BEGIN:VCALENDAR
VERSION:2.0
PRODID:-//Thy Word Network - ECPv6.15.20//NONSGML v1.0//EN
CALSCALE:GREGORIAN
METHOD:PUBLISH
X-WR-CALNAME:Thy Word Network
X-ORIGINAL-URL:https://thyword.media
X-WR-CALDESC:Events for Thy Word Network
REFRESH-INTERVAL;VALUE=DURATION:PT1H
X-Robots-Tag:noindex
X-PUBLISHED-TTL:PT1H
BEGIN:VTIMEZONE
TZID:America/Chicago
BEGIN:DAYLIGHT
TZOFFSETFROM:-0600
TZOFFSETTO:-0500
TZNAME:CDT
DTSTART:20190310T080000
END:DAYLIGHT
BEGIN:STANDARD
TZOFFSETFROM:-0500
TZOFFSETTO:-0600
TZNAME:CST
DTSTART:20191103T070000
END:STANDARD
BEGIN:DAYLIGHT
TZOFFSETFROM:-0600
TZOFFSETTO:-0500
TZNAME:CDT
DTSTART:20200308T080000
END:DAYLIGHT
BEGIN:STANDARD
TZOFFSETFROM:-0500
TZOFFSETTO:-0600
TZNAME:CST
DTSTART:20201101T070000
END:STANDARD
BEGIN:DAYLIGHT
TZOFFSETFROM:-0600
TZOFFSETTO:-0500
TZNAME:CDT
DTSTART:20210314T080000
END:DAYLIGHT
BEGIN:STANDARD
TZOFFSETFROM:-0500
TZOFFSETTO:-0600
TZNAME:CST
DTSTART:20211107T070000
END:STANDARD
END:VTIMEZONE
BEGIN:VEVENT
DTSTART;TZID=America/Chicago:20200403T183000
DTEND;TZID=America/Chicago:20200404T183000
DTSTAMP:20260424T044543
CREATED:20200221T210715Z
LAST-MODIFIED:20200221T210715Z
UID:3619-1585938600-1586025000@thyword.media
SUMMARY:Dream With 2020 Vision Young Ladies' and Women's Conferences
DESCRIPTION:April 3rd @ 6:30PM and April 4th 12:00PM Ivy Tech Community College will be hosting a Dream With 2020 Vision Young Ladies’ and Women’s Conference. This Conference is aimed at helping young ladies and women discover\, recapture\, or pursue their dreams and goals. It is a 2-day event. There will be speakers\, singing\, dancing\, food\, fun\, and prizes. Admission is free. Registration is not needed. Ages are from 13 and up. The event takes place in the Vectren Auditorium on the Ivy Tech campus in Evansville\, IN. Questions can contact Erica Johnson @ (812) 760-1787.
URL:https://thyword.media/event/dream-with-2020-vision-young-ladies-and-womens-conferences/
LOCATION:Ivy Tech Community College\, 3501 North First Avenue\, Evansville\, IN\, 47708-1200\, United States
GEO:38.0098167;-87.57374
X-APPLE-STRUCTURED-LOCATION;VALUE=URI;X-ADDRESS=Ivy Tech Community College 3501 North First Avenue Evansville IN 47708-1200 United States;X-APPLE-RADIUS=500;X-TITLE=3501 North First Avenue:geo:-87.57374,38.0098167
END:VEVENT
END:VCALENDAR